BEGIN:VCALENDAR
VERSION:2.0
PRODID:-//Arbeitsgemeinschaft Fränkische Volksmusik Bezirk Mittelfranken - ECPv6.15.16//NONSGML v1.0//EN
CALSCALE:GREGORIAN
METHOD:PUBLISH
X-WR-CALNAME:Arbeitsgemeinschaft Fränkische Volksmusik Bezirk Mittelfranken
X-ORIGINAL-URL:https://www.volksmusik-mittelfranken.de
X-WR-CALDESC:Veranstaltungen für Arbeitsgemeinschaft Fränkische Volksmusik Bezirk Mittelfranken
REFRESH-INTERVAL;VALUE=DURATION:PT1H
X-Robots-Tag:noindex
X-PUBLISHED-TTL:PT1H
BEGIN:VTIMEZONE
TZID:Europe/Berlin
BEGIN:DAYLIGHT
TZOFFSETFROM:+0100
TZOFFSETTO:+0200
TZNAME:CEST
DTSTART:20230326T010000
END:DAYLIGHT
BEGIN:STANDARD
TZOFFSETFROM:+0200
TZOFFSETTO:+0100
TZNAME:CET
DTSTART:20231029T010000
END:STANDARD
BEGIN:DAYLIGHT
TZOFFSETFROM:+0100
TZOFFSETTO:+0200
TZNAME:CEST
DTSTART:20240331T010000
END:DAYLIGHT
BEGIN:STANDARD
TZOFFSETFROM:+0200
TZOFFSETTO:+0100
TZNAME:CET
DTSTART:20241027T010000
END:STANDARD
BEGIN:DAYLIGHT
TZOFFSETFROM:+0100
TZOFFSETTO:+0200
TZNAME:CEST
DTSTART:20250330T010000
END:DAYLIGHT
BEGIN:STANDARD
TZOFFSETFROM:+0200
TZOFFSETTO:+0100
TZNAME:CET
DTSTART:20251026T010000
END:STANDARD
END:VTIMEZONE
BEGIN:VEVENT
DTSTART;TZID=Europe/Berlin:20240430T180000
DTEND;TZID=Europe/Berlin:20240430T200000
DTSTAMP:20260425T174436
CREATED:20240129T133136Z
LAST-MODIFIED:20240129T133819Z
UID:10000724-1714500000-1714507200@www.volksmusik-mittelfranken.de
SUMMARY:Tanzworkshop "Neue fränkische Tänze"
DESCRIPTION:David Saam und Res Richter spielen nicht nur wahnsinnig gern zum Tanz auf\, sondern schwingen auch selbst das Tanzbein und verstehen sich darauf\, Tänze launig und kompetent zu vermitteln. \nIm Zuge vieler Auftritte und Workshops\, bei denen Musik und Tanz aus Franken und Europa im Fokus stehen\, sind zu Boxgalopp-Melodien nach und nach neue Wechsel-\, Paar-\, Figuren- und Kreistänze entstanden mit so klangvollen Namen wie „Muggnbaddscher“\, „Rheinländer Rendezvous“ oder „Der Wunderburger“. \nIm Anschluss können die Kenntnisse beim Tanz in den Mai angewandt werden.
URL:https://www.volksmusik-mittelfranken.de/event/tanzworkshop-neue-fraenkische-taenze/
LOCATION:Aurachsaal\, Gaisbühlstraße 4\, Erlangen-Frauenaurach\, 91056
CATEGORIES:Tanz
ORGANIZER;CN="Erlanger Tanzhaus e.V.":MAILTO:info@erlanger-tanzhaus.de
END:VEVENT
BEGIN:VEVENT
DTSTART;TZID=Europe/Berlin:20240430T210000
DTEND;TZID=Europe/Berlin:20240430T235900
DTSTAMP:20260425T174436
CREATED:20240129T132802Z
LAST-MODIFIED:20240129T133238Z
UID:10000723-1714510800-1714521540@www.volksmusik-mittelfranken.de
SUMMARY:Tanz in den Mai
DESCRIPTION:Musik: Boxgalopp \nmit vorherigem Tanzworkshop
URL:https://www.volksmusik-mittelfranken.de/event/tanz-in-den-mai/
LOCATION:Aurachsaal\, Gaisbühlstraße 4\, Erlangen-Frauenaurach\, 91056
CATEGORIES:Tanz
ORGANIZER;CN="Erlanger Tanzhaus e.V.":MAILTO:info@erlanger-tanzhaus.de
END:VEVENT
END:VCALENDAR