BEGIN:VCALENDAR
VERSION:2.0
PRODID:-//Arbeitsgemeinschaft Fränkische Volksmusik Bezirk Mittelfranken - ECPv6.15.16//NONSGML v1.0//EN
CALSCALE:GREGORIAN
METHOD:PUBLISH
X-ORIGINAL-URL:https://www.volksmusik-mittelfranken.de
X-WR-CALDESC:Veranstaltungen für Arbeitsgemeinschaft Fränkische Volksmusik Bezirk Mittelfranken
REFRESH-INTERVAL;VALUE=DURATION:PT1H
X-Robots-Tag:noindex
X-PUBLISHED-TTL:PT1H
BEGIN:VTIMEZONE
TZID:Europe/Berlin
BEGIN:DAYLIGHT
TZOFFSETFROM:+0100
TZOFFSETTO:+0200
TZNAME:CEST
DTSTART:20230326T010000
END:DAYLIGHT
BEGIN:STANDARD
TZOFFSETFROM:+0200
TZOFFSETTO:+0100
TZNAME:CET
DTSTART:20231029T010000
END:STANDARD
BEGIN:DAYLIGHT
TZOFFSETFROM:+0100
TZOFFSETTO:+0200
TZNAME:CEST
DTSTART:20240331T010000
END:DAYLIGHT
BEGIN:STANDARD
TZOFFSETFROM:+0200
TZOFFSETTO:+0100
TZNAME:CET
DTSTART:20241027T010000
END:STANDARD
BEGIN:DAYLIGHT
TZOFFSETFROM:+0100
TZOFFSETTO:+0200
TZNAME:CEST
DTSTART:20250330T010000
END:DAYLIGHT
BEGIN:STANDARD
TZOFFSETFROM:+0200
TZOFFSETTO:+0100
TZNAME:CET
DTSTART:20251026T010000
END:STANDARD
END:VTIMEZONE
BEGIN:VEVENT
DTSTART;TZID=Europe/Berlin:20240512T150000
DTEND;TZID=Europe/Berlin:20240512T180000
DTSTAMP:20260425T174704
CREATED:20240401T191855Z
LAST-MODIFIED:20240421T122809Z
UID:10000765-1715526000-1715536800@www.volksmusik-mittelfranken.de
SUMMARY:Tanztraining
DESCRIPTION:Tanztraining des Fränkischen Volkstanzkreis Steigerwald \nKontakt Gerda + Konrad Heimann 09193-8797
URL:https://www.volksmusik-mittelfranken.de/event/tanztraining/2024-05-12/
LOCATION:Sonnensaal\, Mühlgasse 10\, Lonnerstadt\, 91475
CATEGORIES:Tanz
ORGANIZER;CN="Fr%C3%A4nkischer Volkstanzkreis Steigerwald":MAILTO:Gerda.Heimann@Volkstanzkreis-Steigerwald.de
END:VEVENT
END:VCALENDAR