BEGIN:VCALENDAR
VERSION:2.0
PRODID:-//Arbeitsgemeinschaft Fränkische Volksmusik Bezirk Mittelfranken - ECPv6.15.16//NONSGML v1.0//EN
CALSCALE:GREGORIAN
METHOD:PUBLISH
X-WR-CALNAME:Arbeitsgemeinschaft Fränkische Volksmusik Bezirk Mittelfranken
X-ORIGINAL-URL:https://www.volksmusik-mittelfranken.de
X-WR-CALDESC:Veranstaltungen für Arbeitsgemeinschaft Fränkische Volksmusik Bezirk Mittelfranken
REFRESH-INTERVAL;VALUE=DURATION:PT1H
X-Robots-Tag:noindex
X-PUBLISHED-TTL:PT1H
BEGIN:VTIMEZONE
TZID:Europe/Berlin
BEGIN:DAYLIGHT
TZOFFSETFROM:+0100
TZOFFSETTO:+0200
TZNAME:CEST
DTSTART:20240331T010000
END:DAYLIGHT
BEGIN:STANDARD
TZOFFSETFROM:+0200
TZOFFSETTO:+0100
TZNAME:CET
DTSTART:20241027T010000
END:STANDARD
BEGIN:DAYLIGHT
TZOFFSETFROM:+0100
TZOFFSETTO:+0200
TZNAME:CEST
DTSTART:20250330T010000
END:DAYLIGHT
BEGIN:STANDARD
TZOFFSETFROM:+0200
TZOFFSETTO:+0100
TZNAME:CET
DTSTART:20251026T010000
END:STANDARD
BEGIN:DAYLIGHT
TZOFFSETFROM:+0100
TZOFFSETTO:+0200
TZNAME:CEST
DTSTART:20260329T010000
END:DAYLIGHT
BEGIN:STANDARD
TZOFFSETFROM:+0200
TZOFFSETTO:+0100
TZNAME:CET
DTSTART:20261025T010000
END:STANDARD
END:VTIMEZONE
BEGIN:VEVENT
DTSTART;VALUE=DATE:20250615
DTEND;VALUE=DATE:20250622
DTSTAMP:20260421T150304
CREATED:20250514T123156Z
LAST-MODIFIED:20250514T123156Z
UID:10001103-1749956400-1750474799@www.volksmusik-mittelfranken.de
SUMMARY:Fränkische Volksmusikwoche
DESCRIPTION:Erlebe die Freude am gemeinsamen Singen\, Musizieren und Tanzen! Lass dich von der Begeisterung anstecken und entdecke gleichzeitig die Prinzipien traditioneller Musizierpraxis – all das erwartet dich bei der traditionsreichen fränkischen Volksmusikwoche in Pappenheim. \nAnmeldung erforderlich bei fj.schramm@heimat-bayern.de\, Näheres hier.\nEinladungsflyer hier herunterladen (pdf)
URL:https://www.volksmusik-mittelfranken.de/event/fraenkische-volksmusikwoche-2025/
LOCATION:Evangelisches Bildungszentrum Pappenheim\, Stadtparkstraße 8-17\, Pappenheim\, 91788\, Deutschland
CATEGORIES:Volksmusikwoche
ORGANIZER;CN="Bayerischer Landesverein f%C3%BCr Heimatpflege e.V.":MAILTO:info@heimat-bayern.de
END:VEVENT
END:VCALENDAR