BEGIN:VCALENDAR
VERSION:2.0
PRODID:-//Arbeitsgemeinschaft Fränkische Volksmusik Bezirk Mittelfranken - ECPv6.15.16//NONSGML v1.0//EN
CALSCALE:GREGORIAN
METHOD:PUBLISH
X-WR-CALNAME:Arbeitsgemeinschaft Fränkische Volksmusik Bezirk Mittelfranken
X-ORIGINAL-URL:https://www.volksmusik-mittelfranken.de
X-WR-CALDESC:Veranstaltungen für Arbeitsgemeinschaft Fränkische Volksmusik Bezirk Mittelfranken
REFRESH-INTERVAL;VALUE=DURATION:PT1H
X-Robots-Tag:noindex
X-PUBLISHED-TTL:PT1H
BEGIN:VTIMEZONE
TZID:Europe/Berlin
BEGIN:DAYLIGHT
TZOFFSETFROM:+0100
TZOFFSETTO:+0200
TZNAME:CEST
DTSTART:20240331T010000
END:DAYLIGHT
BEGIN:STANDARD
TZOFFSETFROM:+0200
TZOFFSETTO:+0100
TZNAME:CET
DTSTART:20241027T010000
END:STANDARD
BEGIN:DAYLIGHT
TZOFFSETFROM:+0100
TZOFFSETTO:+0200
TZNAME:CEST
DTSTART:20250330T010000
END:DAYLIGHT
BEGIN:STANDARD
TZOFFSETFROM:+0200
TZOFFSETTO:+0100
TZNAME:CET
DTSTART:20251026T010000
END:STANDARD
BEGIN:DAYLIGHT
TZOFFSETFROM:+0100
TZOFFSETTO:+0200
TZNAME:CEST
DTSTART:20260329T010000
END:DAYLIGHT
BEGIN:STANDARD
TZOFFSETFROM:+0200
TZOFFSETTO:+0100
TZNAME:CET
DTSTART:20261025T010000
END:STANDARD
END:VTIMEZONE
BEGIN:VEVENT
DTSTART;TZID=Europe/Berlin:20250627T200000
DTEND;TZID=Europe/Berlin:20250627T220000
DTSTAMP:20260421T150328
CREATED:20250117T000634Z
LAST-MODIFIED:20250808T201145Z
UID:10001043-1751054400-1751061600@www.volksmusik-mittelfranken.de
SUMMARY:Fränkische Online-Singstund
DESCRIPTION:Eine gute Gelegenheit\, neue Lieder von zu Hause aus kennenzulernen und nach Herzenslust zu singen. \nEin virtueller volksmusikalischer „Hausbesuch“\, um Menschen im eigenen Umfeld zum Selber-Singen anzuregen – ob allein\, zu zweit\, mit der Familie oder mit Freunden. Egal\, ob sing-erfahren oder nicht – alle sind willkommen! Wir singen gemeinsam\, lernen schöne neue Lieder kennen\, haben Spaß dabei und teilen auch auf die Ferne die Freude an der Musik. Bei Interesse ist eine kurze formlose Anmeldung per Mail erforderlich (fj.schramm@heimat-bayern.de). Sie erhalten dann jeweils am Vormittag des entsprechenden Veranstaltungstages eine E-Mail mit den Zugangsdaten. Die Handhabung ist einfach\, damit auch technisch wenig Versierte mit dem Computer\, Smartphone oder Tablet daran teilnehmen können.
URL:https://www.volksmusik-mittelfranken.de/event/fraenkische-online-singstund/2025-06-27/
CATEGORIES:Offenes Singen
ORGANIZER;CN="Bayerischer Landesverein f%C3%BCr Heimatpflege e.V.":MAILTO:info@heimat-bayern.de
END:VEVENT
END:VCALENDAR