BEGIN:VCALENDAR
VERSION:2.0
PRODID:-//Arbeitsgemeinschaft Fränkische Volksmusik Bezirk Mittelfranken - ECPv6.15.16//NONSGML v1.0//EN
CALSCALE:GREGORIAN
METHOD:PUBLISH
X-WR-CALNAME:Arbeitsgemeinschaft Fränkische Volksmusik Bezirk Mittelfranken
X-ORIGINAL-URL:https://www.volksmusik-mittelfranken.de
X-WR-CALDESC:Veranstaltungen für Arbeitsgemeinschaft Fränkische Volksmusik Bezirk Mittelfranken
REFRESH-INTERVAL;VALUE=DURATION:PT1H
X-Robots-Tag:noindex
X-PUBLISHED-TTL:PT1H
BEGIN:VTIMEZONE
TZID:Europe/Berlin
BEGIN:DAYLIGHT
TZOFFSETFROM:+0100
TZOFFSETTO:+0200
TZNAME:CEST
DTSTART:20240331T010000
END:DAYLIGHT
BEGIN:STANDARD
TZOFFSETFROM:+0200
TZOFFSETTO:+0100
TZNAME:CET
DTSTART:20241027T010000
END:STANDARD
BEGIN:DAYLIGHT
TZOFFSETFROM:+0100
TZOFFSETTO:+0200
TZNAME:CEST
DTSTART:20250330T010000
END:DAYLIGHT
BEGIN:STANDARD
TZOFFSETFROM:+0200
TZOFFSETTO:+0100
TZNAME:CET
DTSTART:20251026T010000
END:STANDARD
BEGIN:DAYLIGHT
TZOFFSETFROM:+0100
TZOFFSETTO:+0200
TZNAME:CEST
DTSTART:20260329T010000
END:DAYLIGHT
BEGIN:STANDARD
TZOFFSETFROM:+0200
TZOFFSETTO:+0100
TZNAME:CET
DTSTART:20261025T010000
END:STANDARD
END:VTIMEZONE
BEGIN:VEVENT
DTSTART;TZID=Europe/Berlin:20251105T200000
DTEND;TZID=Europe/Berlin:20251105T200000
DTSTAMP:20260420T183143
CREATED:20231103T114052Z
LAST-MODIFIED:20240812T092947Z
UID:10000283-1762372800-1762372800@www.volksmusik-mittelfranken.de
SUMMARY:Sänger- und Musikanten-Stammtisch
DESCRIPTION:Musik: Gebrüder Ottenschläger und Gäste \nAnmeldung und Reservierung empfohlen
URL:https://www.volksmusik-mittelfranken.de/event/saenger-und-musikanten-stammtisch/2025-11-05/
LOCATION:Gasthaus zum Schellenberg\, Bergstraße 14\, Kleinsendelbach-Schellenberg\, 91077
CATEGORIES:Musikantenstammtisch
ORGANIZER;CN="Gebr%C3%BCder Ottenschl%C3%A4ger":MAILTO:Gebr.Ottenschlaeger@web.de
END:VEVENT
BEGIN:VEVENT
DTSTART;TZID=Europe/Berlin:20251105T200000
DTEND;TZID=Europe/Berlin:20251105T200000
DTSTAMP:20260420T183143
CREATED:20250526T080047Z
LAST-MODIFIED:20251031T105947Z
UID:10001180-1762372800-1762372800@www.volksmusik-mittelfranken.de
SUMMARY:Öffentliches Wirtshausspielen der "Ohrerhüller"
DESCRIPTION:Öffentliche Probe beim „Otto“ in Reichenau. Ab 20:00 Uhr spielen die Ohrerhüller – vorher oder auch währenddessen kommer essen und trinken und einfach a gute Zeit hobn. \nEintritt frei.
URL:https://www.volksmusik-mittelfranken.de/event/oeffentliche-probe/2025-11-05/
LOCATION:Landgasthaus Zum Kreuz\, Nr. 15\, Bechhofen a.d. Heide - Reichenau\, 91572
CATEGORIES:Sonstige
END:VEVENT
END:VCALENDAR