BEGIN:VCALENDAR
VERSION:2.0
PRODID:-//Arbeitsgemeinschaft Fränkische Volksmusik Bezirk Mittelfranken - ECPv6.15.16//NONSGML v1.0//EN
CALSCALE:GREGORIAN
METHOD:PUBLISH
X-WR-CALNAME:Arbeitsgemeinschaft Fränkische Volksmusik Bezirk Mittelfranken
X-ORIGINAL-URL:https://www.volksmusik-mittelfranken.de
X-WR-CALDESC:Veranstaltungen für Arbeitsgemeinschaft Fränkische Volksmusik Bezirk Mittelfranken
REFRESH-INTERVAL;VALUE=DURATION:PT1H
X-Robots-Tag:noindex
X-PUBLISHED-TTL:PT1H
BEGIN:VTIMEZONE
TZID:Europe/Berlin
BEGIN:DAYLIGHT
TZOFFSETFROM:+0100
TZOFFSETTO:+0200
TZNAME:CEST
DTSTART:20240331T010000
END:DAYLIGHT
BEGIN:STANDARD
TZOFFSETFROM:+0200
TZOFFSETTO:+0100
TZNAME:CET
DTSTART:20241027T010000
END:STANDARD
BEGIN:DAYLIGHT
TZOFFSETFROM:+0100
TZOFFSETTO:+0200
TZNAME:CEST
DTSTART:20250330T010000
END:DAYLIGHT
BEGIN:STANDARD
TZOFFSETFROM:+0200
TZOFFSETTO:+0100
TZNAME:CET
DTSTART:20251026T010000
END:STANDARD
BEGIN:DAYLIGHT
TZOFFSETFROM:+0100
TZOFFSETTO:+0200
TZNAME:CEST
DTSTART:20260329T010000
END:DAYLIGHT
BEGIN:STANDARD
TZOFFSETFROM:+0200
TZOFFSETTO:+0100
TZNAME:CET
DTSTART:20261025T010000
END:STANDARD
END:VTIMEZONE
BEGIN:VEVENT
DTSTART;TZID=Europe/Berlin:20251207T153000
DTEND;TZID=Europe/Berlin:20251207T170000
DTSTAMP:20260420T163808
CREATED:20221206T224204Z
LAST-MODIFIED:20251123T195812Z
UID:10000468-1765121400-1765126800@www.volksmusik-mittelfranken.de
SUMMARY:Musikantenstammtisch "Eigenes Heim"
DESCRIPTION:Der Musikantenstammtisch „Eigenes Heim“ trifft sich jeden 1. Sonntag im Monat in der Gaststätte „Wilhelmshöhe“ zum fröhlichen Musizieren und Beisammensein. Zum Musikantenstammtisch sind alle eingeladen\, die gerne handgemachte Musik spielen. Freunde und Gäste sind ebenfalls herzlich willkommen. \nRückfragen an: Peter Dummert 0911-736985
URL:https://www.volksmusik-mittelfranken.de/event/musikantenstammtisch-eigenes-heim-2/2025-12-07/
LOCATION:Gaststätte Wilhelmshöhe\, Wilhelmstr. 21\, Fürth\, 90766
CATEGORIES:Musikantenstammtisch
END:VEVENT
BEGIN:VEVENT
DTSTART;TZID=Europe/Berlin:20251207T160000
DTEND;TZID=Europe/Berlin:20251207T160000
DTSTAMP:20260420T163808
CREATED:20251124T183650Z
LAST-MODIFIED:20251124T183650Z
UID:10001233-1765123200-1765123200@www.volksmusik-mittelfranken.de
SUMMARY:Fränkische Weihnacht
DESCRIPTION:Musik: Trio Collegio\, Maierbachsängerinnen\, Trio Saitwärts und die Fränkischen\nSprecher: Klaus Krügel
URL:https://www.volksmusik-mittelfranken.de/event/fraenkische-weihnacht-24/
LOCATION:Kirche St. Laurentius\, Nürnberg-Großgründlach\, 90427
ORGANIZER;CN="Vorstadtverein Alt-Gr%C3%BCndlach":MAILTO:info@alt-gruendlach.de
END:VEVENT
BEGIN:VEVENT
DTSTART;TZID=Europe/Berlin:20251207T170000
DTEND;TZID=Europe/Berlin:20251207T170000
DTSTAMP:20260420T163808
CREATED:20251124T183818Z
LAST-MODIFIED:20251124T183818Z
UID:10001234-1765126800-1765126800@www.volksmusik-mittelfranken.de
SUMMARY:Weihnachtssingen für alle
DESCRIPTION:mit David Saam\, Res Richter und Band.
URL:https://www.volksmusik-mittelfranken.de/event/weihnachtssingen-fuer-alle/
LOCATION:Kulturzentrum E-Werk\, Fuchsenwiese 1\, Erlangen\, 91054\, Deutschland
CATEGORIES:Singen
END:VEVENT
BEGIN:VEVENT
DTSTART;TZID=Europe/Berlin:20251207T180000
DTEND;TZID=Europe/Berlin:20251207T180000
DTSTAMP:20260420T163808
CREATED:20251124T183427Z
LAST-MODIFIED:20251124T183427Z
UID:10001232-1765130400-1765130400@www.volksmusik-mittelfranken.de
SUMMARY:Mudartkabarett "Weihnacht'n - un sunsd nu wos!"
DESCRIPTION:Mit Sven Bach\nVorverkauf: Galerie Gaswerk | www.galerie-gaswerk.de
URL:https://www.volksmusik-mittelfranken.de/event/mudartkabarett-weihnachtn-un-sunsd-nu-wos/
LOCATION:Kleinkunstbühne Galerie Gaswerk\, Nördliche Ringstr. 9\, Schwabach\, 91126\, Deutschland
CATEGORIES:Kabarett
END:VEVENT
END:VCALENDAR