BEGIN:VCALENDAR
VERSION:2.0
PRODID:-//Arbeitsgemeinschaft Fränkische Volksmusik Bezirk Mittelfranken - ECPv6.15.16//NONSGML v1.0//EN
CALSCALE:GREGORIAN
METHOD:PUBLISH
X-ORIGINAL-URL:https://www.volksmusik-mittelfranken.de
X-WR-CALDESC:Veranstaltungen für Arbeitsgemeinschaft Fränkische Volksmusik Bezirk Mittelfranken
REFRESH-INTERVAL;VALUE=DURATION:PT1H
X-Robots-Tag:noindex
X-PUBLISHED-TTL:PT1H
BEGIN:VTIMEZONE
TZID:Europe/Berlin
BEGIN:DAYLIGHT
TZOFFSETFROM:+0100
TZOFFSETTO:+0200
TZNAME:CEST
DTSTART:20240331T010000
END:DAYLIGHT
BEGIN:STANDARD
TZOFFSETFROM:+0200
TZOFFSETTO:+0100
TZNAME:CET
DTSTART:20241027T010000
END:STANDARD
BEGIN:DAYLIGHT
TZOFFSETFROM:+0100
TZOFFSETTO:+0200
TZNAME:CEST
DTSTART:20250330T010000
END:DAYLIGHT
BEGIN:STANDARD
TZOFFSETFROM:+0200
TZOFFSETTO:+0100
TZNAME:CET
DTSTART:20251026T010000
END:STANDARD
BEGIN:DAYLIGHT
TZOFFSETFROM:+0100
TZOFFSETTO:+0200
TZNAME:CEST
DTSTART:20260329T010000
END:DAYLIGHT
BEGIN:STANDARD
TZOFFSETFROM:+0200
TZOFFSETTO:+0100
TZNAME:CET
DTSTART:20261025T010000
END:STANDARD
END:VTIMEZONE
BEGIN:VEVENT
DTSTART;TZID=Europe/Berlin:20251212T160000
DTEND;TZID=Europe/Berlin:20251212T180000
DTSTAMP:20260420T163849
CREATED:20230827T201212Z
LAST-MODIFIED:20240915T180115Z
UID:10000802-1765555200-1765562400@www.volksmusik-mittelfranken.de
SUMMARY:Geselliger volksmusikalischer Stammtisch
DESCRIPTION:Volksmusikalisch umrahmter „Freitagsstammtisch“
URL:https://www.volksmusik-mittelfranken.de/event/geselliger-volksmusikalischer-stammtisch-3/2025-12-12/
LOCATION:SV Sportgaststätte\, Schlössleinsgasse 9\, Nürnberg-Reichelsdorf\, 90453
CATEGORIES:Sonstige
ORGANIZER;CN="Volkstanzkreis N%C3%BCrnberg-Eibach":MAILTO:hermanndaum@web.de
END:VEVENT
BEGIN:VEVENT
DTSTART;TZID=Europe/Berlin:20251212T193000
DTEND;TZID=Europe/Berlin:20251212T193000
DTSTAMP:20260420T163849
CREATED:20251207T190517Z
LAST-MODIFIED:20251207T190517Z
UID:10001240-1765567800-1765567800@www.volksmusik-mittelfranken.de
SUMMARY:Fränkische Weihnacht
DESCRIPTION:Mit der Leyher Stubenmusik\, SingGsang\, Höchstadter Volksmusik\nSprecherin: Maria Bauer \nNäheres: Georg Römer
URL:https://www.volksmusik-mittelfranken.de/event/fraenkische-weihnacht-27/
LOCATION:Stadtpfarrkirche St. Georg\, Kirchplatz 5\, Höchstadt/Aisch\, 91315
CATEGORIES:Advents- / Weihnachts-Veranstaltung
END:VEVENT
END:VCALENDAR