BEGIN:VCALENDAR
VERSION:2.0
PRODID:-//Arbeitsgemeinschaft Fränkische Volksmusik Bezirk Mittelfranken - ECPv6.15.16//NONSGML v1.0//EN
CALSCALE:GREGORIAN
METHOD:PUBLISH
X-ORIGINAL-URL:https://www.volksmusik-mittelfranken.de
X-WR-CALDESC:Veranstaltungen für Arbeitsgemeinschaft Fränkische Volksmusik Bezirk Mittelfranken
REFRESH-INTERVAL;VALUE=DURATION:PT1H
X-Robots-Tag:noindex
X-PUBLISHED-TTL:PT1H
BEGIN:VTIMEZONE
TZID:Europe/Berlin
BEGIN:DAYLIGHT
TZOFFSETFROM:+0100
TZOFFSETTO:+0200
TZNAME:CEST
DTSTART:20240331T010000
END:DAYLIGHT
BEGIN:STANDARD
TZOFFSETFROM:+0200
TZOFFSETTO:+0100
TZNAME:CET
DTSTART:20241027T010000
END:STANDARD
BEGIN:DAYLIGHT
TZOFFSETFROM:+0100
TZOFFSETTO:+0200
TZNAME:CEST
DTSTART:20250330T010000
END:DAYLIGHT
BEGIN:STANDARD
TZOFFSETFROM:+0200
TZOFFSETTO:+0100
TZNAME:CET
DTSTART:20251026T010000
END:STANDARD
BEGIN:DAYLIGHT
TZOFFSETFROM:+0100
TZOFFSETTO:+0200
TZNAME:CEST
DTSTART:20260329T010000
END:DAYLIGHT
BEGIN:STANDARD
TZOFFSETFROM:+0200
TZOFFSETTO:+0100
TZNAME:CET
DTSTART:20261025T010000
END:STANDARD
END:VTIMEZONE
BEGIN:VEVENT
DTSTART;TZID=Europe/Berlin:20250901T190000
DTEND;TZID=Europe/Berlin:20250901T220000
DTSTAMP:20260421T100359
CREATED:20250713T201224Z
LAST-MODIFIED:20260315T184037Z
UID:10001131-1756753200-1756764000@www.volksmusik-mittelfranken.de
SUMMARY:Volkstanzübungsabend
DESCRIPTION:Anfänger:innen von 19-20h (und gerne noch bleiben zum „Reinschnuppern“)\nFortgeschrittene von 20-22h \nVeranstalter: Kulturgemeinschaft der Hohenbrunner Vereine\nNäheres: Christa Nürnberger\, Tel. 09154/8294
URL:https://www.volksmusik-mittelfranken.de/event/volkstanzuebungsabend-9/2025-09-01/
LOCATION:Markgrafensaal Hohenstadt\, Happurger Str. 11\, Pommelsbrunn-Hohenstadt\, 91224
CATEGORIES:Tanz
ORGANIZER;CN="Kulturgemeinschaft der Hohenst%C3%A4dter Vereine":MAILTO:info@kulturverein-hohenstadt.de
END:VEVENT
BEGIN:VEVENT
DTSTART;TZID=Europe/Berlin:20250903T200000
DTEND;TZID=Europe/Berlin:20250903T200000
DTSTAMP:20260421T100359
CREATED:20231103T114052Z
LAST-MODIFIED:20240812T092947Z
UID:10000274-1756929600-1756929600@www.volksmusik-mittelfranken.de
SUMMARY:Sänger- und Musikanten-Stammtisch
DESCRIPTION:Musik: Gebrüder Ottenschläger und Gäste \nAnmeldung und Reservierung empfohlen
URL:https://www.volksmusik-mittelfranken.de/event/saenger-und-musikanten-stammtisch/2025-09-03/
LOCATION:Gasthaus zum Schellenberg\, Bergstraße 14\, Kleinsendelbach-Schellenberg\, 91077
CATEGORIES:Musikantenstammtisch
ORGANIZER;CN="Gebr%C3%BCder Ottenschl%C3%A4ger":MAILTO:Gebr.Ottenschlaeger@web.de
END:VEVENT
BEGIN:VEVENT
DTSTART;TZID=Europe/Berlin:20250905T190000
DTEND;TZID=Europe/Berlin:20250905T230000
DTSTAMP:20260421T100359
CREATED:20250722T092351Z
LAST-MODIFIED:20260315T185107Z
UID:10001140-1757098800-1757113200@www.volksmusik-mittelfranken.de
SUMMARY:Kneipensingen für alle
DESCRIPTION:Allein Vorsingen in der Schule war doof? Allein Vorsingen vor der Klasse war peinlich? Allein Vorsingen war gestern!\nAb sofort trällern alle gemeinsam ohne Rücksicht auf Verluste oder falsche Töne – und zwar im E-Werk bei Bier\, Wein oder anderem Getränk. Nur die Freude am Singen zählt! Gesungen wird alles\, was Spaß macht. Und das nicht zu Plastikmusik aus der Konserve\, sondern zu Livemusik von echten Musikern. Die Texte muss keiner auswendig kennen\, die werden natürlich serviert.\nDavid Saam und Res Richter (u.a. Kellerkommando und Boxgalopp) bringen Lieder aus den verschiedensten Bereichen mit: Pop\, Rock\, Indie\, Punk\, Hiphop… was das SängerInnenherz begehrt! Und natürlich auch Eurodance\, Schlager und andere herrliche Peinlichkeiten!  Und das Publikum darf sogar bei der Liedauswahl ein Wörtchen mitreden und seine Wünsche für den nächsten Termin in eine Box schmeißen. \n  \nInfos und Karten: https://www.e-werk.de/kneipensingen-fuer-alle/
URL:https://www.volksmusik-mittelfranken.de/event/kneipensingen-fuer-alle/2025-09-05/
LOCATION:Kulturzentrum E-Werk\, Fuchsenwiese 1\, Erlangen\, 91054\, Deutschland
CATEGORIES:Konzert,Singen
END:VEVENT
BEGIN:VEVENT
DTSTART;TZID=Europe/Berlin:20250907T153000
DTEND;TZID=Europe/Berlin:20250907T170000
DTSTAMP:20260421T100359
CREATED:20221206T224204Z
LAST-MODIFIED:20251123T195812Z
UID:10000465-1757259000-1757264400@www.volksmusik-mittelfranken.de
SUMMARY:Musikantenstammtisch "Eigenes Heim"
DESCRIPTION:Der Musikantenstammtisch „Eigenes Heim“ trifft sich jeden 1. Sonntag im Monat in der Gaststätte „Wilhelmshöhe“ zum fröhlichen Musizieren und Beisammensein. Zum Musikantenstammtisch sind alle eingeladen\, die gerne handgemachte Musik spielen. Freunde und Gäste sind ebenfalls herzlich willkommen. \nRückfragen an: Peter Dummert 0911-736985
URL:https://www.volksmusik-mittelfranken.de/event/musikantenstammtisch-eigenes-heim-2/2025-09-07/
LOCATION:Gaststätte Wilhelmshöhe\, Wilhelmstr. 21\, Fürth\, 90766
CATEGORIES:Musikantenstammtisch
END:VEVENT
BEGIN:VEVENT
DTSTART;TZID=Europe/Berlin:20250908T160000
DTEND;TZID=Europe/Berlin:20250908T160000
DTSTAMP:20260421T100359
CREATED:20241110T233841Z
LAST-MODIFIED:20260315T185411Z
UID:10001009-1757347200-1757347200@www.volksmusik-mittelfranken.de
SUMMARY:Offenes Singen
DESCRIPTION:Singleitung: Klemens Sittler \nVeranstalter: Bay. Landesverein für Heimatpflege
URL:https://www.volksmusik-mittelfranken.de/event/offenes-singen/2025-09-08/
LOCATION:Nachbarschaftstreff Sigena\, Johannisstraße 167\, Nürnberg\, 90419
CATEGORIES:Offenes Singen
END:VEVENT
BEGIN:VEVENT
DTSTART;TZID=Europe/Berlin:20250910T200000
DTEND;TZID=Europe/Berlin:20250910T200000
DTSTAMP:20260421T100359
CREATED:20231103T114052Z
LAST-MODIFIED:20240812T092947Z
UID:10000275-1757534400-1757534400@www.volksmusik-mittelfranken.de
SUMMARY:Sänger- und Musikanten-Stammtisch
DESCRIPTION:Musik: Gebrüder Ottenschläger und Gäste \nAnmeldung und Reservierung empfohlen
URL:https://www.volksmusik-mittelfranken.de/event/saenger-und-musikanten-stammtisch/2025-09-10/
LOCATION:Gasthaus zum Schellenberg\, Bergstraße 14\, Kleinsendelbach-Schellenberg\, 91077
CATEGORIES:Musikantenstammtisch
ORGANIZER;CN="Gebr%C3%BCder Ottenschl%C3%A4ger":MAILTO:Gebr.Ottenschlaeger@web.de
END:VEVENT
BEGIN:VEVENT
DTSTART;TZID=Europe/Berlin:20250911T140000
DTEND;TZID=Europe/Berlin:20250911T140000
DTSTAMP:20260421T100359
CREATED:20250127T105655Z
LAST-MODIFIED:20250127T202031Z
UID:10001052-1757599200-1757599200@www.volksmusik-mittelfranken.de
SUMMARY:Fränkisches Volksliedersinga
DESCRIPTION:Fränkisches Volksliedersinga\nSingleitung: Dietmar Klenk
URL:https://www.volksmusik-mittelfranken.de/event/fraenkisches-volksliedersinga/2025-09-11/
LOCATION:Landgasthof zum Angerwirt\, Am Anger 1\, Ornbau / Gern\, 91737
CATEGORIES:Offenes Singen
ORGANIZER;CN="Dietmar Klenk":MAILTO:musikus-dietmar-klenk@t-online.de
END:VEVENT
BEGIN:VEVENT
DTSTART;TZID=Europe/Berlin:20250912T160000
DTEND;TZID=Europe/Berlin:20250912T180000
DTSTAMP:20260421T100400
CREATED:20230827T201212Z
LAST-MODIFIED:20240915T180115Z
UID:10000799-1757692800-1757700000@www.volksmusik-mittelfranken.de
SUMMARY:Geselliger volksmusikalischer Stammtisch
DESCRIPTION:Volksmusikalisch umrahmter „Freitagsstammtisch“
URL:https://www.volksmusik-mittelfranken.de/event/geselliger-volksmusikalischer-stammtisch-3/2025-09-12/
LOCATION:SV Sportgaststätte\, Schlössleinsgasse 9\, Nürnberg-Reichelsdorf\, 90453
CATEGORIES:Sonstige
ORGANIZER;CN="Volkstanzkreis N%C3%BCrnberg-Eibach":MAILTO:hermanndaum@web.de
END:VEVENT
BEGIN:VEVENT
DTSTART;TZID=Europe/Berlin:20250914T090000
DTEND;TZID=Europe/Berlin:20250914T170000
DTSTAMP:20260421T100400
CREATED:20250808T194505Z
LAST-MODIFIED:20250808T194505Z
UID:10001144-1757840400-1757869200@www.volksmusik-mittelfranken.de
SUMMARY:Klosterfest mit fränkischer Musik
DESCRIPTION:Musik: Gleißenberger Musikanten (11:30 Uhr) und die Jugendkapelle Aurachtal (16:00 Uhr) \nGottedienst 09:45 Uhr\, Beginn Klosterfest 11:00 Uhr \nVeranstalter: Heimat- und Gartenbauverein
URL:https://www.volksmusik-mittelfranken.de/event/klosterfest-mit-fraenkischer-musik/
LOCATION:Straße im Kloster\, Straße im Kloster\, Münchaurach\, 91086
END:VEVENT
BEGIN:VEVENT
DTSTART;TZID=Europe/Berlin:20250914T140000
DTEND;TZID=Europe/Berlin:20250914T140000
DTSTAMP:20260421T100400
CREATED:20250808T194200Z
LAST-MODIFIED:20251123T202654Z
UID:10001143-1757858400-1757858400@www.volksmusik-mittelfranken.de
SUMMARY:Wirtshaussingen
DESCRIPTION:Singleitung: Robert Treuheit
URL:https://www.volksmusik-mittelfranken.de/event/wirtshaussingen-13/2025-09-14/
LOCATION:Gasthaus „Zur Linde“\, Fernabrünst\, 90613
CATEGORIES:Wirtshaussingen
ORGANIZER;CN="Wirtshauss%C3%A4nger Robert Treuheit":MAILTO:schnurri-robert@gmx.de
END:VEVENT
BEGIN:VEVENT
DTSTART;TZID=Europe/Berlin:20250914T140000
DTEND;TZID=Europe/Berlin:20250914T170000
DTSTAMP:20260421T100400
CREATED:20250127T190754Z
LAST-MODIFIED:20260315T185642Z
UID:10001060-1757858400-1757869200@www.volksmusik-mittelfranken.de
SUMMARY:Volksliedersingen
DESCRIPTION:Volksliedersingen. Musik: Elisabeth und Christine
URL:https://www.volksmusik-mittelfranken.de/event/volksliedersingen-3/2025-09-14/
LOCATION:Gasthof Rose\, Ansbacher Str. 20\, Flachslanden\, 91604
CATEGORIES:Singen,Wirtshaussingen
END:VEVENT
BEGIN:VEVENT
DTSTART;TZID=Europe/Berlin:20250914T180000
DTEND;TZID=Europe/Berlin:20250914T230000
DTSTAMP:20260421T100400
CREATED:20250722T093329Z
LAST-MODIFIED:20250722T093329Z
UID:10001141-1757872800-1757890800@www.volksmusik-mittelfranken.de
SUMMARY:4 Songs für ein Halleluja
DESCRIPTION:Das überaus einzigartige Trash-Musik-Bingo mit Live-Musik. \nMehr Infos: https://www.e-werk.de/4-songs-fuer-ein-halleluja/
URL:https://www.volksmusik-mittelfranken.de/event/4-songs-fuer-ein-halleluja/
LOCATION:Kulturzentrum E-Werk\, Fuchsenwiese 1\, Erlangen\, 91054\, Deutschland
END:VEVENT
BEGIN:VEVENT
DTSTART;TZID=Europe/Berlin:20250916T190000
DTEND;TZID=Europe/Berlin:20250916T220000
DTSTAMP:20260421T100400
CREATED:20241111T211923Z
LAST-MODIFIED:20250701T163334Z
UID:10001025-1758049200-1758060000@www.volksmusik-mittelfranken.de
SUMMARY:Fränkisch Tanzen und mehr
DESCRIPTION:Bolga\, Walzer\, Hobberer\, Dreher und mehr. Karin Bümlein\, Christine Maul und Steffi Zachmeier leiten an zu Rund- und Figurentänzen\, mal paarweise\, mal in Mehrpaaraufstellung. \nDie erste Stunde von 19-20h eignet sich mit Basics und Grundschritten besonders für Neulinge und Ungeübte\, ab 20:15h werden Rundtanzkenntnisse vorausgesetzt und es geht kunterbunt durch Franken und andere tänzerische Welten. \n-> Die Tänze werden angeleitet. Die Abende bauen nicht aufeinander auf. Die beiden Einheiten können auch separat besucht werden. Anmeldung nicht erforderlich. Tanzpartner:in findet sich ggf. vor Ort.
URL:https://www.volksmusik-mittelfranken.de/event/fraenkisch-tanzen-und-mehr-2/2025-09-16/
LOCATION:Kulturwerkstatt auf AEG\, Fürther Str. 244d\, Nürnberg\, 90429
CATEGORIES:Tanz
ORGANIZER;CN="Steffi Zachmeier":MAILTO:info@zachmeier.de
END:VEVENT
BEGIN:VEVENT
DTSTART;TZID=Europe/Berlin:20250917T200000
DTEND;TZID=Europe/Berlin:20250917T200000
DTSTAMP:20260421T100400
CREATED:20231103T114052Z
LAST-MODIFIED:20240812T092947Z
UID:10000276-1758139200-1758139200@www.volksmusik-mittelfranken.de
SUMMARY:Sänger- und Musikanten-Stammtisch
DESCRIPTION:Musik: Gebrüder Ottenschläger und Gäste \nAnmeldung und Reservierung empfohlen
URL:https://www.volksmusik-mittelfranken.de/event/saenger-und-musikanten-stammtisch/2025-09-17/
LOCATION:Gasthaus zum Schellenberg\, Bergstraße 14\, Kleinsendelbach-Schellenberg\, 91077
CATEGORIES:Musikantenstammtisch
ORGANIZER;CN="Gebr%C3%BCder Ottenschl%C3%A4ger":MAILTO:Gebr.Ottenschlaeger@web.de
END:VEVENT
BEGIN:VEVENT
DTSTART;TZID=Europe/Berlin:20250918T180000
DTEND;TZID=Europe/Berlin:20250918T180000
DTSTAMP:20260421T100400
CREATED:20250513T181527Z
LAST-MODIFIED:20251123T195357Z
UID:10001145-1758218400-1758218400@www.volksmusik-mittelfranken.de
SUMMARY:Volksmusik-Stammtisch
DESCRIPTION:Dabeisein – Mitspielen – Mitsingen
URL:https://www.volksmusik-mittelfranken.de/event/volksmusik-stammtisch/2025-09-18/
LOCATION:Bürgerzentrum Villa Leon\, Philipp-Koerber-Weg 1\, Nürnberg\, 90349\, Deutschland
CATEGORIES:Musikantenstammtisch
END:VEVENT
BEGIN:VEVENT
DTSTART;TZID=Europe/Berlin:20250920T170000
DTEND;TZID=Europe/Berlin:20250920T170000
DTSTAMP:20260421T100400
CREATED:20250826T125824Z
LAST-MODIFIED:20250826T125824Z
UID:10001171-1758387600-1758387600@www.volksmusik-mittelfranken.de
SUMMARY:Weinfest mit Volksmusik
DESCRIPTION:Weinfest mit Volksmusik\nDie Wachendorfer Saitenmusik spielt zum Weinfest in Cadolzburg.
URL:https://www.volksmusik-mittelfranken.de/event/weinfest-mit-volksmusik/
LOCATION:Pisendelplatz\, Pisendelplatz\, Cadolzburg\, 90556
CATEGORIES:Fest
END:VEVENT
BEGIN:VEVENT
DTSTART;TZID=Europe/Berlin:20250921T180000
DTEND;TZID=Europe/Berlin:20250921T180000
DTSTAMP:20260421T100400
CREATED:20250211T110527Z
LAST-MODIFIED:20251110T083914Z
UID:10001172-1758477600-1758477600@www.volksmusik-mittelfranken.de
SUMMARY:Volkstanzübungsabend
DESCRIPTION:Übungsabend der Volkstanzfreunde Flachslanden.\nGäste sind willkommen.
URL:https://www.volksmusik-mittelfranken.de/event/uebungsabend-der-volkstanzfreunde-flachslanden/2025-09-21/
LOCATION:Gasthof Rose\, Ansbacher Str. 20\, Flachslanden\, 91604
CATEGORIES:Tanz
END:VEVENT
BEGIN:VEVENT
DTSTART;TZID=Europe/Berlin:20250924T200000
DTEND;TZID=Europe/Berlin:20250924T200000
DTSTAMP:20260421T100400
CREATED:20231103T114052Z
LAST-MODIFIED:20240812T092947Z
UID:10000277-1758744000-1758744000@www.volksmusik-mittelfranken.de
SUMMARY:Sänger- und Musikanten-Stammtisch
DESCRIPTION:Musik: Gebrüder Ottenschläger und Gäste \nAnmeldung und Reservierung empfohlen
URL:https://www.volksmusik-mittelfranken.de/event/saenger-und-musikanten-stammtisch/2025-09-24/
LOCATION:Gasthaus zum Schellenberg\, Bergstraße 14\, Kleinsendelbach-Schellenberg\, 91077
CATEGORIES:Musikantenstammtisch
ORGANIZER;CN="Gebr%C3%BCder Ottenschl%C3%A4ger":MAILTO:Gebr.Ottenschlaeger@web.de
END:VEVENT
BEGIN:VEVENT
DTSTART;TZID=Europe/Berlin:20250925T190000
DTEND;TZID=Europe/Berlin:20250925T190000
DTSTAMP:20260421T100400
CREATED:20250810T095640Z
LAST-MODIFIED:20250810T180723Z
UID:10000938-1758826800-1758826800@www.volksmusik-mittelfranken.de
SUMMARY:Konzert zum Altstadtfest
DESCRIPTION:Die Frankenbänd mit ihrem traditionellen Nürnberger Altstadtfestkonzert
URL:https://www.volksmusik-mittelfranken.de/event/konzert-zum-altstadtfest/
LOCATION:Katharinenruine\, Am Katharinenkloster 6\, Nürnberg\, 90403
CATEGORIES:Konzert
ORGANIZER;CN="Altstadtfest N%C3%BCrnberg e.V.":MAILTO:info@altstadtfest-nuernberg.de
END:VEVENT
BEGIN:VEVENT
DTSTART;TZID=Europe/Berlin:20250926T200000
DTEND;TZID=Europe/Berlin:20250926T200000
DTSTAMP:20260421T100400
CREATED:20250117T000634Z
LAST-MODIFIED:20250808T201145Z
UID:10001147-1758916800-1758916800@www.volksmusik-mittelfranken.de
SUMMARY:Fränkische Online-Singstund
DESCRIPTION:Eine gute Gelegenheit\, neue Lieder von zu Hause aus kennenzulernen und nach Herzenslust zu singen. \nEin virtueller volksmusikalischer „Hausbesuch“\, um Menschen im eigenen Umfeld zum Selber-Singen anzuregen – ob allein\, zu zweit\, mit der Familie oder mit Freunden. Egal\, ob sing-erfahren oder nicht – alle sind willkommen! Wir singen gemeinsam\, lernen schöne neue Lieder kennen\, haben Spaß dabei und teilen auch auf die Ferne die Freude an der Musik. Bei Interesse ist eine kurze formlose Anmeldung per Mail erforderlich (fj.schramm@heimat-bayern.de). Sie erhalten dann jeweils am Vormittag des entsprechenden Veranstaltungstages eine E-Mail mit den Zugangsdaten. Die Handhabung ist einfach\, damit auch technisch wenig Versierte mit dem Computer\, Smartphone oder Tablet daran teilnehmen können.
URL:https://www.volksmusik-mittelfranken.de/event/fraenkische-online-singstund/2025-09-26/
CATEGORIES:Offenes Singen
ORGANIZER;CN="Bayerischer Landesverein f%C3%BCr Heimatpflege e.V.":MAILTO:info@heimat-bayern.de
END:VEVENT
BEGIN:VEVENT
DTSTART;TZID=Europe/Berlin:20250927T190000
DTEND;TZID=Europe/Berlin:20250927T213000
DTSTAMP:20260421T100400
CREATED:20250823T204231Z
LAST-MODIFIED:20250912T133428Z
UID:10000873-1758999600-1759008600@www.volksmusik-mittelfranken.de
SUMMARY:Kerwa-Konzert
DESCRIPTION:Die Frauenauracher Kirchweih mit einem traditionellen Konzert der fränkischen und alpenländischen Volksmusik: Das Duo Leipold aus Neunkirchen am Sand plus Steffi Zachmeier sorgen für wunderbare Stimmung mit überlieferten und auch eigenen Stücken\, dargeboten mit Gitarre\, Zither\, Flöte und Knopfharmonika. Ein unterhaltsamer Abend mit echter\, handgemachter Musik.
URL:https://www.volksmusik-mittelfranken.de/event/kerwa-konzert/
LOCATION:Gasthaus Schwarzer Adler\, Herdegenplatz 1\, Frauenaurach\, 91056
CATEGORIES:Konzert
ORGANIZER;CN="Kulturpub Schwarzer Adler":MAILTO:kulturpub@hotel-schwarzer-adler.de
END:VEVENT
BEGIN:VEVENT
DTSTART;TZID=Europe/Berlin:20250927T193000
DTEND;TZID=Europe/Berlin:20250927T193000
DTSTAMP:20260421T100400
CREATED:20250808T195119Z
LAST-MODIFIED:20250810T184906Z
UID:10001148-1759001400-1759001400@www.volksmusik-mittelfranken.de
SUMMARY:Sänger- und Musikantentreffen
DESCRIPTION:Es wirken mit:\n– Trio Collegio\n– D’Nowlreiwa\n– Blecherne Sait‘n \nDurchs Programm führt Conny Renner
URL:https://www.volksmusik-mittelfranken.de/event/saenger-und-musikantentreffen-2/
LOCATION:Markgrafensaal Hohenstadt\, Happurger Str. 11\, Pommelsbrunn-Hohenstadt\, 91224
CATEGORIES:Konzert,Sänger- und Musikantentreffen
ORGANIZER;CN="Kulturgemeinschaft der Hohenst%C3%A4dter Vereine":MAILTO:info@kulturverein-hohenstadt.de
END:VEVENT
END:VCALENDAR