BEGIN:VCALENDAR
VERSION:2.0
PRODID:-//Arbeitsgemeinschaft Fränkische Volksmusik Bezirk Mittelfranken - ECPv6.15.16//NONSGML v1.0//EN
CALSCALE:GREGORIAN
METHOD:PUBLISH
X-WR-CALNAME:Arbeitsgemeinschaft Fränkische Volksmusik Bezirk Mittelfranken
X-ORIGINAL-URL:https://www.volksmusik-mittelfranken.de
X-WR-CALDESC:Veranstaltungen für Arbeitsgemeinschaft Fränkische Volksmusik Bezirk Mittelfranken
REFRESH-INTERVAL;VALUE=DURATION:PT1H
X-Robots-Tag:noindex
X-PUBLISHED-TTL:PT1H
BEGIN:VTIMEZONE
TZID:Europe/Berlin
BEGIN:DAYLIGHT
TZOFFSETFROM:+0100
TZOFFSETTO:+0200
TZNAME:CEST
DTSTART:20240331T010000
END:DAYLIGHT
BEGIN:STANDARD
TZOFFSETFROM:+0200
TZOFFSETTO:+0100
TZNAME:CET
DTSTART:20241027T010000
END:STANDARD
BEGIN:DAYLIGHT
TZOFFSETFROM:+0100
TZOFFSETTO:+0200
TZNAME:CEST
DTSTART:20250330T010000
END:DAYLIGHT
BEGIN:STANDARD
TZOFFSETFROM:+0200
TZOFFSETTO:+0100
TZNAME:CET
DTSTART:20251026T010000
END:STANDARD
BEGIN:DAYLIGHT
TZOFFSETFROM:+0100
TZOFFSETTO:+0200
TZNAME:CEST
DTSTART:20260329T010000
END:DAYLIGHT
BEGIN:STANDARD
TZOFFSETFROM:+0200
TZOFFSETTO:+0100
TZNAME:CET
DTSTART:20261025T010000
END:STANDARD
END:VTIMEZONE
BEGIN:VEVENT
DTSTART;TZID=Europe/Berlin:20251102T140000
DTEND;TZID=Europe/Berlin:20251102T140000
DTSTAMP:20260420T183338
CREATED:20250111T224759Z
LAST-MODIFIED:20250808T202022Z
UID:10001161-1762092000-1762092000@www.volksmusik-mittelfranken.de
SUMMARY:Wirtshaussingen
DESCRIPTION:Wirtshaussingen.\nSingleitung: Robert Treuheit
URL:https://www.volksmusik-mittelfranken.de/event/wirtshaussingen-7/2025-11-02/
LOCATION:Gasthof Rose\, Ansbacher Str. 20\, Flachslanden\, 91604
CATEGORIES:Wirtshaussingen
ORGANIZER;CN="Wirtshauss%C3%A4nger Robert Treuheit":MAILTO:schnurri-robert@gmx.de
END:VEVENT
BEGIN:VEVENT
DTSTART;TZID=Europe/Berlin:20251102T153000
DTEND;TZID=Europe/Berlin:20251102T170000
DTSTAMP:20260420T183338
CREATED:20221206T224204Z
LAST-MODIFIED:20251123T195812Z
UID:10000467-1762097400-1762102800@www.volksmusik-mittelfranken.de
SUMMARY:Musikantenstammtisch "Eigenes Heim"
DESCRIPTION:Der Musikantenstammtisch „Eigenes Heim“ trifft sich jeden 1. Sonntag im Monat in der Gaststätte „Wilhelmshöhe“ zum fröhlichen Musizieren und Beisammensein. Zum Musikantenstammtisch sind alle eingeladen\, die gerne handgemachte Musik spielen. Freunde und Gäste sind ebenfalls herzlich willkommen. \nRückfragen an: Peter Dummert 0911-736985
URL:https://www.volksmusik-mittelfranken.de/event/musikantenstammtisch-eigenes-heim-2/2025-11-02/
LOCATION:Gaststätte Wilhelmshöhe\, Wilhelmstr. 21\, Fürth\, 90766
CATEGORIES:Musikantenstammtisch
END:VEVENT
BEGIN:VEVENT
DTSTART;TZID=Europe/Berlin:20251102T190000
DTEND;TZID=Europe/Berlin:20251102T200000
DTSTAMP:20260420T183338
CREATED:20250808T201735Z
LAST-MODIFIED:20251028T164709Z
UID:10001178-1762110000-1762113600@www.volksmusik-mittelfranken.de
SUMMARY:Tanzen für Fortgeschrittene
DESCRIPTION:Tanzleitung: Steffi Zachmeier \nVeranstalter: Volkstanzgruppe Kirchfembach-Puschendorf \nNäheres: Körber\, Rudolf
URL:https://www.volksmusik-mittelfranken.de/event/tanzen-fuer-fortgeschrittene/2025-11-02/
LOCATION:Gemeindesaal Hagenbüchach\, Hauptstr. 3\, Hagenbüchach\, 91469
CATEGORIES:Tanz
ORGANIZER;CN="Volkstanzgruppe Kirchfembach-Puschendorf":MAILTO:koerber.rudi@gmail.com
END:VEVENT
BEGIN:VEVENT
DTSTART;TZID=Europe/Berlin:20251105T200000
DTEND;TZID=Europe/Berlin:20251105T200000
DTSTAMP:20260420T183338
CREATED:20231103T114052Z
LAST-MODIFIED:20240812T092947Z
UID:10000283-1762372800-1762372800@www.volksmusik-mittelfranken.de
SUMMARY:Sänger- und Musikanten-Stammtisch
DESCRIPTION:Musik: Gebrüder Ottenschläger und Gäste \nAnmeldung und Reservierung empfohlen
URL:https://www.volksmusik-mittelfranken.de/event/saenger-und-musikanten-stammtisch/2025-11-05/
LOCATION:Gasthaus zum Schellenberg\, Bergstraße 14\, Kleinsendelbach-Schellenberg\, 91077
CATEGORIES:Musikantenstammtisch
ORGANIZER;CN="Gebr%C3%BCder Ottenschl%C3%A4ger":MAILTO:Gebr.Ottenschlaeger@web.de
END:VEVENT
BEGIN:VEVENT
DTSTART;TZID=Europe/Berlin:20251105T200000
DTEND;TZID=Europe/Berlin:20251105T200000
DTSTAMP:20260420T183338
CREATED:20250526T080047Z
LAST-MODIFIED:20251031T105947Z
UID:10001180-1762372800-1762372800@www.volksmusik-mittelfranken.de
SUMMARY:Öffentliches Wirtshausspielen der "Ohrerhüller"
DESCRIPTION:Öffentliche Probe beim „Otto“ in Reichenau. Ab 20:00 Uhr spielen die Ohrerhüller – vorher oder auch währenddessen kommer essen und trinken und einfach a gute Zeit hobn. \nEintritt frei.
URL:https://www.volksmusik-mittelfranken.de/event/oeffentliche-probe/2025-11-05/
LOCATION:Landgasthaus Zum Kreuz\, Nr. 15\, Bechhofen a.d. Heide - Reichenau\, 91572
CATEGORIES:Sonstige
END:VEVENT
BEGIN:VEVENT
DTSTART;TZID=Europe/Berlin:20251107T200000
DTEND;TZID=Europe/Berlin:20251107T200000
DTSTAMP:20260420T183338
CREATED:20251105T210952Z
LAST-MODIFIED:20251105T222333Z
UID:10000871-1762545600-1762545600@www.volksmusik-mittelfranken.de
SUMMARY:Kapelle Bomhard - Live
DESCRIPTION:Kapelle Bomhard – Live\nDie drei Brüder Georg\, Heiner und Johannes Bomhard gründeten 2017 die Kapelle Bomhard. Nachdem alle drei schon über Jahre eigene künstlerische Wege beschritten haben\, beschlossen sie ihren musikalischen Wurzeln\, dem fränkischen Musikerbe\, von nun an gemeinsam neues Leben einzuhauchen.\nIhr Erstlingswerk »Herbstgalopp« fand beim Publikum großen Anklang\, und auch auf der Bühnen konnte das Trio überzeugen. Mit Akkordeon\, Gitarre und Kontrabass intonieren die drei neues fränkisches Liedgut\, das musikalisch wie textlich in der aktuellen fränkische Szene Ihresgleichen sucht. Inhaltlich geht es von dadaistischen Wortspielen über Humoriges zu den großen Themen des Menschseins: Leben\, Liebe und der Tod.\nIm Jahr 2020 erschien ihr zweites Album »Heimat\, du Rindviech«\, vorgestellt in einem gutbesuchtem Onlinekonzert (immer noch nachzuhören auf Youtube).\nIm Winter 2023 erschien ihr drittes Album »Etz is Etz«.
URL:https://www.volksmusik-mittelfranken.de/event/kapelle-bomhard-live/
LOCATION:Gasthaus Schwarzer Adler Trautskirchen\, Hans-Böckler-Straße 3\, Trautskirchen\, 90619
CATEGORIES:Konzert
END:VEVENT
BEGIN:VEVENT
DTSTART;TZID=Europe/Berlin:20251109T140000
DTEND;TZID=Europe/Berlin:20251109T170000
DTSTAMP:20260420T183338
CREATED:20250127T190754Z
LAST-MODIFIED:20260315T185642Z
UID:10001062-1762696800-1762707600@www.volksmusik-mittelfranken.de
SUMMARY:Volksliedersingen
DESCRIPTION:Volksliedersingen. Musik: Elisabeth und Christine
URL:https://www.volksmusik-mittelfranken.de/event/volksliedersingen-3/2025-11-09/
LOCATION:Gasthof Rose\, Ansbacher Str. 20\, Flachslanden\, 91604
CATEGORIES:Singen,Wirtshaussingen
END:VEVENT
BEGIN:VEVENT
DTSTART;TZID=Europe/Berlin:20251109T180000
DTEND;TZID=Europe/Berlin:20251109T180000
DTSTAMP:20260420T183338
CREATED:20251103T112719Z
LAST-MODIFIED:20251103T112719Z
UID:10001182-1762711200-1762711200@www.volksmusik-mittelfranken.de
SUMMARY:"Der Hexen Gunst erwerb ich mir"
DESCRIPTION:„Der Hexen Gunst erwerb ich mir“ – Lieder\, Balladen und Texte aus der Zeit\, bevor Halloween zu uns kam.\nUlrike Bergmann rezitiert\, singt und spielt Drehleier und Gitarre.
URL:https://www.volksmusik-mittelfranken.de/event/der-hexen-gunst-erwerb-ich-mir/
LOCATION:Kulturscheune Ermetzhof\, Ermetzhof 19\, Marktbergel\, 91613
CATEGORIES:Konzert
ORGANIZER;CN="Kultur in der Scheune":MAILTO:ulrike.bergmann@frawenton.de
END:VEVENT
BEGIN:VEVENT
DTSTART;TZID=Europe/Berlin:20251110T160000
DTEND;TZID=Europe/Berlin:20251110T160000
DTSTAMP:20260420T183338
CREATED:20241110T233841Z
LAST-MODIFIED:20260315T185411Z
UID:10001010-1762790400-1762790400@www.volksmusik-mittelfranken.de
SUMMARY:Offenes Singen
DESCRIPTION:Singleitung: Klemens Sittler \nVeranstalter: Bay. Landesverein für Heimatpflege
URL:https://www.volksmusik-mittelfranken.de/event/offenes-singen/2025-11-10/
LOCATION:Nachbarschaftstreff Sigena\, Johannisstraße 167\, Nürnberg\, 90419
CATEGORIES:Offenes Singen
END:VEVENT
BEGIN:VEVENT
DTSTART;TZID=Europe/Berlin:20251110T190000
DTEND;TZID=Europe/Berlin:20251110T220000
DTSTAMP:20260420T183338
CREATED:20250713T201224Z
LAST-MODIFIED:20260315T184037Z
UID:10001133-1762801200-1762812000@www.volksmusik-mittelfranken.de
SUMMARY:Volkstanzübungsabend
DESCRIPTION:Anfänger:innen von 19-20h (und gerne noch bleiben zum „Reinschnuppern“)\nFortgeschrittene von 20-22h \nVeranstalter: Kulturgemeinschaft der Hohenbrunner Vereine\nNäheres: Christa Nürnberger\, Tel. 09154/8294
URL:https://www.volksmusik-mittelfranken.de/event/volkstanzuebungsabend-9/2025-11-10/
LOCATION:Markgrafensaal Hohenstadt\, Happurger Str. 11\, Pommelsbrunn-Hohenstadt\, 91224
CATEGORIES:Tanz
ORGANIZER;CN="Kulturgemeinschaft der Hohenst%C3%A4dter Vereine":MAILTO:info@kulturverein-hohenstadt.de
END:VEVENT
BEGIN:VEVENT
DTSTART;TZID=Europe/Berlin:20251111T190000
DTEND;TZID=Europe/Berlin:20251111T190000
DTSTAMP:20260420T183338
CREATED:20241028T122942Z
LAST-MODIFIED:20241029T223905Z
UID:10000973-1762887600-1762887600@www.volksmusik-mittelfranken.de
SUMMARY:Offenes Wirtshaussingen
DESCRIPTION:Musikalische Begleitung: Windsheimer Wirtshausmusikanten (Akkordeon & Gitarre) \nOrganisator: Jürgen Müller
URL:https://www.volksmusik-mittelfranken.de/event/offenes-wirtshaussingen/2025-11-11/
LOCATION:Schützenheim\, Am Schießwasen 2\, Bad Windsheim\, 91438
CATEGORIES:Wirtshaussingen
ORGANIZER;CN="Windsheimer Wirtshausmusikanten":MAILTO:j.mueller.59@web.de
END:VEVENT
BEGIN:VEVENT
DTSTART;TZID=Europe/Berlin:20251112T190000
DTEND;TZID=Europe/Berlin:20251112T200000
DTSTAMP:20260420T183338
CREATED:20250808T201735Z
LAST-MODIFIED:20251028T164709Z
UID:10001179-1762974000-1762977600@www.volksmusik-mittelfranken.de
SUMMARY:Tanzen für Fortgeschrittene
DESCRIPTION:Tanzleitung: Steffi Zachmeier \nVeranstalter: Volkstanzgruppe Kirchfembach-Puschendorf \nNäheres: Körber\, Rudolf
URL:https://www.volksmusik-mittelfranken.de/event/tanzen-fuer-fortgeschrittene/2025-11-12/
LOCATION:Gemeindesaal Hagenbüchach\, Hauptstr. 3\, Hagenbüchach\, 91469
CATEGORIES:Tanz
ORGANIZER;CN="Volkstanzgruppe Kirchfembach-Puschendorf":MAILTO:koerber.rudi@gmail.com
END:VEVENT
BEGIN:VEVENT
DTSTART;TZID=Europe/Berlin:20251112T200000
DTEND;TZID=Europe/Berlin:20251112T200000
DTSTAMP:20260420T183338
CREATED:20231103T114052Z
LAST-MODIFIED:20240812T092947Z
UID:10000284-1762977600-1762977600@www.volksmusik-mittelfranken.de
SUMMARY:Sänger- und Musikanten-Stammtisch
DESCRIPTION:Musik: Gebrüder Ottenschläger und Gäste \nAnmeldung und Reservierung empfohlen
URL:https://www.volksmusik-mittelfranken.de/event/saenger-und-musikanten-stammtisch/2025-11-12/
LOCATION:Gasthaus zum Schellenberg\, Bergstraße 14\, Kleinsendelbach-Schellenberg\, 91077
CATEGORIES:Musikantenstammtisch
ORGANIZER;CN="Gebr%C3%BCder Ottenschl%C3%A4ger":MAILTO:Gebr.Ottenschlaeger@web.de
END:VEVENT
BEGIN:VEVENT
DTSTART;TZID=Europe/Berlin:20251113T140000
DTEND;TZID=Europe/Berlin:20251113T140000
DTSTAMP:20260420T183338
CREATED:20250127T105655Z
LAST-MODIFIED:20250127T202031Z
UID:10001054-1763042400-1763042400@www.volksmusik-mittelfranken.de
SUMMARY:Fränkisches Volksliedersinga
DESCRIPTION:Fränkisches Volksliedersinga\nSingleitung: Dietmar Klenk
URL:https://www.volksmusik-mittelfranken.de/event/fraenkisches-volksliedersinga/2025-11-13/
LOCATION:Landgasthof zum Angerwirt\, Am Anger 1\, Ornbau / Gern\, 91737
CATEGORIES:Offenes Singen
ORGANIZER;CN="Dietmar Klenk":MAILTO:musikus-dietmar-klenk@t-online.de
END:VEVENT
BEGIN:VEVENT
DTSTART;TZID=Europe/Berlin:20251113T180000
DTEND;TZID=Europe/Berlin:20251113T180000
DTSTAMP:20260420T183338
CREATED:20250513T181527Z
LAST-MODIFIED:20251123T195357Z
UID:10001162-1763056800-1763056800@www.volksmusik-mittelfranken.de
SUMMARY:Volksmusik-Stammtisch
DESCRIPTION:Dabeisein – Mitspielen – Mitsingen
URL:https://www.volksmusik-mittelfranken.de/event/volksmusik-stammtisch/2025-11-13/
LOCATION:Bürgerzentrum Villa Leon\, Philipp-Koerber-Weg 1\, Nürnberg\, 90349\, Deutschland
CATEGORIES:Musikantenstammtisch
END:VEVENT
BEGIN:VEVENT
DTSTART;TZID=Europe/Berlin:20251114T160000
DTEND;TZID=Europe/Berlin:20251114T180000
DTSTAMP:20260420T183338
CREATED:20230827T201212Z
LAST-MODIFIED:20240915T180115Z
UID:10000801-1763136000-1763143200@www.volksmusik-mittelfranken.de
SUMMARY:Geselliger volksmusikalischer Stammtisch
DESCRIPTION:Volksmusikalisch umrahmter „Freitagsstammtisch“
URL:https://www.volksmusik-mittelfranken.de/event/geselliger-volksmusikalischer-stammtisch-3/2025-11-14/
LOCATION:SV Sportgaststätte\, Schlössleinsgasse 9\, Nürnberg-Reichelsdorf\, 90453
CATEGORIES:Sonstige
ORGANIZER;CN="Volkstanzkreis N%C3%BCrnberg-Eibach":MAILTO:hermanndaum@web.de
END:VEVENT
BEGIN:VEVENT
DTSTART;TZID=Europe/Berlin:20251114T190000
DTEND;TZID=Europe/Berlin:20251114T190000
DTSTAMP:20260420T183338
CREATED:20250505T223212Z
LAST-MODIFIED:20250808T202452Z
UID:10001164-1763146800-1763146800@www.volksmusik-mittelfranken.de
SUMMARY:Wirtshaussingen
DESCRIPTION:Wirtshaussingen\nSingleitung: Robert Treuheit
URL:https://www.volksmusik-mittelfranken.de/event/wirtshaussingen-9/2025-11-14/
LOCATION:Brennereistuben\, Bergstr. 21A\, Wilhelmsdorf\, 91489
CATEGORIES:Offenes Singen,Wirtshaussingen
ORGANIZER;CN="Wirtshauss%C3%A4nger Robert Treuheit":MAILTO:schnurri-robert@gmx.de
END:VEVENT
BEGIN:VEVENT
DTSTART;TZID=Europe/Berlin:20251114T190000
DTEND;TZID=Europe/Berlin:20251114T190000
DTSTAMP:20260420T183338
CREATED:20251123T194950Z
LAST-MODIFIED:20251123T201740Z
UID:10001184-1763146800-1763146800@www.volksmusik-mittelfranken.de
SUMMARY:Wirtshaussingen
DESCRIPTION:Singleitung: Robert Treuheit
URL:https://www.volksmusik-mittelfranken.de/event/wirtshaussingen-16/2025-11-14/
LOCATION:Brennereistuben\, Bergstr. 21A\, Wilhelmsdorf\, 91489
CATEGORIES:Offenes Singen,Wirtshaussingen
ORGANIZER;CN="Wirtshauss%C3%A4nger Robert Treuheit":MAILTO:schnurri-robert@gmx.de
END:VEVENT
BEGIN:VEVENT
DTSTART;TZID=Europe/Berlin:20251114T193000
DTEND;TZID=Europe/Berlin:20251114T193000
DTSTAMP:20260420T183338
CREATED:20250808T202651Z
LAST-MODIFIED:20250808T202651Z
UID:10001165-1763148600-1763148600@www.volksmusik-mittelfranken.de
SUMMARY:Fränkische Singstund: Auf zur Weihnacht
DESCRIPTION:V: Heimat- und Kulturverein Stein und Bay. Landesverein für Heimatpflege \nSingleitung: Clemens Schellenberger \nMail: info@heimat-kulturverein-stein.de\, www.heimat-kulturverein-stein.de
URL:https://www.volksmusik-mittelfranken.de/event/fraenkische-singstund-auf-zur-weihnacht/
LOCATION:Heimat- und Kulturverein Stein\, Mühlstraße 1\, Stein\, 90547
ORGANIZER;CN="Heimat- und Kulturverein Stein":MAILTO:info@heimat-kulturverein-stein.de
END:VEVENT
BEGIN:VEVENT
DTSTART;TZID=Europe/Berlin:20251115T190000
DTEND;TZID=Europe/Berlin:20251115T190000
DTSTAMP:20260420T183338
CREATED:20250422T074410Z
LAST-MODIFIED:20250422T090012Z
UID:10000142-1763233200-1763233200@www.volksmusik-mittelfranken.de
SUMMARY:Tanzabend
DESCRIPTION:Ein Tanzabend mit Tänzen aus Franken und anderswo – auch als Abschlusstanz zum vorherigen Tanzkurs in Kirchfembach. Veranstalterin: Volkstanzgruppe Kirchfembach-Puschendorf. Anmeldung ratsam bei: Körber\, Tel. 09101-990392 \nEs musizieren zum Tanz: die fränkischen Straßenmusikanten\nHans & Lissy Heilgenthal\, Heinrich Filsner\, Steffi Zachmeier \n  \n 
URL:https://www.volksmusik-mittelfranken.de/event/tanzabend/
LOCATION:Gasthof Grüner Baum (Schmotzer)\, Dorfstraße 19\, Puschendorf\, 90617
CATEGORIES:Tanz
ORGANIZER;CN="Volkstanzgruppe Kirchfembach-Puschendorf":MAILTO:koerber.rudi@gmail.com
END:VEVENT
BEGIN:VEVENT
DTSTART;TZID=Europe/Berlin:20251115T193000
DTEND;TZID=Europe/Berlin:20251115T193000
DTSTAMP:20260420T183338
CREATED:20250808T203000Z
LAST-MODIFIED:20250808T203000Z
UID:10001166-1763235000-1763235000@www.volksmusik-mittelfranken.de
SUMMARY:Fränkische Musik mit der Würze des Balkans und Harmonien des Jazz
DESCRIPTION:Musik: Kilian\, Kolonat und TonArt\nNäheres: info@schwarzenberger.schlosskonzerte.de\, www.schwarzenberger-schlosskonzerte.de
URL:https://www.volksmusik-mittelfranken.de/event/fraenkische-musik-mit-der-wuerze-des-balkans-und-harmonien-des-jazz/
LOCATION:Schloss Schwarzenberg\, Scheinfeld\, 91443
CATEGORIES:Konzert
END:VEVENT
BEGIN:VEVENT
DTSTART;TZID=Europe/Berlin:20251116T190000
DTEND;TZID=Europe/Berlin:20251116T190000
DTSTAMP:20260420T183338
CREATED:20251103T110441Z
LAST-MODIFIED:20251103T110441Z
UID:10001181-1763319600-1763319600@www.volksmusik-mittelfranken.de
SUMMARY:"Als Adam grub und Eva spann.." - 500 Jahre Bauernkriege
DESCRIPTION:»Als Adam grub und Eva spann\, wo war denn da der Edelmann?« So lautete die wohl bekannteste Parole aus der Zeit der Bauernkriege\, die vor 500 Jahren weite Teile des Landes überzogen und die auch hier in Franken mit aller Härte ausgetragen wurden. \nBauernklagelieder\, Spottlieder und martialische Gesänge\, aber auch einzelne erläuternde Texte vermitteln ein Bild dieser wilden Zeiten vor 500 Jahren. Ulrike Bergmann erzählt\, rezitiert und singt zur Drehleier.
URL:https://www.volksmusik-mittelfranken.de/event/als-adam-grub-und-eva-spann-500-jahre-bauernkriege/
LOCATION:Städtischer Musiksaal Rothenburg\, Kirchplatz 12\, Rothenburg\, 91541
CATEGORIES:Konzert
END:VEVENT
BEGIN:VEVENT
DTSTART;TZID=Europe/Berlin:20251119T200000
DTEND;TZID=Europe/Berlin:20251119T200000
DTSTAMP:20260420T183338
CREATED:20231103T114052Z
LAST-MODIFIED:20240812T092947Z
UID:10000285-1763582400-1763582400@www.volksmusik-mittelfranken.de
SUMMARY:Sänger- und Musikanten-Stammtisch
DESCRIPTION:Musik: Gebrüder Ottenschläger und Gäste \nAnmeldung und Reservierung empfohlen
URL:https://www.volksmusik-mittelfranken.de/event/saenger-und-musikanten-stammtisch/2025-11-19/
LOCATION:Gasthaus zum Schellenberg\, Bergstraße 14\, Kleinsendelbach-Schellenberg\, 91077
CATEGORIES:Musikantenstammtisch
ORGANIZER;CN="Gebr%C3%BCder Ottenschl%C3%A4ger":MAILTO:Gebr.Ottenschlaeger@web.de
END:VEVENT
BEGIN:VEVENT
DTSTART;TZID=Europe/Berlin:20251122T190000
DTEND;TZID=Europe/Berlin:20251122T235900
DTSTAMP:20260420T183339
CREATED:20250728T085036Z
LAST-MODIFIED:20251020T191915Z
UID:10000176-1763838000-1763855940@www.volksmusik-mittelfranken.de
SUMMARY:Kathreintanz
DESCRIPTION:Es musizieren zum Tanz die Alfelder Musikanten. Tanzleitung: Christine Maul und Herbert Bauer
URL:https://www.volksmusik-mittelfranken.de/event/kathreintanz-2/
LOCATION:Markgrafensaal Hohenstadt\, Happurger Str. 11\, Pommelsbrunn-Hohenstadt\, 91224
CATEGORIES:Tanz
ORGANIZER;CN="Kulturgemeinschaft der Hohenst%C3%A4dter Vereine":MAILTO:info@kulturverein-hohenstadt.de
END:VEVENT
BEGIN:VEVENT
DTSTART;TZID=Europe/Berlin:20251123T173000
DTEND;TZID=Europe/Berlin:20251123T173000
DTSTAMP:20260420T183339
CREATED:20251123T193748Z
LAST-MODIFIED:20251123T194040Z
UID:10001186-1763919000-1763919000@www.volksmusik-mittelfranken.de
SUMMARY:Schwabacher Krippenspiel
DESCRIPTION:Veranstalter: Werbe- und Stadtgemeinschaft Schwabach \nVon und mit Sven Bach \n 
URL:https://www.volksmusik-mittelfranken.de/event/schwabacher-krippenspiel/
LOCATION:Das Cafe\, Königsplatz 4\, Schwabach\, 91126
CATEGORIES:Advents- / Weihnachts-Veranstaltung
END:VEVENT
BEGIN:VEVENT
DTSTART;TZID=Europe/Berlin:20251126T190000
DTEND;TZID=Europe/Berlin:20251126T220000
DTSTAMP:20260420T183339
CREATED:20241111T211923Z
LAST-MODIFIED:20250701T163334Z
UID:10001027-1764183600-1764194400@www.volksmusik-mittelfranken.de
SUMMARY:Fränkisch Tanzen und mehr
DESCRIPTION:Bolga\, Walzer\, Hobberer\, Dreher und mehr. Karin Bümlein\, Christine Maul und Steffi Zachmeier leiten an zu Rund- und Figurentänzen\, mal paarweise\, mal in Mehrpaaraufstellung. \nDie erste Stunde von 19-20h eignet sich mit Basics und Grundschritten besonders für Neulinge und Ungeübte\, ab 20:15h werden Rundtanzkenntnisse vorausgesetzt und es geht kunterbunt durch Franken und andere tänzerische Welten. \n-> Die Tänze werden angeleitet. Die Abende bauen nicht aufeinander auf. Die beiden Einheiten können auch separat besucht werden. Anmeldung nicht erforderlich. Tanzpartner:in findet sich ggf. vor Ort.
URL:https://www.volksmusik-mittelfranken.de/event/fraenkisch-tanzen-und-mehr-2/2025-11-26/
LOCATION:Kulturwerkstatt auf AEG\, Fürther Str. 244d\, Nürnberg\, 90429
CATEGORIES:Tanz
ORGANIZER;CN="Steffi Zachmeier":MAILTO:info@zachmeier.de
END:VEVENT
BEGIN:VEVENT
DTSTART;TZID=Europe/Berlin:20251126T200000
DTEND;TZID=Europe/Berlin:20251126T200000
DTSTAMP:20260420T183339
CREATED:20231103T114052Z
LAST-MODIFIED:20240812T092947Z
UID:10000286-1764187200-1764187200@www.volksmusik-mittelfranken.de
SUMMARY:Sänger- und Musikanten-Stammtisch
DESCRIPTION:Musik: Gebrüder Ottenschläger und Gäste \nAnmeldung und Reservierung empfohlen
URL:https://www.volksmusik-mittelfranken.de/event/saenger-und-musikanten-stammtisch/2025-11-26/
LOCATION:Gasthaus zum Schellenberg\, Bergstraße 14\, Kleinsendelbach-Schellenberg\, 91077
CATEGORIES:Musikantenstammtisch
ORGANIZER;CN="Gebr%C3%BCder Ottenschl%C3%A4ger":MAILTO:Gebr.Ottenschlaeger@web.de
END:VEVENT
BEGIN:VEVENT
DTSTART;TZID=Europe/Berlin:20251127T200000
DTEND;TZID=Europe/Berlin:20251127T200000
DTSTAMP:20260420T183339
CREATED:20250216T120532Z
LAST-MODIFIED:20250216T120532Z
UID:10001076-1764273600-1764273600@www.volksmusik-mittelfranken.de
SUMMARY:Das Gegenteil von Rock'n'Roll
DESCRIPTION:Mit ihrer wilden Mischung aus virtuoser Volksmusik\, unbändigem Rock’n’Roll und entfesseltem Polka-Pop fackeln die Jungs von Gankino Circus ein musikalisches Feuerwerk ab – und zwar ohne Netz und doppeltem Boden!
URL:https://www.volksmusik-mittelfranken.de/event/das-gegenteil-von-rocknroll-3/
LOCATION:Kulturzentrum E-Werk\, Fuchsenwiese 1\, Erlangen\, 91054\, Deutschland
CATEGORIES:Konzert
END:VEVENT
BEGIN:VEVENT
DTSTART;TZID=Europe/Berlin:20251128T200000
DTEND;TZID=Europe/Berlin:20251128T200000
DTSTAMP:20260420T183339
CREATED:20250216T120703Z
LAST-MODIFIED:20250216T120703Z
UID:10001077-1764360000-1764360000@www.volksmusik-mittelfranken.de
SUMMARY:Das Gegenteil von Rock'n'Roll
DESCRIPTION:Mit ihrer wilden Mischung aus virtuoser Volksmusik\, unbändigem Rock’n’Roll und entfesseltem Polka-Pop fackeln die Jungs von Gankino Circus ein musikalisches Feuerwerk ab – und zwar ohne Netz und doppeltem Boden!
URL:https://www.volksmusik-mittelfranken.de/event/das-gegenteil-von-rocknroll-4/
LOCATION:Landgasthof am Forst\, Wehlmäusel 7\, Feuchtwangen\, 91555\, Deutschland
CATEGORIES:Konzert
ORGANIZER;CN="Wehlm%C3%A4usler Forstkultur":MAILTO:info@amforst.com
END:VEVENT
BEGIN:VEVENT
DTSTART;TZID=Europe/Berlin:20251129T200000
DTEND;TZID=Europe/Berlin:20251129T235900
DTSTAMP:20260420T183339
CREATED:20250809T203720Z
LAST-MODIFIED:20250810T183846Z
UID:10000141-1764446400-1764460740@www.volksmusik-mittelfranken.de
SUMMARY:Kathreintanz
DESCRIPTION:  \n 
URL:https://www.volksmusik-mittelfranken.de/event/kathreintanz/
LOCATION:Bürgerhaus\, Kriegenbrunner Str. 25\, Frauenaurach-Kriegenbrunn\, 91056
CATEGORIES:Tanz
ORGANIZER;CN="Volkstanzfreunde Frauenaurach":MAILTO:donhauser.frauenaurach@freenet.de
END:VEVENT
END:VCALENDAR