BEGIN:VCALENDAR
VERSION:2.0
PRODID:-//Arbeitsgemeinschaft Fränkische Volksmusik Bezirk Mittelfranken - ECPv6.15.16//NONSGML v1.0//EN
CALSCALE:GREGORIAN
METHOD:PUBLISH
X-WR-CALNAME:Arbeitsgemeinschaft Fränkische Volksmusik Bezirk Mittelfranken
X-ORIGINAL-URL:https://www.volksmusik-mittelfranken.de
X-WR-CALDESC:Veranstaltungen für Arbeitsgemeinschaft Fränkische Volksmusik Bezirk Mittelfranken
REFRESH-INTERVAL;VALUE=DURATION:PT1H
X-Robots-Tag:noindex
X-PUBLISHED-TTL:PT1H
BEGIN:VTIMEZONE
TZID:Europe/Berlin
BEGIN:DAYLIGHT
TZOFFSETFROM:+0100
TZOFFSETTO:+0200
TZNAME:CEST
DTSTART:20240331T010000
END:DAYLIGHT
BEGIN:STANDARD
TZOFFSETFROM:+0200
TZOFFSETTO:+0100
TZNAME:CET
DTSTART:20241027T010000
END:STANDARD
BEGIN:DAYLIGHT
TZOFFSETFROM:+0100
TZOFFSETTO:+0200
TZNAME:CEST
DTSTART:20250330T010000
END:DAYLIGHT
BEGIN:STANDARD
TZOFFSETFROM:+0200
TZOFFSETTO:+0100
TZNAME:CET
DTSTART:20251026T010000
END:STANDARD
BEGIN:DAYLIGHT
TZOFFSETFROM:+0100
TZOFFSETTO:+0200
TZNAME:CEST
DTSTART:20260329T010000
END:DAYLIGHT
BEGIN:STANDARD
TZOFFSETFROM:+0200
TZOFFSETTO:+0100
TZNAME:CET
DTSTART:20261025T010000
END:STANDARD
END:VTIMEZONE
BEGIN:VEVENT
DTSTART;TZID=Europe/Berlin:20251203T200000
DTEND;TZID=Europe/Berlin:20251203T200000
DTSTAMP:20260420T151524
CREATED:20231103T114052Z
LAST-MODIFIED:20240812T092947Z
UID:10000287-1764792000-1764792000@www.volksmusik-mittelfranken.de
SUMMARY:Sänger- und Musikanten-Stammtisch
DESCRIPTION:Musik: Gebrüder Ottenschläger und Gäste \nAnmeldung und Reservierung empfohlen
URL:https://www.volksmusik-mittelfranken.de/event/saenger-und-musikanten-stammtisch/2025-12-03/
LOCATION:Gasthaus zum Schellenberg\, Bergstraße 14\, Kleinsendelbach-Schellenberg\, 91077
CATEGORIES:Musikantenstammtisch
ORGANIZER;CN="Gebr%C3%BCder Ottenschl%C3%A4ger":MAILTO:Gebr.Ottenschlaeger@web.de
END:VEVENT
BEGIN:VEVENT
DTSTART;TZID=Europe/Berlin:20251204T180000
DTEND;TZID=Europe/Berlin:20251204T180000
DTSTAMP:20260420T151524
CREATED:20250513T181527Z
LAST-MODIFIED:20251123T195357Z
UID:10001190-1764871200-1764871200@www.volksmusik-mittelfranken.de
SUMMARY:Volksmusik-Stammtisch
DESCRIPTION:Dabeisein – Mitspielen – Mitsingen
URL:https://www.volksmusik-mittelfranken.de/event/volksmusik-stammtisch/2025-12-04/
LOCATION:Bürgerzentrum Villa Leon\, Philipp-Koerber-Weg 1\, Nürnberg\, 90349\, Deutschland
CATEGORIES:Musikantenstammtisch
END:VEVENT
BEGIN:VEVENT
DTSTART;TZID=Europe/Berlin:20251205T190000
DTEND;TZID=Europe/Berlin:20251205T190000
DTSTAMP:20260420T151524
CREATED:20240724T135724Z
LAST-MODIFIED:20251123T195634Z
UID:10001191-1764961200-1764961200@www.volksmusik-mittelfranken.de
SUMMARY:Wirtshaussingen
DESCRIPTION:Singleitung und Näheres: Robert Treuheit \nwww.robertundhans.de | 09107/337 | schnurri-robert@gmx.de \n 
URL:https://www.volksmusik-mittelfranken.de/event/wirtshaussingen-3/2025-12-05/
LOCATION:Gasthaus Kirchberger\, Merzbach 4\, Trautskirchen\, 90619
CATEGORIES:Wirtshaussingen
ORGANIZER;CN="Wirtshauss%C3%A4nger Robert Treuheit":MAILTO:schnurri-robert@gmx.de
END:VEVENT
BEGIN:VEVENT
DTSTART;TZID=Europe/Berlin:20251205T190000
DTEND;TZID=Europe/Berlin:20251205T190000
DTSTAMP:20260420T151524
CREATED:20251124T183202Z
LAST-MODIFIED:20251124T183202Z
UID:10001231-1764961200-1764961200@www.volksmusik-mittelfranken.de
SUMMARY:Zirndorfer Advent
DESCRIPTION:Musik: Leyher Stubenmusik\, SingGsang\, Zirndorfer Blechspielzeug und Sonja Binder (Orgel) \nSprecherin: Maria Bauer \nVeranstalter und Infos: ARGE Fränk. Volksmusik und Pfarrgemeinde St. Josef | Werner Bauer: bauerpost@outlook.de
URL:https://www.volksmusik-mittelfranken.de/event/zirndorfer-advent-2/
LOCATION:Kirche St. Josef\, Zirndorf\, 90513
END:VEVENT
BEGIN:VEVENT
DTSTART;TZID=Europe/Berlin:20251206T190000
DTEND;TZID=Europe/Berlin:20251206T190000
DTSTAMP:20260420T151524
CREATED:20251123T194316Z
LAST-MODIFIED:20251123T194316Z
UID:10001187-1765047600-1765047600@www.volksmusik-mittelfranken.de
SUMMARY:Fränkische Weihnacht
DESCRIPTION:Lieder und Musik zur Advents- und Weihnachtszeit mit Texten in fränkischer Mundart. \nMitwirkende: Duo Leipold\, Sola Musica\, Steffis kleine Zachmusik \nSprecherin: Steffi Zachmeier \nEintritt frei\, Spenden erbeten.
URL:https://www.volksmusik-mittelfranken.de/event/fraenkische-weihnacht-23/
LOCATION:Evangelische Christuskirche\, Frühmeßholzstraße 1\, Neunkirchen am Sand\, 91233
CATEGORIES:Advents- / Weihnachts-Veranstaltung
END:VEVENT
BEGIN:VEVENT
DTSTART;TZID=Europe/Berlin:20251207T153000
DTEND;TZID=Europe/Berlin:20251207T170000
DTSTAMP:20260420T151524
CREATED:20221206T224204Z
LAST-MODIFIED:20251123T195812Z
UID:10000468-1765121400-1765126800@www.volksmusik-mittelfranken.de
SUMMARY:Musikantenstammtisch "Eigenes Heim"
DESCRIPTION:Der Musikantenstammtisch „Eigenes Heim“ trifft sich jeden 1. Sonntag im Monat in der Gaststätte „Wilhelmshöhe“ zum fröhlichen Musizieren und Beisammensein. Zum Musikantenstammtisch sind alle eingeladen\, die gerne handgemachte Musik spielen. Freunde und Gäste sind ebenfalls herzlich willkommen. \nRückfragen an: Peter Dummert 0911-736985
URL:https://www.volksmusik-mittelfranken.de/event/musikantenstammtisch-eigenes-heim-2/2025-12-07/
LOCATION:Gaststätte Wilhelmshöhe\, Wilhelmstr. 21\, Fürth\, 90766
CATEGORIES:Musikantenstammtisch
END:VEVENT
BEGIN:VEVENT
DTSTART;TZID=Europe/Berlin:20251207T160000
DTEND;TZID=Europe/Berlin:20251207T160000
DTSTAMP:20260420T151524
CREATED:20251124T183650Z
LAST-MODIFIED:20251124T183650Z
UID:10001233-1765123200-1765123200@www.volksmusik-mittelfranken.de
SUMMARY:Fränkische Weihnacht
DESCRIPTION:Musik: Trio Collegio\, Maierbachsängerinnen\, Trio Saitwärts und die Fränkischen\nSprecher: Klaus Krügel
URL:https://www.volksmusik-mittelfranken.de/event/fraenkische-weihnacht-24/
LOCATION:Kirche St. Laurentius\, Nürnberg-Großgründlach\, 90427
ORGANIZER;CN="Vorstadtverein Alt-Gr%C3%BCndlach":MAILTO:info@alt-gruendlach.de
END:VEVENT
BEGIN:VEVENT
DTSTART;TZID=Europe/Berlin:20251207T170000
DTEND;TZID=Europe/Berlin:20251207T170000
DTSTAMP:20260420T151524
CREATED:20251124T183818Z
LAST-MODIFIED:20251124T183818Z
UID:10001234-1765126800-1765126800@www.volksmusik-mittelfranken.de
SUMMARY:Weihnachtssingen für alle
DESCRIPTION:mit David Saam\, Res Richter und Band.
URL:https://www.volksmusik-mittelfranken.de/event/weihnachtssingen-fuer-alle/
LOCATION:Kulturzentrum E-Werk\, Fuchsenwiese 1\, Erlangen\, 91054\, Deutschland
CATEGORIES:Singen
END:VEVENT
BEGIN:VEVENT
DTSTART;TZID=Europe/Berlin:20251207T180000
DTEND;TZID=Europe/Berlin:20251207T180000
DTSTAMP:20260420T151524
CREATED:20251124T183427Z
LAST-MODIFIED:20251124T183427Z
UID:10001232-1765130400-1765130400@www.volksmusik-mittelfranken.de
SUMMARY:Mudartkabarett "Weihnacht'n - un sunsd nu wos!"
DESCRIPTION:Mit Sven Bach\nVorverkauf: Galerie Gaswerk | www.galerie-gaswerk.de
URL:https://www.volksmusik-mittelfranken.de/event/mudartkabarett-weihnachtn-un-sunsd-nu-wos/
LOCATION:Kleinkunstbühne Galerie Gaswerk\, Nördliche Ringstr. 9\, Schwabach\, 91126\, Deutschland
CATEGORIES:Kabarett
END:VEVENT
BEGIN:VEVENT
DTSTART;TZID=Europe/Berlin:20251208T190000
DTEND;TZID=Europe/Berlin:20251208T220000
DTSTAMP:20260420T151524
CREATED:20250713T201224Z
LAST-MODIFIED:20260315T184037Z
UID:10001134-1765220400-1765231200@www.volksmusik-mittelfranken.de
SUMMARY:Volkstanzübungsabend
DESCRIPTION:Anfänger:innen von 19-20h (und gerne noch bleiben zum „Reinschnuppern“)\nFortgeschrittene von 20-22h \nVeranstalter: Kulturgemeinschaft der Hohenbrunner Vereine\nNäheres: Christa Nürnberger\, Tel. 09154/8294
URL:https://www.volksmusik-mittelfranken.de/event/volkstanzuebungsabend-9/2025-12-08/
LOCATION:Markgrafensaal Hohenstadt\, Happurger Str. 11\, Pommelsbrunn-Hohenstadt\, 91224
CATEGORIES:Tanz
ORGANIZER;CN="Kulturgemeinschaft der Hohenst%C3%A4dter Vereine":MAILTO:info@kulturverein-hohenstadt.de
END:VEVENT
BEGIN:VEVENT
DTSTART;TZID=Europe/Berlin:20251210T190000
DTEND;TZID=Europe/Berlin:20251210T190000
DTSTAMP:20260420T151524
CREATED:20251130T131656Z
LAST-MODIFIED:20251130T131656Z
UID:10001239-1765393200-1765393200@www.volksmusik-mittelfranken.de
SUMMARY:Ein abendlicher Advent
DESCRIPTION:mit Musik\, Gesang und Mundart. \nDie Weihnachtsgeschichte nach Lukas in Egerländer Mundart\, von Robert Ditz\, wird gelesen von Mundartsprechern der ArGe-Egerländer Gmoin in Franken. Die Singgruppe der Egerländer Gmoi Waldsassen umrahmt die Lesung mit Musik und Liedern.
URL:https://www.volksmusik-mittelfranken.de/event/ein-abendlicher-advent/
LOCATION:Museumscafe des Egerlandmuseums\, Marktredwitz
CATEGORIES:Advents- / Weihnachts-Veranstaltung
ORGANIZER;CN="Egerl%C3%A4nder Gmoi z' N%C3%BCrnberg":MAILTO:deistler@egerlaender.de
END:VEVENT
BEGIN:VEVENT
DTSTART;TZID=Europe/Berlin:20251210T200000
DTEND;TZID=Europe/Berlin:20251210T200000
DTSTAMP:20260420T151524
CREATED:20231103T114052Z
LAST-MODIFIED:20240812T092947Z
UID:10000288-1765396800-1765396800@www.volksmusik-mittelfranken.de
SUMMARY:Sänger- und Musikanten-Stammtisch
DESCRIPTION:Musik: Gebrüder Ottenschläger und Gäste \nAnmeldung und Reservierung empfohlen
URL:https://www.volksmusik-mittelfranken.de/event/saenger-und-musikanten-stammtisch/2025-12-10/
LOCATION:Gasthaus zum Schellenberg\, Bergstraße 14\, Kleinsendelbach-Schellenberg\, 91077
CATEGORIES:Musikantenstammtisch
ORGANIZER;CN="Gebr%C3%BCder Ottenschl%C3%A4ger":MAILTO:Gebr.Ottenschlaeger@web.de
END:VEVENT
BEGIN:VEVENT
DTSTART;TZID=Europe/Berlin:20251211T140000
DTEND;TZID=Europe/Berlin:20251211T140000
DTSTAMP:20260420T151524
CREATED:20250127T105655Z
LAST-MODIFIED:20250127T202031Z
UID:10001055-1765461600-1765461600@www.volksmusik-mittelfranken.de
SUMMARY:Fränkisches Volksliedersinga
DESCRIPTION:Fränkisches Volksliedersinga\nSingleitung: Dietmar Klenk
URL:https://www.volksmusik-mittelfranken.de/event/fraenkisches-volksliedersinga/2025-12-11/
LOCATION:Landgasthof zum Angerwirt\, Am Anger 1\, Ornbau / Gern\, 91737
CATEGORIES:Offenes Singen
ORGANIZER;CN="Dietmar Klenk":MAILTO:musikus-dietmar-klenk@t-online.de
END:VEVENT
BEGIN:VEVENT
DTSTART;TZID=Europe/Berlin:20251211T193000
DTEND;TZID=Europe/Berlin:20251211T193000
DTSTAMP:20260420T151524
CREATED:20251015T130139Z
LAST-MODIFIED:20251015T130139Z
UID:10001176-1765481400-1765481400@www.volksmusik-mittelfranken.de
SUMMARY:Adventskonzert
DESCRIPTION:Besinnliches und Heiteres zum Advent. Lieder\, Musik und Geschichten zur Vorweihnachtszeit. \nEs musiziert das Trio Califragilis: Rosemarie Seitz\, Franz Josef Schramm\, Steffi Zachmeier
URL:https://www.volksmusik-mittelfranken.de/event/adventskonzert-5/
LOCATION:Pellerschloss\, Pellergasse 3a\, Nürnberg\, 90475
CATEGORIES:Advents- / Weihnachts-Veranstaltung,Konzert
END:VEVENT
BEGIN:VEVENT
DTSTART;TZID=Europe/Berlin:20251212T160000
DTEND;TZID=Europe/Berlin:20251212T180000
DTSTAMP:20260420T151524
CREATED:20230827T201212Z
LAST-MODIFIED:20240915T180115Z
UID:10000802-1765555200-1765562400@www.volksmusik-mittelfranken.de
SUMMARY:Geselliger volksmusikalischer Stammtisch
DESCRIPTION:Volksmusikalisch umrahmter „Freitagsstammtisch“
URL:https://www.volksmusik-mittelfranken.de/event/geselliger-volksmusikalischer-stammtisch-3/2025-12-12/
LOCATION:SV Sportgaststätte\, Schlössleinsgasse 9\, Nürnberg-Reichelsdorf\, 90453
CATEGORIES:Sonstige
ORGANIZER;CN="Volkstanzkreis N%C3%BCrnberg-Eibach":MAILTO:hermanndaum@web.de
END:VEVENT
BEGIN:VEVENT
DTSTART;TZID=Europe/Berlin:20251212T193000
DTEND;TZID=Europe/Berlin:20251212T193000
DTSTAMP:20260420T151524
CREATED:20251207T190517Z
LAST-MODIFIED:20251207T190517Z
UID:10001240-1765567800-1765567800@www.volksmusik-mittelfranken.de
SUMMARY:Fränkische Weihnacht
DESCRIPTION:Mit der Leyher Stubenmusik\, SingGsang\, Höchstadter Volksmusik\nSprecherin: Maria Bauer \nNäheres: Georg Römer
URL:https://www.volksmusik-mittelfranken.de/event/fraenkische-weihnacht-27/
LOCATION:Stadtpfarrkirche St. Georg\, Kirchplatz 5\, Höchstadt/Aisch\, 91315
CATEGORIES:Advents- / Weihnachts-Veranstaltung
END:VEVENT
BEGIN:VEVENT
DTSTART;TZID=Europe/Berlin:20251213T180000
DTEND;TZID=Europe/Berlin:20251213T180000
DTSTAMP:20260420T151524
CREATED:20251124T184503Z
LAST-MODIFIED:20251124T184503Z
UID:10001235-1765648800-1765648800@www.volksmusik-mittelfranken.de
SUMMARY:Fränkische Weihnacht
DESCRIPTION:mit Leyher Stubenmusik\, Posaunenchor Hagenbüchach\, Singgemeinschaft Fembachtal \nNäheres: Rudolf Körber | koerber.rudi@gmail.com
URL:https://www.volksmusik-mittelfranken.de/event/fraenkische-weihnacht-26/
LOCATION:Kirche St. Veit\, Kirchfembach\, Höllenberg 1\, Langenzenn-Kirchfembach\, 90579
CATEGORIES:Advents- / Weihnachts-Veranstaltung,Konzert
ORGANIZER;CN="Volkstanzgruppe Kirchfembach-Puschendorf":MAILTO:koerber.rudi@gmail.com
END:VEVENT
BEGIN:VEVENT
DTSTART;TZID=Europe/Berlin:20251214T160000
DTEND;TZID=Europe/Berlin:20251214T160000
DTSTAMP:20260420T151524
CREATED:20251012T054554Z
LAST-MODIFIED:20251015T124250Z
UID:10000996-1765728000-1765728000@www.volksmusik-mittelfranken.de
SUMMARY:Fränkische Weihnacht
DESCRIPTION:Traditionelle Veranstaltung in Erlangen-Sieglitzhof \nMitwirkende: Blechquadrat\, Bad Windsheimer Sänger & Spielleut\, Steffis kleine Zachmusik\, Sprecher: Fritz Körber
URL:https://www.volksmusik-mittelfranken.de/event/fraenkische-weihnacht-18/
LOCATION:Kirche St. Theresia\, Sieglitzhofer Straße 25\, Erlangen\, 91054
CATEGORIES:Advents- / Weihnachts-Veranstaltung
END:VEVENT
BEGIN:VEVENT
DTSTART;TZID=Europe/Berlin:20251214T170000
DTEND;TZID=Europe/Berlin:20251214T170000
DTSTAMP:20260420T151524
CREATED:20251124T184857Z
LAST-MODIFIED:20251124T184857Z
UID:10001236-1765731600-1765731600@www.volksmusik-mittelfranken.de
SUMMARY:Adventskonzert
DESCRIPTION:mit Männerchor Liederkranz\, Duo Leipold\, Hubert Gröbel (Orgel) \nEintritt frei! \nInfos: www.liederkranz-poppenreuth.de
URL:https://www.volksmusik-mittelfranken.de/event/adventskonzert-6/
LOCATION:Kirche St. Peter und Paul\, Fürth-Poppenreuth\, 90765
CATEGORIES:Advents- / Weihnachts-Veranstaltung
ORGANIZER;CN="Liederkranz Poppenreuth":MAILTO:https://liederkranz-poppenreuth.de/
END:VEVENT
BEGIN:VEVENT
DTSTART;TZID=Europe/Berlin:20251217T200000
DTEND;TZID=Europe/Berlin:20251217T200000
DTSTAMP:20260420T151524
CREATED:20231103T114052Z
LAST-MODIFIED:20240812T092947Z
UID:10000289-1766001600-1766001600@www.volksmusik-mittelfranken.de
SUMMARY:Sänger- und Musikanten-Stammtisch
DESCRIPTION:Musik: Gebrüder Ottenschläger und Gäste \nAnmeldung und Reservierung empfohlen
URL:https://www.volksmusik-mittelfranken.de/event/saenger-und-musikanten-stammtisch/2025-12-17/
LOCATION:Gasthaus zum Schellenberg\, Bergstraße 14\, Kleinsendelbach-Schellenberg\, 91077
CATEGORIES:Musikantenstammtisch
ORGANIZER;CN="Gebr%C3%BCder Ottenschl%C3%A4ger":MAILTO:Gebr.Ottenschlaeger@web.de
END:VEVENT
BEGIN:VEVENT
DTSTART;TZID=Europe/Berlin:20251220T193000
DTEND;TZID=Europe/Berlin:20251220T193000
DTSTAMP:20260420T151524
CREATED:20251124T185236Z
LAST-MODIFIED:20251124T185236Z
UID:10001237-1766259000-1766259000@www.volksmusik-mittelfranken.de
SUMMARY:Adventskonzert "Ach du Fröhliche"
DESCRIPTION:mit der Leyher Stubenmusik \nInfos: rezeption@hotel-schwarzer-adler.de | https://www.hotel-schwarzer-adler.de/
URL:https://www.volksmusik-mittelfranken.de/event/adventskonzert-ach-du-froehliche/
LOCATION:Kulturpub Schwarzer Adler\, Herdegenplatz 1\, Erlangen-Frauenaurach\, 91056
CATEGORIES:Advents- / Weihnachts-Veranstaltung,Konzert
ORGANIZER;CN="Kulturpub Schwarzer Adler":MAILTO:kulturpub@hotel-schwarzer-adler.de
END:VEVENT
BEGIN:VEVENT
DTSTART;TZID=Europe/Berlin:20251224T200000
DTEND;TZID=Europe/Berlin:20251224T200000
DTSTAMP:20260420T151524
CREATED:20231103T114052Z
LAST-MODIFIED:20240812T092947Z
UID:10000290-1766606400-1766606400@www.volksmusik-mittelfranken.de
SUMMARY:Sänger- und Musikanten-Stammtisch
DESCRIPTION:Musik: Gebrüder Ottenschläger und Gäste \nAnmeldung und Reservierung empfohlen
URL:https://www.volksmusik-mittelfranken.de/event/saenger-und-musikanten-stammtisch/2025-12-24/
LOCATION:Gasthaus zum Schellenberg\, Bergstraße 14\, Kleinsendelbach-Schellenberg\, 91077
CATEGORIES:Musikantenstammtisch
ORGANIZER;CN="Gebr%C3%BCder Ottenschl%C3%A4ger":MAILTO:Gebr.Ottenschlaeger@web.de
END:VEVENT
BEGIN:VEVENT
DTSTART;TZID=Europe/Berlin:20251231T200000
DTEND;TZID=Europe/Berlin:20251231T200000
DTSTAMP:20260420T151524
CREATED:20231103T114052Z
LAST-MODIFIED:20240812T092947Z
UID:10000291-1767211200-1767211200@www.volksmusik-mittelfranken.de
SUMMARY:Sänger- und Musikanten-Stammtisch
DESCRIPTION:Musik: Gebrüder Ottenschläger und Gäste \nAnmeldung und Reservierung empfohlen
URL:https://www.volksmusik-mittelfranken.de/event/saenger-und-musikanten-stammtisch/2025-12-31/
LOCATION:Gasthaus zum Schellenberg\, Bergstraße 14\, Kleinsendelbach-Schellenberg\, 91077
CATEGORIES:Musikantenstammtisch
ORGANIZER;CN="Gebr%C3%BCder Ottenschl%C3%A4ger":MAILTO:Gebr.Ottenschlaeger@web.de
END:VEVENT
END:VCALENDAR