BEGIN:VCALENDAR
VERSION:2.0
PRODID:-//Arbeitsgemeinschaft Fränkische Volksmusik Bezirk Mittelfranken - ECPv6.15.16//NONSGML v1.0//EN
CALSCALE:GREGORIAN
METHOD:PUBLISH
X-ORIGINAL-URL:https://www.volksmusik-mittelfranken.de
X-WR-CALDESC:Veranstaltungen für Arbeitsgemeinschaft Fränkische Volksmusik Bezirk Mittelfranken
REFRESH-INTERVAL;VALUE=DURATION:PT1H
X-Robots-Tag:noindex
X-PUBLISHED-TTL:PT1H
BEGIN:VTIMEZONE
TZID:Europe/Berlin
BEGIN:DAYLIGHT
TZOFFSETFROM:+0100
TZOFFSETTO:+0200
TZNAME:CEST
DTSTART:20250330T010000
END:DAYLIGHT
BEGIN:STANDARD
TZOFFSETFROM:+0200
TZOFFSETTO:+0100
TZNAME:CET
DTSTART:20251026T010000
END:STANDARD
BEGIN:DAYLIGHT
TZOFFSETFROM:+0100
TZOFFSETTO:+0200
TZNAME:CEST
DTSTART:20260329T010000
END:DAYLIGHT
BEGIN:STANDARD
TZOFFSETFROM:+0200
TZOFFSETTO:+0100
TZNAME:CET
DTSTART:20261025T010000
END:STANDARD
BEGIN:DAYLIGHT
TZOFFSETFROM:+0100
TZOFFSETTO:+0200
TZNAME:CEST
DTSTART:20270328T010000
END:DAYLIGHT
BEGIN:STANDARD
TZOFFSETFROM:+0200
TZOFFSETTO:+0100
TZNAME:CET
DTSTART:20271031T010000
END:STANDARD
END:VTIMEZONE
BEGIN:VEVENT
DTSTART;TZID=Europe/Berlin:20260104T190000
DTEND;TZID=Europe/Berlin:20260104T190000
DTSTAMP:20260420T202401
CREATED:20250810T182023Z
LAST-MODIFIED:20250810T182023Z
UID:10001168-1767553200-1767553200@www.volksmusik-mittelfranken.de
SUMMARY:Frankenbänd und Helmut Haberkamm
DESCRIPTION:Die Frankenbänd spielt Lieder aus ihrer Heimat im „Allerschönsten Dialekt“\, ist fest verwurzelt „In derer Stadt derhamm“. Fränkisch im Text zum Wohlfühlen im Gemüt. Vom „Plätzla an der Bengerdz“ geht’s mit „Weißen Preßsack aus Kalchreuth“ bis zum „Wärd vo Färdd“. Die „Musikaner“ der Kult-Band begleiten mit ihrer aktuellen Saitenbesetzung einen wunderbaren Abend – mit viel Gefühl und ganz viel Franken. \nDazu passend liest Helmut Haberkamm an diesem Abend ausgewählte Gedichte und Geschichten aus seinen Büchern vor.\nIhm zuhören heißt: dem Leben an sich und vor Ort hier in Franken nachspüren\, mit Humor\, Nachdenklichkeit und einer mitreißenden Liebe zum fränkischen Dialekt.
URL:https://www.volksmusik-mittelfranken.de/event/frankenbaend-und-helmut-haberkamm/
LOCATION:Gutmann am Dutzendteich\, Bayernstr. 150\, Nürnberg\, 90478\, Deutschland
CATEGORIES:Konzert
END:VEVENT
END:VCALENDAR