BEGIN:VCALENDAR
VERSION:2.0
PRODID:-//Arbeitsgemeinschaft Fränkische Volksmusik Bezirk Mittelfranken - ECPv6.15.16//NONSGML v1.0//EN
CALSCALE:GREGORIAN
METHOD:PUBLISH
X-ORIGINAL-URL:https://www.volksmusik-mittelfranken.de
X-WR-CALDESC:Veranstaltungen für Arbeitsgemeinschaft Fränkische Volksmusik Bezirk Mittelfranken
REFRESH-INTERVAL;VALUE=DURATION:PT1H
X-Robots-Tag:noindex
X-PUBLISHED-TTL:PT1H
BEGIN:VTIMEZONE
TZID:Europe/Berlin
BEGIN:DAYLIGHT
TZOFFSETFROM:+0100
TZOFFSETTO:+0200
TZNAME:CEST
DTSTART:20210328T010000
END:DAYLIGHT
BEGIN:STANDARD
TZOFFSETFROM:+0200
TZOFFSETTO:+0100
TZNAME:CET
DTSTART:20211031T010000
END:STANDARD
BEGIN:DAYLIGHT
TZOFFSETFROM:+0100
TZOFFSETTO:+0200
TZNAME:CEST
DTSTART:20220327T010000
END:DAYLIGHT
BEGIN:STANDARD
TZOFFSETFROM:+0200
TZOFFSETTO:+0100
TZNAME:CET
DTSTART:20221030T010000
END:STANDARD
BEGIN:DAYLIGHT
TZOFFSETFROM:+0100
TZOFFSETTO:+0200
TZNAME:CEST
DTSTART:20230326T010000
END:DAYLIGHT
BEGIN:STANDARD
TZOFFSETFROM:+0200
TZOFFSETTO:+0100
TZNAME:CET
DTSTART:20231029T010000
END:STANDARD
BEGIN:DAYLIGHT
TZOFFSETFROM:+0100
TZOFFSETTO:+0200
TZNAME:CEST
DTSTART:20240331T010000
END:DAYLIGHT
BEGIN:STANDARD
TZOFFSETFROM:+0200
TZOFFSETTO:+0100
TZNAME:CET
DTSTART:20241027T010000
END:STANDARD
BEGIN:DAYLIGHT
TZOFFSETFROM:+0100
TZOFFSETTO:+0200
TZNAME:CEST
DTSTART:20250330T010000
END:DAYLIGHT
BEGIN:STANDARD
TZOFFSETFROM:+0200
TZOFFSETTO:+0100
TZNAME:CET
DTSTART:20251026T010000
END:STANDARD
BEGIN:DAYLIGHT
TZOFFSETFROM:+0100
TZOFFSETTO:+0200
TZNAME:CEST
DTSTART:20260329T010000
END:DAYLIGHT
BEGIN:STANDARD
TZOFFSETFROM:+0200
TZOFFSETTO:+0100
TZNAME:CET
DTSTART:20261025T010000
END:STANDARD
BEGIN:DAYLIGHT
TZOFFSETFROM:+0100
TZOFFSETTO:+0200
TZNAME:CEST
DTSTART:20270328T010000
END:DAYLIGHT
BEGIN:STANDARD
TZOFFSETFROM:+0200
TZOFFSETTO:+0100
TZNAME:CET
DTSTART:20271031T010000
END:STANDARD
END:VTIMEZONE
BEGIN:VEVENT
DTSTART;TZID=Europe/Berlin:20260328T140000
DTEND;TZID=Europe/Berlin:20260328T170000
DTSTAMP:20260420T153802
CREATED:20260322T170736Z
LAST-MODIFIED:20260322T185149Z
UID:10001087-1774706400-1774717200@www.volksmusik-mittelfranken.de
SUMMARY:Jahreshauptversammlung
DESCRIPTION:Jahreshauptversammlung 2026 der Arbeitsgemeinschaft Fränkische Volksmusik Bez. Mittelfranken e.V. \nFür Mitglieder und solche\, die es schnell noch werden möchten.
URL:https://www.volksmusik-mittelfranken.de/event/jahreshauptversammlung/
LOCATION:Weinstube Zeitinger\, Alte Fürther Straße 8\, Cadolzburg- Wachendorf\, 90556
CATEGORIES:Sonstige
END:VEVENT
BEGIN:VEVENT
DTSTART;TZID=Europe/Berlin:20251212T193000
DTEND;TZID=Europe/Berlin:20251212T193000
DTSTAMP:20260420T153802
CREATED:20251207T190517Z
LAST-MODIFIED:20251207T190517Z
UID:10001240-1765567800-1765567800@www.volksmusik-mittelfranken.de
SUMMARY:Fränkische Weihnacht
DESCRIPTION:Mit der Leyher Stubenmusik\, SingGsang\, Höchstadter Volksmusik\nSprecherin: Maria Bauer \nNäheres: Georg Römer
URL:https://www.volksmusik-mittelfranken.de/event/fraenkische-weihnacht-27/
LOCATION:Stadtpfarrkirche St. Georg\, Kirchplatz 5\, Höchstadt/Aisch\, 91315
CATEGORIES:Advents- / Weihnachts-Veranstaltung
END:VEVENT
BEGIN:VEVENT
DTSTART;TZID=Europe/Berlin:20251205T190000
DTEND;TZID=Europe/Berlin:20251205T190000
DTSTAMP:20260420T153802
CREATED:20251124T183202Z
LAST-MODIFIED:20251124T183202Z
UID:10001231-1764961200-1764961200@www.volksmusik-mittelfranken.de
SUMMARY:Zirndorfer Advent
DESCRIPTION:Musik: Leyher Stubenmusik\, SingGsang\, Zirndorfer Blechspielzeug und Sonja Binder (Orgel) \nSprecherin: Maria Bauer \nVeranstalter und Infos: ARGE Fränk. Volksmusik und Pfarrgemeinde St. Josef | Werner Bauer: bauerpost@outlook.de
URL:https://www.volksmusik-mittelfranken.de/event/zirndorfer-advent-2/
LOCATION:Kirche St. Josef\, Zirndorf\, 90513
END:VEVENT
BEGIN:VEVENT
DTSTART;TZID=Europe/Berlin:20250705T170000
DTEND;TZID=Europe/Berlin:20250705T200000
DTSTAMP:20260420T153802
CREATED:20250624T150735Z
LAST-MODIFIED:20250624T150846Z
UID:10001114-1751734800-1751745600@www.volksmusik-mittelfranken.de
SUMMARY:Regionaltreffen Nürnberger Land
DESCRIPTION:Nach den pandemiebedingt schwierigen Jahren\, insbesondere für Kulturschaffende\, möchte die Arbeitsgemeinschaft Fränkische Volksmusik Bezirk Mittelfranken das Volksmusik- und Vereinsleben wieder aktivieren und lädt zu einem offenen musikalischen Nachmittag ein. Vor allem die im Landkreis Nürnberger Land ansässigen Mitglieder und die angeschlossenen Sing-\, Musik- und Tanzgruppen sind zu diesem Regionaltreffen eingeladen\, aber auch Volksmusik-Fans\, die Lust auf einen geselligen Nachmittag haben\, sind willkommen. \nDie Veranstaltung bietet Raum für gemeinsames Singen\, Musizieren und Tanzen\, ebenso wie für Begegnung\, Vernetzung und den persönlichen Austausch. Auch die Möglichkeit zum informellen Gespräch mit der Vorstandschaft ist gegeben.\nZiel ist es\, neue Impulse zu setzen und das Miteinander in der regionalen Kulturszene zu stärken. Zum Musizieren angekündigt haben sich bereits der Burgthanner Bauernfünfer und das Zitherduo Hilbich\, außerdem soll gemeinsam gesungen werden.  \nUm die Planung sowie eine eventuelle Platzreservierung im Gasthaus zu erleichtern\, werden insbesondere Musikgruppen um eine zeitnahe Anmeldung per E-Mail oder Telefon gebeten. Ein spontaner Besuch ist ebenfalls möglich.  \nFür Anmeldung und Rückfragen steht die stellv. Vorstandin Steffi Zachmeier gerne zur Verfügung per Email: steffi.zachmeier@volksmusik-mittelfranken.de bzw. Tel. 0911-3667990
URL:https://www.volksmusik-mittelfranken.de/event/regionaltreffen-nuernberger-land/
LOCATION:Gaststätte Zum Ludwigskanal\, Dammweg 8\, Burgthann\, 90559
CATEGORIES:Musikantentreffen,Sonstige
END:VEVENT
BEGIN:VEVENT
DTSTART;TZID=Europe/Berlin:20250629T100000
DTEND;TZID=Europe/Berlin:20250629T180000
DTSTAMP:20260420T153802
CREATED:20250513T184940Z
LAST-MODIFIED:20250624T100437Z
UID:10001098-1751191200-1751220000@www.volksmusik-mittelfranken.de
SUMMARY:Tag der Volksmusik
DESCRIPTION:Über 30 fränkische Volksmusik- und Gesangsgruppen gestalten das größte Sänger- und Musikantentreffen der Region. \nMit Sing- und Tanzangeboten für Kinder und Erwachsene\, Lesungen\, Kutschfahrten\, ZamSpieln\, u.v.m.
URL:https://www.volksmusik-mittelfranken.de/event/tag-der-volksmusik-3/
LOCATION:Fränkisches Freilandmuseum\, Eisweiherweg 1\, Bad Windsheim
CATEGORIES:Offenes Singen,Sänger- und Musikantentreffen,Sonstige,Tanz
ORGANIZER;CN="Fr%C3%A4nkisches Freilandmuseum Bad Windsheim":MAILTO:info@freilandmuseum.de
END:VEVENT
BEGIN:VEVENT
DTSTART;TZID=Europe/Berlin:20240630T090000
DTEND;TZID=Europe/Berlin:20240630T180000
DTSTAMP:20260420T153802
CREATED:20240129T135747Z
LAST-MODIFIED:20240415T101018Z
UID:10000725-1719738000-1719770400@www.volksmusik-mittelfranken.de
SUMMARY:Tag der Volksmusik
DESCRIPTION:Zahlreiche fränkische Volksmusik- und Gesangsgruppen gestalten das größte Sänger- und Musikantentreffen der Region mit Lesungen\, Sing- und Tanzangeboten für Kinder und Erwachsene
URL:https://www.volksmusik-mittelfranken.de/event/tag-der-volksmusik-2/
LOCATION:Fränkisches Freilandmuseum\, Eisweiherweg 1\, Bad Windsheim
CATEGORIES:Offenes Singen,Sänger- und Musikantentreffen,Sonstige,Tanz
ORGANIZER;CN="Fr%C3%A4nkisches Freilandmuseum Bad Windsheim":MAILTO:info@freilandmuseum.de
END:VEVENT
BEGIN:VEVENT
DTSTART;TZID=Europe/Berlin:20231217T193000
DTEND;TZID=Europe/Berlin:20231217T193000
DTSTAMP:20260420T153802
CREATED:20231206T150952Z
LAST-MODIFIED:20231206T150952Z
UID:10000683-1702841400-1702841400@www.volksmusik-mittelfranken.de
SUMMARY:Fränkische Weihnacht
DESCRIPTION:Die Fränkische Weihnacht verzaubert Sie mit schöner Musik und besinnlichen Geschichten in vorweihnachtlicher Atmosphäre. Genießerinnen und Genießer schließen die Augen und lassen sich vom festlichen Programm begeistern. Gänsehaut stellt sich ein\, wenn weihnachtliche Erzählungen zum Besten gegeben werden und zu einer Reise durch bekannte Weihnachtstraditionen geladen wird. Stimmungsvolle Volksmusik aus Franken gibt den Texten den passenden\, musikalischen Rahmen.
URL:https://www.volksmusik-mittelfranken.de/event/fraenkische-weihnacht-12/
LOCATION:Evangelische Stadtkirche\, Kirchenplatz\, Gunzenhausen\, 91710\, Deutschland
CATEGORIES:Advents- / Weihnachts-Veranstaltung
END:VEVENT
BEGIN:VEVENT
DTSTART;TZID=Europe/Berlin:20231203T160000
DTEND;TZID=Europe/Berlin:20231203T160000
DTSTAMP:20260420T153802
CREATED:20231105T083851Z
LAST-MODIFIED:20231125T073629Z
UID:10000604-1701619200-1701619200@www.volksmusik-mittelfranken.de
SUMMARY:Fränkische Weihnacht
DESCRIPTION:
URL:https://www.volksmusik-mittelfranken.de/event/fraenkische-weihnacht-4/
LOCATION:Martin-Luther-Kirche\, Martin-Luther-Platz 5\, Stein\, 90547\, Deutschland
CATEGORIES:Advents- / Weihnachts-Veranstaltung
END:VEVENT
BEGIN:VEVENT
DTSTART;TZID=Europe/Berlin:20221211T163000
DTEND;TZID=Europe/Berlin:20221211T180000
DTSTAMP:20260420T153802
CREATED:20221109T205912Z
LAST-MODIFIED:20221206T223315Z
UID:10000012-1670776200-1670781600@www.volksmusik-mittelfranken.de
SUMMARY:Fränkische Weihnacht
DESCRIPTION:Die traditionelle vorweihnachtliche Veranstaltung in der stimmungsvollen Wehrkirche von Kraftshof.\nMitwirkende: Effeltricher Trachtensänger\, Leyher Stubenmusik\, Loonharder Musikanten\, Posaunenchor Kraftshof\, Chorgemeinschaft Almoshof- Kraftshof\, Sven Bach (Sprecher)
URL:https://www.volksmusik-mittelfranken.de/event/fraenkische-weihnacht/
LOCATION:Wehrkirche\, Kraftshof\, Kraftshofer Hauptstraße 165\, Nürnberg- Kraftshof\, 90427
END:VEVENT
END:VCALENDAR