BEGIN:VCALENDAR
VERSION:2.0
PRODID:-//Arbeitsgemeinschaft Fränkische Volksmusik Bezirk Mittelfranken - ECPv6.15.16//NONSGML v1.0//EN
CALSCALE:GREGORIAN
METHOD:PUBLISH
X-WR-CALNAME:Arbeitsgemeinschaft Fränkische Volksmusik Bezirk Mittelfranken
X-ORIGINAL-URL:https://www.volksmusik-mittelfranken.de
X-WR-CALDESC:Veranstaltungen für Arbeitsgemeinschaft Fränkische Volksmusik Bezirk Mittelfranken
REFRESH-INTERVAL;VALUE=DURATION:PT1H
X-Robots-Tag:noindex
X-PUBLISHED-TTL:PT1H
BEGIN:VTIMEZONE
TZID:Europe/Berlin
BEGIN:DAYLIGHT
TZOFFSETFROM:+0100
TZOFFSETTO:+0200
TZNAME:CEST
DTSTART:20230326T010000
END:DAYLIGHT
BEGIN:STANDARD
TZOFFSETFROM:+0200
TZOFFSETTO:+0100
TZNAME:CET
DTSTART:20231029T010000
END:STANDARD
BEGIN:DAYLIGHT
TZOFFSETFROM:+0100
TZOFFSETTO:+0200
TZNAME:CEST
DTSTART:20240331T010000
END:DAYLIGHT
BEGIN:STANDARD
TZOFFSETFROM:+0200
TZOFFSETTO:+0100
TZNAME:CET
DTSTART:20241027T010000
END:STANDARD
BEGIN:DAYLIGHT
TZOFFSETFROM:+0100
TZOFFSETTO:+0200
TZNAME:CEST
DTSTART:20250330T010000
END:DAYLIGHT
BEGIN:STANDARD
TZOFFSETFROM:+0200
TZOFFSETTO:+0100
TZNAME:CET
DTSTART:20251026T010000
END:STANDARD
END:VTIMEZONE
BEGIN:VEVENT
DTSTART;TZID=Europe/Berlin:20240424T193000
DTEND;TZID=Europe/Berlin:20240424T193000
DTSTAMP:20260424T133845
CREATED:20240407T074006Z
LAST-MODIFIED:20240407T075944Z
UID:10000770-1713987000-1713987000@www.volksmusik-mittelfranken.de
SUMMARY:Tanzkurs für fränkische Tänze
DESCRIPTION:Dreher\, Walzer\, Schottisch\, Rheinländer … könnt ihr hier lernen unter dem Motto: „Bei uns geht’s rund\, tanzen ist g’sund!“ \nTanzleitung: Frank Stojetz\, Musik: Gert Wörlein \nAnmeldung erbeten. Bitte Getränke selbst mitbringen.
URL:https://www.volksmusik-mittelfranken.de/event/tanzkurs-fuer-fraenkische-taenze/2024-04-24/
LOCATION:Evang. Gemeindehaus St. Georg\, Kraftshofer Hauptstraße 170\, Nürnberg-Kraftshof\, 90427
ORGANIZER;CN="Heimat- und Volkstrachtenverein N%C3%BCrnberg-Neunhof":MAILTO:schaper-klaus@t-online.de
END:VEVENT
BEGIN:VEVENT
DTSTART;TZID=Europe/Berlin:20240417T193000
DTEND;TZID=Europe/Berlin:20240417T193000
DTSTAMP:20260424T133845
CREATED:20240407T074006Z
LAST-MODIFIED:20240407T075944Z
UID:10000769-1713382200-1713382200@www.volksmusik-mittelfranken.de
SUMMARY:Tanzkurs für fränkische Tänze
DESCRIPTION:Dreher\, Walzer\, Schottisch\, Rheinländer … könnt ihr hier lernen unter dem Motto: „Bei uns geht’s rund\, tanzen ist g’sund!“ \nTanzleitung: Frank Stojetz\, Musik: Gert Wörlein \nAnmeldung erbeten. Bitte Getränke selbst mitbringen.
URL:https://www.volksmusik-mittelfranken.de/event/tanzkurs-fuer-fraenkische-taenze/2024-04-17/
LOCATION:Evang. Gemeindehaus St. Georg\, Kraftshofer Hauptstraße 170\, Nürnberg-Kraftshof\, 90427
ORGANIZER;CN="Heimat- und Volkstrachtenverein N%C3%BCrnberg-Neunhof":MAILTO:schaper-klaus@t-online.de
END:VEVENT
BEGIN:VEVENT
DTSTART;TZID=Europe/Berlin:20240410T193000
DTEND;TZID=Europe/Berlin:20240410T193000
DTSTAMP:20260424T133845
CREATED:20240407T074006Z
LAST-MODIFIED:20240407T075944Z
UID:10000768-1712777400-1712777400@www.volksmusik-mittelfranken.de
SUMMARY:Tanzkurs für fränkische Tänze
DESCRIPTION:Dreher\, Walzer\, Schottisch\, Rheinländer … könnt ihr hier lernen unter dem Motto: „Bei uns geht’s rund\, tanzen ist g’sund!“ \nTanzleitung: Frank Stojetz\, Musik: Gert Wörlein \nAnmeldung erbeten. Bitte Getränke selbst mitbringen.
URL:https://www.volksmusik-mittelfranken.de/event/tanzkurs-fuer-fraenkische-taenze/2024-04-10/
LOCATION:Evang. Gemeindehaus St. Georg\, Kraftshofer Hauptstraße 170\, Nürnberg-Kraftshof\, 90427
ORGANIZER;CN="Heimat- und Volkstrachtenverein N%C3%BCrnberg-Neunhof":MAILTO:schaper-klaus@t-online.de
END:VEVENT
BEGIN:VEVENT
DTSTART;TZID=Europe/Berlin:20240403T193000
DTEND;TZID=Europe/Berlin:20240403T193000
DTSTAMP:20260424T133845
CREATED:20240407T074006Z
LAST-MODIFIED:20240407T075944Z
UID:10000767-1712172600-1712172600@www.volksmusik-mittelfranken.de
SUMMARY:Tanzkurs für fränkische Tänze
DESCRIPTION:Dreher\, Walzer\, Schottisch\, Rheinländer … könnt ihr hier lernen unter dem Motto: „Bei uns geht’s rund\, tanzen ist g’sund!“ \nTanzleitung: Frank Stojetz\, Musik: Gert Wörlein \nAnmeldung erbeten. Bitte Getränke selbst mitbringen.
URL:https://www.volksmusik-mittelfranken.de/event/tanzkurs-fuer-fraenkische-taenze/2024-04-03/
LOCATION:Evang. Gemeindehaus St. Georg\, Kraftshofer Hauptstraße 170\, Nürnberg-Kraftshof\, 90427
ORGANIZER;CN="Heimat- und Volkstrachtenverein N%C3%BCrnberg-Neunhof":MAILTO:schaper-klaus@t-online.de
END:VEVENT
END:VCALENDAR