BEGIN:VCALENDAR
VERSION:2.0
PRODID:-//Arbeitsgemeinschaft Fränkische Volksmusik Bezirk Mittelfranken - ECPv6.15.16//NONSGML v1.0//EN
CALSCALE:GREGORIAN
METHOD:PUBLISH
X-ORIGINAL-URL:https://www.volksmusik-mittelfranken.de
X-WR-CALDESC:Veranstaltungen für Arbeitsgemeinschaft Fränkische Volksmusik Bezirk Mittelfranken
REFRESH-INTERVAL;VALUE=DURATION:PT1H
X-Robots-Tag:noindex
X-PUBLISHED-TTL:PT1H
BEGIN:VTIMEZONE
TZID:Europe/Berlin
BEGIN:DAYLIGHT
TZOFFSETFROM:+0100
TZOFFSETTO:+0200
TZNAME:CEST
DTSTART:20230326T010000
END:DAYLIGHT
BEGIN:STANDARD
TZOFFSETFROM:+0200
TZOFFSETTO:+0100
TZNAME:CET
DTSTART:20231029T010000
END:STANDARD
BEGIN:DAYLIGHT
TZOFFSETFROM:+0100
TZOFFSETTO:+0200
TZNAME:CEST
DTSTART:20240331T010000
END:DAYLIGHT
BEGIN:STANDARD
TZOFFSETFROM:+0200
TZOFFSETTO:+0100
TZNAME:CET
DTSTART:20241027T010000
END:STANDARD
BEGIN:DAYLIGHT
TZOFFSETFROM:+0100
TZOFFSETTO:+0200
TZNAME:CEST
DTSTART:20250330T010000
END:DAYLIGHT
BEGIN:STANDARD
TZOFFSETFROM:+0200
TZOFFSETTO:+0100
TZNAME:CET
DTSTART:20251026T010000
END:STANDARD
END:VTIMEZONE
BEGIN:VEVENT
DTSTART;TZID=Europe/Berlin:20240117T190000
DTEND;TZID=Europe/Berlin:20240117T220000
DTSTAMP:20260425T152015
CREATED:20241111T211923Z
LAST-MODIFIED:20250701T163334Z
UID:10000686-1705518000-1705528800@www.volksmusik-mittelfranken.de
SUMMARY:Fränkisch Tanzen und mehr
DESCRIPTION:Bolga\, Walzer\, Hobberer\, Dreher und mehr. Karin Bümlein\, Christine Maul und Steffi Zachmeier leiten an zu Rund- und Figurentänzen\, mal paarweise\, mal in Mehrpaaraufstellung. \nDie erste Stunde von 19-20h eignet sich mit Basics und Grundschritten besonders für Neulinge und Ungeübte\, ab 20:15h werden Rundtanzkenntnisse vorausgesetzt und es geht kunterbunt durch Franken und andere tänzerische Welten. \n-> Die Tänze werden angeleitet. Die Abende bauen nicht aufeinander auf. Die beiden Einheiten können auch separat besucht werden. Anmeldung nicht erforderlich. Tanzpartner:in findet sich ggf. vor Ort.
URL:https://www.volksmusik-mittelfranken.de/event/fraenkisch-tanzen-und-mehr-2/2024-01-17/
LOCATION:Kulturwerkstatt auf AEG\, Fürther Str. 244d\, Nürnberg\, 90429
CATEGORIES:Tanz
ORGANIZER;CN="Steffi Zachmeier":MAILTO:info@zachmeier.de
END:VEVENT
BEGIN:VEVENT
DTSTART;TZID=Europe/Berlin:20240114T100000
DTEND;TZID=Europe/Berlin:20240114T150000
DTSTAMP:20260425T152015
CREATED:20231112T140312Z
LAST-MODIFIED:20231214T184219Z
UID:10000679-1705226400-1705244400@www.volksmusik-mittelfranken.de
SUMMARY:Tagesworkshop "Zwiefache Tanzen"
DESCRIPTION:Zwiefache sind ganz wunderbare\, wechseltaktige Tänze. Um sie selbst zu tanzen\, benötigen wir im wesentlichen Dreher- und Walzer-Schritte; auch ein Schottisch-/Polka-/Wechsel-Schritt kann mal vorkommen. Darum ist es gut\, wenn Ihr diese Grundrundtänze und Bewegungen bereits könnt.\nWir werden vorwiegend Zwiefache aus Franken tanzen. Sowohl einfachere zum Start\, als dann auch etwas aufwändigere.\nDer Spaß wird\, auch dank unserer Live-Musik\, nicht zu kurz kommen! \nKursbeitrag: 40 € \nKursleitung: Karin Bümlein – Kontakt: 0173/3824779 oder fraenkischtanzen@web.de\nMitveranstalter: Bayerischer Landesverein für Heimatpflege e. V.\nMusik: Steffi Zachmeier (Akkordeon) \nWeitere Informationen und Anmeldung
URL:https://www.volksmusik-mittelfranken.de/event/tagesworkshop-zwiefache-tanzen/
LOCATION:Tanzerei\, Kaiserstr. 175\, Fürth\, 90763\, Deutschland
CATEGORIES:Tanz
ORGANIZER;CN="Karin B%C3%BCmlein":MAILTO:fraenkischtanzen@web.de
END:VEVENT
END:VCALENDAR