BEGIN:VCALENDAR
VERSION:2.0
PRODID:-//Arbeitsgemeinschaft Fränkische Volksmusik Bezirk Mittelfranken - ECPv6.15.16//NONSGML v1.0//EN
CALSCALE:GREGORIAN
METHOD:PUBLISH
X-ORIGINAL-URL:https://www.volksmusik-mittelfranken.de
X-WR-CALDESC:Veranstaltungen für Arbeitsgemeinschaft Fränkische Volksmusik Bezirk Mittelfranken
REFRESH-INTERVAL;VALUE=DURATION:PT1H
X-Robots-Tag:noindex
X-PUBLISHED-TTL:PT1H
BEGIN:VTIMEZONE
TZID:Europe/Berlin
BEGIN:DAYLIGHT
TZOFFSETFROM:+0100
TZOFFSETTO:+0200
TZNAME:CEST
DTSTART:20230326T010000
END:DAYLIGHT
BEGIN:STANDARD
TZOFFSETFROM:+0200
TZOFFSETTO:+0100
TZNAME:CET
DTSTART:20231029T010000
END:STANDARD
BEGIN:DAYLIGHT
TZOFFSETFROM:+0100
TZOFFSETTO:+0200
TZNAME:CEST
DTSTART:20240331T010000
END:DAYLIGHT
BEGIN:STANDARD
TZOFFSETFROM:+0200
TZOFFSETTO:+0100
TZNAME:CET
DTSTART:20241027T010000
END:STANDARD
BEGIN:DAYLIGHT
TZOFFSETFROM:+0100
TZOFFSETTO:+0200
TZNAME:CEST
DTSTART:20250330T010000
END:DAYLIGHT
BEGIN:STANDARD
TZOFFSETFROM:+0200
TZOFFSETTO:+0100
TZNAME:CET
DTSTART:20251026T010000
END:STANDARD
END:VTIMEZONE
BEGIN:VEVENT
DTSTART;TZID=Europe/Berlin:20240324T163000
DTEND;TZID=Europe/Berlin:20240324T163000
DTSTAMP:20260425T000914
CREATED:20240227T141419Z
LAST-MODIFIED:20240227T141419Z
UID:10000754-1711297800-1711297800@www.volksmusik-mittelfranken.de
SUMMARY:Heimat\, du Rindviech
DESCRIPTION:Konzert der Kapelle Bomhard. \nFränkische Lieder mit Gitarre\, Akkordeon und Kontrabass. \nHeimspiel bei der Kulturreihe Dietenhofen. Die drei Brüder der Kapelle Bomhard – Heiner\, Johannes und Georg – kommen aus Dietenhofen-Andorf und spielen mit Akkordeon\, Gitarre und Kontrabass fränkische Lieder. Das klingt zunächst unspektakulär.
URL:https://www.volksmusik-mittelfranken.de/event/heimat-du-rindviech/
LOCATION:Musiksaal der Schule\, Pestalozzistr. 2-4\, Dietenhofen\, 90599
CATEGORIES:Konzert
ORGANIZER;CN="Kulturreihe Dietenhofen e.V.":MAILTO:kulturreihe-dietenhofen@gmx.de
END:VEVENT
END:VCALENDAR