BEGIN:VCALENDAR
VERSION:2.0
PRODID:-//Arbeitsgemeinschaft Fränkische Volksmusik Bezirk Mittelfranken - ECPv6.15.16//NONSGML v1.0//EN
CALSCALE:GREGORIAN
METHOD:PUBLISH
X-ORIGINAL-URL:https://www.volksmusik-mittelfranken.de
X-WR-CALDESC:Veranstaltungen für Arbeitsgemeinschaft Fränkische Volksmusik Bezirk Mittelfranken
REFRESH-INTERVAL;VALUE=DURATION:PT1H
X-Robots-Tag:noindex
X-PUBLISHED-TTL:PT1H
BEGIN:VTIMEZONE
TZID:Europe/Berlin
BEGIN:DAYLIGHT
TZOFFSETFROM:+0100
TZOFFSETTO:+0200
TZNAME:CEST
DTSTART:20220327T010000
END:DAYLIGHT
BEGIN:STANDARD
TZOFFSETFROM:+0200
TZOFFSETTO:+0100
TZNAME:CET
DTSTART:20221030T010000
END:STANDARD
BEGIN:DAYLIGHT
TZOFFSETFROM:+0100
TZOFFSETTO:+0200
TZNAME:CEST
DTSTART:20230326T010000
END:DAYLIGHT
BEGIN:STANDARD
TZOFFSETFROM:+0200
TZOFFSETTO:+0100
TZNAME:CET
DTSTART:20231029T010000
END:STANDARD
BEGIN:DAYLIGHT
TZOFFSETFROM:+0100
TZOFFSETTO:+0200
TZNAME:CEST
DTSTART:20240331T010000
END:DAYLIGHT
BEGIN:STANDARD
TZOFFSETFROM:+0200
TZOFFSETTO:+0100
TZNAME:CET
DTSTART:20241027T010000
END:STANDARD
END:VTIMEZONE
BEGIN:VEVENT
DTSTART;VALUE=DATE:20230908
DTEND;VALUE=DATE:20230912
DTSTAMP:20260422T122045
CREATED:20230809T215220Z
LAST-MODIFIED:20230827T195808Z
UID:10000145-1694142000-1694401199@www.volksmusik-mittelfranken.de
SUMMARY:Ansbacher Bardentreffen
DESCRIPTION:Die Stadt Ansbach und das Kulturforum e.V. präsentieren ein ganzes Wochenende lang regionale Musikgruppen. Diesmal sind auch z. B. die Fränkischen Straßenmusikanten (So.\, 10.09.\, 15 Uhr\, Reitbahn) und Johannes Bomhard dabei. – Es handelt sich um keine reine Volksmusik-Veranstaltung.\nWeitere Informationen hier (Stadt Ansbach) und hier (Kulturforum Ansbach)
URL:https://www.volksmusik-mittelfranken.de/event/ansbacher-bardentreffen/
LOCATION:Ansbach\, Innenstadt\, Ansbach\, Bayern\, 91522\, Deutschland
CATEGORIES:Sonstige
END:VEVENT
END:VCALENDAR