BEGIN:VCALENDAR
VERSION:2.0
PRODID:-//Arbeitsgemeinschaft Fränkische Volksmusik Bezirk Mittelfranken - ECPv6.15.16//NONSGML v1.0//EN
CALSCALE:GREGORIAN
METHOD:PUBLISH
X-ORIGINAL-URL:https://www.volksmusik-mittelfranken.de
X-WR-CALDESC:Veranstaltungen für Arbeitsgemeinschaft Fränkische Volksmusik Bezirk Mittelfranken
REFRESH-INTERVAL;VALUE=DURATION:PT1H
X-Robots-Tag:noindex
X-PUBLISHED-TTL:PT1H
BEGIN:VTIMEZONE
TZID:Europe/Berlin
BEGIN:DAYLIGHT
TZOFFSETFROM:+0100
TZOFFSETTO:+0200
TZNAME:CEST
DTSTART:20240331T010000
END:DAYLIGHT
BEGIN:STANDARD
TZOFFSETFROM:+0200
TZOFFSETTO:+0100
TZNAME:CET
DTSTART:20241027T010000
END:STANDARD
BEGIN:DAYLIGHT
TZOFFSETFROM:+0100
TZOFFSETTO:+0200
TZNAME:CEST
DTSTART:20250330T010000
END:DAYLIGHT
BEGIN:STANDARD
TZOFFSETFROM:+0200
TZOFFSETTO:+0100
TZNAME:CET
DTSTART:20251026T010000
END:STANDARD
BEGIN:DAYLIGHT
TZOFFSETFROM:+0100
TZOFFSETTO:+0200
TZNAME:CEST
DTSTART:20260329T010000
END:DAYLIGHT
BEGIN:STANDARD
TZOFFSETFROM:+0200
TZOFFSETTO:+0100
TZNAME:CET
DTSTART:20261025T010000
END:STANDARD
END:VTIMEZONE
BEGIN:VEVENT
DTSTART;TZID=Europe/Berlin:20250518T140000
DTEND;TZID=Europe/Berlin:20250518T160000
DTSTAMP:20260424T204816
CREATED:20241215T163650Z
LAST-MODIFIED:20241215T163650Z
UID:10001036-1747576800-1747584000@www.volksmusik-mittelfranken.de
SUMMARY:Jodelkurs
DESCRIPTION:Jodelkurs mit Susie Südstadt\nSeit Urzeiten gibt es auf der ganzen Welt diese ursprüngliche Form menschlicher Kommunikation. Wichtig dabei ist der Registerwechsel zwischen Brust- und Kopfstimme und den vermittelt Susie Südstadt äußerst humorvoll. Die besondere Kraft der eigenen Stimme wird leicht spürbar beim Aneinanderreihen von Vokalen. So klingt Freude: „Holaraiduljo“. Denn jodeln wirkt befreiend\, macht Spaß und ist ein Wohlgefühl für Körper\, Geist und Seele. \nGeeignet für jede und jeden – ohne Vorkenntnisse!
URL:https://www.volksmusik-mittelfranken.de/event/jodelkurs/2025-05-18/
LOCATION:Deutsches Hirtenmuseum\, Eisenhüttlein 7\, Hersbruck\, 91217
CATEGORIES:Singen,Workshop/Kurs
ORGANIZER;CN="Susie S%C3%BCdstadt":MAILTO:jodeln-in-franken@web.de
END:VEVENT
BEGIN:VEVENT
DTSTART;TZID=Europe/Berlin:20250323T140000
DTEND;TZID=Europe/Berlin:20250323T160000
DTSTAMP:20260424T204816
CREATED:20241215T163650Z
LAST-MODIFIED:20241215T163650Z
UID:10001035-1742738400-1742745600@www.volksmusik-mittelfranken.de
SUMMARY:Jodelkurs
DESCRIPTION:Jodelkurs mit Susie Südstadt\nSeit Urzeiten gibt es auf der ganzen Welt diese ursprüngliche Form menschlicher Kommunikation. Wichtig dabei ist der Registerwechsel zwischen Brust- und Kopfstimme und den vermittelt Susie Südstadt äußerst humorvoll. Die besondere Kraft der eigenen Stimme wird leicht spürbar beim Aneinanderreihen von Vokalen. So klingt Freude: „Holaraiduljo“. Denn jodeln wirkt befreiend\, macht Spaß und ist ein Wohlgefühl für Körper\, Geist und Seele. \nGeeignet für jede und jeden – ohne Vorkenntnisse!
URL:https://www.volksmusik-mittelfranken.de/event/jodelkurs/2025-03-23/
LOCATION:Deutsches Hirtenmuseum\, Eisenhüttlein 7\, Hersbruck\, 91217
CATEGORIES:Singen,Workshop/Kurs
ORGANIZER;CN="Susie S%C3%BCdstadt":MAILTO:jodeln-in-franken@web.de
END:VEVENT
END:VCALENDAR