BEGIN:VCALENDAR
VERSION:2.0
PRODID:-//Arbeitsgemeinschaft Fränkische Volksmusik Bezirk Mittelfranken - ECPv6.15.16//NONSGML v1.0//EN
CALSCALE:GREGORIAN
METHOD:PUBLISH
X-WR-CALNAME:Arbeitsgemeinschaft Fränkische Volksmusik Bezirk Mittelfranken
X-ORIGINAL-URL:https://www.volksmusik-mittelfranken.de
X-WR-CALDESC:Veranstaltungen für Arbeitsgemeinschaft Fränkische Volksmusik Bezirk Mittelfranken
REFRESH-INTERVAL;VALUE=DURATION:PT1H
X-Robots-Tag:noindex
X-PUBLISHED-TTL:PT1H
BEGIN:VTIMEZONE
TZID:Europe/Berlin
BEGIN:DAYLIGHT
TZOFFSETFROM:+0100
TZOFFSETTO:+0200
TZNAME:CEST
DTSTART:20240331T010000
END:DAYLIGHT
BEGIN:STANDARD
TZOFFSETFROM:+0200
TZOFFSETTO:+0100
TZNAME:CET
DTSTART:20241027T010000
END:STANDARD
BEGIN:DAYLIGHT
TZOFFSETFROM:+0100
TZOFFSETTO:+0200
TZNAME:CEST
DTSTART:20250330T010000
END:DAYLIGHT
BEGIN:STANDARD
TZOFFSETFROM:+0200
TZOFFSETTO:+0100
TZNAME:CET
DTSTART:20251026T010000
END:STANDARD
BEGIN:DAYLIGHT
TZOFFSETFROM:+0100
TZOFFSETTO:+0200
TZNAME:CEST
DTSTART:20260329T010000
END:DAYLIGHT
BEGIN:STANDARD
TZOFFSETFROM:+0200
TZOFFSETTO:+0100
TZNAME:CET
DTSTART:20261025T010000
END:STANDARD
END:VTIMEZONE
BEGIN:VEVENT
DTSTART;TZID=Europe/Berlin:20250830T200000
DTEND;TZID=Europe/Berlin:20250830T200000
DTSTAMP:20260420T122905
CREATED:20250810T181059Z
LAST-MODIFIED:20250810T181602Z
UID:10001167-1756584000-1756584000@www.volksmusik-mittelfranken.de
SUMMARY:Lieder im allerschönsten Dialekt
DESCRIPTION:Der Glubb\, des Christkindla und die Frankenbänd gehören zu Nemberch wie Lebkoung und Bratwärscht. Die Frankenbänd praktiziert ihre fröhliche Gratwanderung zwischen Unterhaltungskunst und Liedermacherei. Sie spielt Lieder aus ihrer Heimat im allerschönsten Dialekt.
URL:https://www.volksmusik-mittelfranken.de/event/lieder-im-allerschoensten-dialekt/
LOCATION:Teufelshöhle Pottenstein\, Schüttersmühle 5\, Pottenstein\, 91278
CATEGORIES:Konzert
END:VEVENT
END:VCALENDAR