BEGIN:VCALENDAR
VERSION:2.0
PRODID:-//Arbeitsgemeinschaft Fränkische Volksmusik Bezirk Mittelfranken - ECPv6.15.16//NONSGML v1.0//EN
CALSCALE:GREGORIAN
METHOD:PUBLISH
X-ORIGINAL-URL:https://www.volksmusik-mittelfranken.de
X-WR-CALDESC:Veranstaltungen für Arbeitsgemeinschaft Fränkische Volksmusik Bezirk Mittelfranken
REFRESH-INTERVAL;VALUE=DURATION:PT1H
X-Robots-Tag:noindex
X-PUBLISHED-TTL:PT1H
BEGIN:VTIMEZONE
TZID:Europe/Berlin
BEGIN:DAYLIGHT
TZOFFSETFROM:+0100
TZOFFSETTO:+0200
TZNAME:CEST
DTSTART:20240331T010000
END:DAYLIGHT
BEGIN:STANDARD
TZOFFSETFROM:+0200
TZOFFSETTO:+0100
TZNAME:CET
DTSTART:20241027T010000
END:STANDARD
BEGIN:DAYLIGHT
TZOFFSETFROM:+0100
TZOFFSETTO:+0200
TZNAME:CEST
DTSTART:20250330T010000
END:DAYLIGHT
BEGIN:STANDARD
TZOFFSETFROM:+0200
TZOFFSETTO:+0100
TZNAME:CET
DTSTART:20251026T010000
END:STANDARD
BEGIN:DAYLIGHT
TZOFFSETFROM:+0100
TZOFFSETTO:+0200
TZNAME:CEST
DTSTART:20260329T010000
END:DAYLIGHT
BEGIN:STANDARD
TZOFFSETFROM:+0200
TZOFFSETTO:+0100
TZNAME:CET
DTSTART:20261025T010000
END:STANDARD
BEGIN:DAYLIGHT
TZOFFSETFROM:+0100
TZOFFSETTO:+0200
TZNAME:CEST
DTSTART:20270328T010000
END:DAYLIGHT
BEGIN:STANDARD
TZOFFSETFROM:+0200
TZOFFSETTO:+0100
TZNAME:CET
DTSTART:20271031T010000
END:STANDARD
END:VTIMEZONE
BEGIN:VEVENT
DTSTART;TZID=Europe/Berlin:20260118T140000
DTEND;TZID=Europe/Berlin:20260118T140000
DTSTAMP:20260420T123208
CREATED:20250127T190754Z
LAST-MODIFIED:20260315T185642Z
UID:10001220-1768744800-1768744800@www.volksmusik-mittelfranken.de
SUMMARY:Volksliedersingen
DESCRIPTION:Volksliedersingen. Musik: Elisabeth und Christine
URL:https://www.volksmusik-mittelfranken.de/event/volksliedersingen-3/2026-01-18/
LOCATION:Gasthof Rose\, Ansbacher Str. 20\, Flachslanden\, 91604
CATEGORIES:Singen,Wirtshaussingen
END:VEVENT
BEGIN:VEVENT
DTSTART;TZID=Europe/Berlin:20251109T140000
DTEND;TZID=Europe/Berlin:20251109T170000
DTSTAMP:20260420T123208
CREATED:20250127T190754Z
LAST-MODIFIED:20260315T185642Z
UID:10001062-1762696800-1762707600@www.volksmusik-mittelfranken.de
SUMMARY:Volksliedersingen
DESCRIPTION:Volksliedersingen. Musik: Elisabeth und Christine
URL:https://www.volksmusik-mittelfranken.de/event/volksliedersingen-3/2025-11-09/
LOCATION:Gasthof Rose\, Ansbacher Str. 20\, Flachslanden\, 91604
CATEGORIES:Singen,Wirtshaussingen
END:VEVENT
BEGIN:VEVENT
DTSTART;TZID=Europe/Berlin:20250914T140000
DTEND;TZID=Europe/Berlin:20250914T170000
DTSTAMP:20260420T123208
CREATED:20250127T190754Z
LAST-MODIFIED:20260315T185642Z
UID:10001060-1757858400-1757869200@www.volksmusik-mittelfranken.de
SUMMARY:Volksliedersingen
DESCRIPTION:Volksliedersingen. Musik: Elisabeth und Christine
URL:https://www.volksmusik-mittelfranken.de/event/volksliedersingen-3/2025-09-14/
LOCATION:Gasthof Rose\, Ansbacher Str. 20\, Flachslanden\, 91604
CATEGORIES:Singen,Wirtshaussingen
END:VEVENT
BEGIN:VEVENT
DTSTART;TZID=Europe/Berlin:20250713T140000
DTEND;TZID=Europe/Berlin:20250713T170000
DTSTAMP:20260420T123208
CREATED:20250127T190754Z
LAST-MODIFIED:20260315T185642Z
UID:10001059-1752415200-1752426000@www.volksmusik-mittelfranken.de
SUMMARY:Volksliedersingen
DESCRIPTION:Volksliedersingen. Musik: Elisabeth und Christine
URL:https://www.volksmusik-mittelfranken.de/event/volksliedersingen-3/2025-07-13/
LOCATION:Gasthof Rose\, Ansbacher Str. 20\, Flachslanden\, 91604
CATEGORIES:Singen,Wirtshaussingen
END:VEVENT
BEGIN:VEVENT
DTSTART;TZID=Europe/Berlin:20250518T140000
DTEND;TZID=Europe/Berlin:20250518T170000
DTSTAMP:20260420T123208
CREATED:20250127T190754Z
LAST-MODIFIED:20260315T185642Z
UID:10001058-1747576800-1747587600@www.volksmusik-mittelfranken.de
SUMMARY:Volksliedersingen
DESCRIPTION:Volksliedersingen. Musik: Elisabeth und Christine
URL:https://www.volksmusik-mittelfranken.de/event/volksliedersingen-3/2025-05-18/
LOCATION:Gasthof Rose\, Ansbacher Str. 20\, Flachslanden\, 91604
CATEGORIES:Singen,Wirtshaussingen
END:VEVENT
BEGIN:VEVENT
DTSTART;TZID=Europe/Berlin:20250316T140000
DTEND;TZID=Europe/Berlin:20250316T170000
DTSTAMP:20260420T123208
CREATED:20250127T190754Z
LAST-MODIFIED:20260315T185642Z
UID:10001057-1742133600-1742144400@www.volksmusik-mittelfranken.de
SUMMARY:Volksliedersingen
DESCRIPTION:Volksliedersingen. Musik: Elisabeth und Christine
URL:https://www.volksmusik-mittelfranken.de/event/volksliedersingen-3/2025-03-16/
LOCATION:Gasthof Rose\, Ansbacher Str. 20\, Flachslanden\, 91604
CATEGORIES:Singen,Wirtshaussingen
END:VEVENT
END:VCALENDAR