BEGIN:VCALENDAR
VERSION:2.0
PRODID:-//Arbeitsgemeinschaft Fränkische Volksmusik Bezirk Mittelfranken - ECPv6.15.16//NONSGML v1.0//EN
CALSCALE:GREGORIAN
METHOD:PUBLISH
X-WR-CALNAME:Arbeitsgemeinschaft Fränkische Volksmusik Bezirk Mittelfranken
X-ORIGINAL-URL:https://www.volksmusik-mittelfranken.de
X-WR-CALDESC:Veranstaltungen für Arbeitsgemeinschaft Fränkische Volksmusik Bezirk Mittelfranken
REFRESH-INTERVAL;VALUE=DURATION:PT1H
X-Robots-Tag:noindex
X-PUBLISHED-TTL:PT1H
BEGIN:VTIMEZONE
TZID:Europe/Berlin
BEGIN:DAYLIGHT
TZOFFSETFROM:+0100
TZOFFSETTO:+0200
TZNAME:CEST
DTSTART:20220327T010000
END:DAYLIGHT
BEGIN:STANDARD
TZOFFSETFROM:+0200
TZOFFSETTO:+0100
TZNAME:CET
DTSTART:20221030T010000
END:STANDARD
BEGIN:DAYLIGHT
TZOFFSETFROM:+0100
TZOFFSETTO:+0200
TZNAME:CEST
DTSTART:20230326T010000
END:DAYLIGHT
BEGIN:STANDARD
TZOFFSETFROM:+0200
TZOFFSETTO:+0100
TZNAME:CET
DTSTART:20231029T010000
END:STANDARD
BEGIN:DAYLIGHT
TZOFFSETFROM:+0100
TZOFFSETTO:+0200
TZNAME:CEST
DTSTART:20240331T010000
END:DAYLIGHT
BEGIN:STANDARD
TZOFFSETFROM:+0200
TZOFFSETTO:+0100
TZNAME:CET
DTSTART:20241027T010000
END:STANDARD
BEGIN:DAYLIGHT
TZOFFSETFROM:+0100
TZOFFSETTO:+0200
TZNAME:CEST
DTSTART:20250330T010000
END:DAYLIGHT
BEGIN:STANDARD
TZOFFSETFROM:+0200
TZOFFSETTO:+0100
TZNAME:CET
DTSTART:20251026T010000
END:STANDARD
END:VTIMEZONE
BEGIN:VEVENT
DTSTART;TZID=Europe/Berlin:20241103T190000
DTEND;TZID=Europe/Berlin:20241103T210000
DTSTAMP:20260420T153812
CREATED:20241011T220734Z
LAST-MODIFIED:20241014T091927Z
UID:10000959-1730660400-1730667600@www.volksmusik-mittelfranken.de
SUMMARY:Volkstanzübungsabend
DESCRIPTION:Eine Fortbildung für die Volkstanzfreunde Kirchfembach-Puschendorf\, zu der auch externe Tanzfreudige gern dazustoßen können. \nTanzleitung: Steffi Zachmeier \nKontakt: Rudi Körber\, Tel. 09101-990392
URL:https://www.volksmusik-mittelfranken.de/event/volkstanzuebungsabend/2024-11-03/
LOCATION:Gemeindehaus Hagenbüchach\, Hauptstraße 3\, Hagenbüchach\, 91469
CATEGORIES:Tanz
ORGANIZER;CN="Volkstanzgruppe Kirchfembach-Puschendorf":MAILTO:koerber.rudi@gmail.com
END:VEVENT
BEGIN:VEVENT
DTSTART;TZID=Europe/Berlin:20241020T190000
DTEND;TZID=Europe/Berlin:20241020T190000
DTSTAMP:20260420T153812
CREATED:20241011T220734Z
LAST-MODIFIED:20241014T091927Z
UID:10000958-1729450800-1729450800@www.volksmusik-mittelfranken.de
SUMMARY:Volkstanzübungsabend
DESCRIPTION:Eine Fortbildung für die Volkstanzfreunde Kirchfembach-Puschendorf\, zu der auch externe Tanzfreudige gern dazustoßen können. \nTanzleitung: Steffi Zachmeier \nKontakt: Rudi Körber\, Tel. 09101-990392
URL:https://www.volksmusik-mittelfranken.de/event/volkstanzuebungsabend/2024-10-20/
LOCATION:Gemeindehaus Hagenbüchach\, Hauptstraße 3\, Hagenbüchach\, 91469
CATEGORIES:Tanz
ORGANIZER;CN="Volkstanzgruppe Kirchfembach-Puschendorf":MAILTO:koerber.rudi@gmail.com
END:VEVENT
BEGIN:VEVENT
DTSTART;TZID=Europe/Berlin:20231209T170000
DTEND;TZID=Europe/Berlin:20231209T170000
DTSTAMP:20260420T153812
CREATED:20231105T085210Z
LAST-MODIFIED:20231105T085210Z
UID:10000606-1702141200-1702141200@www.volksmusik-mittelfranken.de
SUMMARY:Fränkische Weihnacht
DESCRIPTION:Musik: Leyher Stubenmusik\, Posaunenchor Hagenbüchach\, Singgemeinschaft Fembachtal
URL:https://www.volksmusik-mittelfranken.de/event/fraenkische-weihnacht-6/
LOCATION:Kirche St. Veit\, Kirchfembach\, Höllenberg 1\, Langenzenn-Kirchfembach\, 90579
CATEGORIES:Advents- / Weihnachts-Veranstaltung
ORGANIZER;CN="Volkstanzgruppe Kirchfembach-Puschendorf":MAILTO:koerber.rudi@gmail.com
END:VEVENT
END:VCALENDAR