BEGIN:VCALENDAR
VERSION:2.0
PRODID:-//Arbeitsgemeinschaft Fränkische Volksmusik Bezirk Mittelfranken - ECPv6.15.16//NONSGML v1.0//EN
CALSCALE:GREGORIAN
METHOD:PUBLISH
X-ORIGINAL-URL:https://www.volksmusik-mittelfranken.de
X-WR-CALDESC:Veranstaltungen für Arbeitsgemeinschaft Fränkische Volksmusik Bezirk Mittelfranken
REFRESH-INTERVAL;VALUE=DURATION:PT1H
X-Robots-Tag:noindex
X-PUBLISHED-TTL:PT1H
BEGIN:VTIMEZONE
TZID:Europe/Berlin
BEGIN:DAYLIGHT
TZOFFSETFROM:+0100
TZOFFSETTO:+0200
TZNAME:CEST
DTSTART:20230326T010000
END:DAYLIGHT
BEGIN:STANDARD
TZOFFSETFROM:+0200
TZOFFSETTO:+0100
TZNAME:CET
DTSTART:20231029T010000
END:STANDARD
BEGIN:DAYLIGHT
TZOFFSETFROM:+0100
TZOFFSETTO:+0200
TZNAME:CEST
DTSTART:20240331T010000
END:DAYLIGHT
BEGIN:STANDARD
TZOFFSETFROM:+0200
TZOFFSETTO:+0100
TZNAME:CET
DTSTART:20241027T010000
END:STANDARD
BEGIN:DAYLIGHT
TZOFFSETFROM:+0100
TZOFFSETTO:+0200
TZNAME:CEST
DTSTART:20250330T010000
END:DAYLIGHT
BEGIN:STANDARD
TZOFFSETFROM:+0200
TZOFFSETTO:+0100
TZNAME:CET
DTSTART:20251026T010000
END:STANDARD
BEGIN:DAYLIGHT
TZOFFSETFROM:+0100
TZOFFSETTO:+0200
TZNAME:CEST
DTSTART:20260329T010000
END:DAYLIGHT
BEGIN:STANDARD
TZOFFSETFROM:+0200
TZOFFSETTO:+0100
TZNAME:CET
DTSTART:20261025T010000
END:STANDARD
END:VTIMEZONE
BEGIN:VEVENT
DTSTART;TZID=Europe/Berlin:20251111T190000
DTEND;TZID=Europe/Berlin:20251111T190000
DTSTAMP:20260420T104843
CREATED:20241028T122942Z
LAST-MODIFIED:20241029T223905Z
UID:10000973-1762887600-1762887600@www.volksmusik-mittelfranken.de
SUMMARY:Offenes Wirtshaussingen
DESCRIPTION:Musikalische Begleitung: Windsheimer Wirtshausmusikanten (Akkordeon & Gitarre) \nOrganisator: Jürgen Müller
URL:https://www.volksmusik-mittelfranken.de/event/offenes-wirtshaussingen/2025-11-11/
LOCATION:Schützenheim\, Am Schießwasen 2\, Bad Windsheim\, 91438
CATEGORIES:Wirtshaussingen
ORGANIZER;CN="Windsheimer Wirtshausmusikanten":MAILTO:j.mueller.59@web.de
END:VEVENT
BEGIN:VEVENT
DTSTART;TZID=Europe/Berlin:20250227T190000
DTEND;TZID=Europe/Berlin:20250227T190000
DTSTAMP:20260420T104843
CREATED:20241028T122942Z
LAST-MODIFIED:20241029T223905Z
UID:10000980-1740682800-1740682800@www.volksmusik-mittelfranken.de
SUMMARY:Offenes Wirtshaussingen
DESCRIPTION:Musikalische Begleitung: Windsheimer Wirtshausmusikanten (Akkordeon & Gitarre) \nOrganisator: Jürgen Müller
URL:https://www.volksmusik-mittelfranken.de/event/offenes-wirtshaussingen/2025-02-27/
LOCATION:Schützenheim\, Am Schießwasen 2\, Bad Windsheim\, 91438
CATEGORIES:Wirtshaussingen
ORGANIZER;CN="Windsheimer Wirtshausmusikanten":MAILTO:j.mueller.59@web.de
END:VEVENT
BEGIN:VEVENT
DTSTART;TZID=Europe/Berlin:20250123T190000
DTEND;TZID=Europe/Berlin:20250123T190000
DTSTAMP:20260420T104843
CREATED:20241028T122942Z
LAST-MODIFIED:20241029T223905Z
UID:10000976-1737658800-1737658800@www.volksmusik-mittelfranken.de
SUMMARY:Offenes Wirtshaussingen
DESCRIPTION:Musikalische Begleitung: Windsheimer Wirtshausmusikanten (Akkordeon & Gitarre) \nOrganisator: Jürgen Müller
URL:https://www.volksmusik-mittelfranken.de/event/offenes-wirtshaussingen/2025-01-23/
LOCATION:Schützenheim\, Am Schießwasen 2\, Bad Windsheim\, 91438
CATEGORIES:Wirtshaussingen
ORGANIZER;CN="Windsheimer Wirtshausmusikanten":MAILTO:j.mueller.59@web.de
END:VEVENT
BEGIN:VEVENT
DTSTART;TZID=Europe/Berlin:20241128T190000
DTEND;TZID=Europe/Berlin:20241128T190000
DTSTAMP:20260420T104843
CREATED:20241028T122942Z
LAST-MODIFIED:20241029T223905Z
UID:10000979-1732820400-1732820400@www.volksmusik-mittelfranken.de
SUMMARY:Offenes Wirtshaussingen
DESCRIPTION:Musikalische Begleitung: Windsheimer Wirtshausmusikanten (Akkordeon & Gitarre) \nOrganisator: Jürgen Müller
URL:https://www.volksmusik-mittelfranken.de/event/offenes-wirtshaussingen/2024-11-28/
LOCATION:Schützenheim\, Am Schießwasen 2\, Bad Windsheim\, 91438
CATEGORIES:Wirtshaussingen
ORGANIZER;CN="Windsheimer Wirtshausmusikanten":MAILTO:j.mueller.59@web.de
END:VEVENT
END:VCALENDAR