BEGIN:VCALENDAR
VERSION:2.0
PRODID:-//Arbeitsgemeinschaft Fränkische Volksmusik Bezirk Mittelfranken - ECPv6.15.16//NONSGML v1.0//EN
CALSCALE:GREGORIAN
METHOD:PUBLISH
X-ORIGINAL-URL:https://www.volksmusik-mittelfranken.de
X-WR-CALDESC:Veranstaltungen für Arbeitsgemeinschaft Fränkische Volksmusik Bezirk Mittelfranken
REFRESH-INTERVAL;VALUE=DURATION:PT1H
X-Robots-Tag:noindex
X-PUBLISHED-TTL:PT1H
BEGIN:VTIMEZONE
TZID:Europe/Berlin
BEGIN:DAYLIGHT
TZOFFSETFROM:+0100
TZOFFSETTO:+0200
TZNAME:CEST
DTSTART:20230326T010000
END:DAYLIGHT
BEGIN:STANDARD
TZOFFSETFROM:+0200
TZOFFSETTO:+0100
TZNAME:CET
DTSTART:20231029T010000
END:STANDARD
BEGIN:DAYLIGHT
TZOFFSETFROM:+0100
TZOFFSETTO:+0200
TZNAME:CEST
DTSTART:20240331T010000
END:DAYLIGHT
BEGIN:STANDARD
TZOFFSETFROM:+0200
TZOFFSETTO:+0100
TZNAME:CET
DTSTART:20241027T010000
END:STANDARD
BEGIN:DAYLIGHT
TZOFFSETFROM:+0100
TZOFFSETTO:+0200
TZNAME:CEST
DTSTART:20250330T010000
END:DAYLIGHT
BEGIN:STANDARD
TZOFFSETFROM:+0200
TZOFFSETTO:+0100
TZNAME:CET
DTSTART:20251026T010000
END:STANDARD
BEGIN:DAYLIGHT
TZOFFSETFROM:+0100
TZOFFSETTO:+0200
TZNAME:CEST
DTSTART:20260329T010000
END:DAYLIGHT
BEGIN:STANDARD
TZOFFSETFROM:+0200
TZOFFSETTO:+0100
TZNAME:CET
DTSTART:20261025T010000
END:STANDARD
BEGIN:DAYLIGHT
TZOFFSETFROM:+0100
TZOFFSETTO:+0200
TZNAME:CEST
DTSTART:20270328T010000
END:DAYLIGHT
BEGIN:STANDARD
TZOFFSETFROM:+0200
TZOFFSETTO:+0100
TZNAME:CET
DTSTART:20271031T010000
END:STANDARD
END:VTIMEZONE
BEGIN:VEVENT
DTSTART;TZID=Europe/Berlin:20260213T190000
DTEND;TZID=Europe/Berlin:20260213T190000
DTSTAMP:20260420T140458
CREATED:20250808T194200Z
LAST-MODIFIED:20251123T202654Z
UID:10001230-1771009200-1771009200@www.volksmusik-mittelfranken.de
SUMMARY:Wirtshaussingen
DESCRIPTION:Singleitung: Robert Treuheit
URL:https://www.volksmusik-mittelfranken.de/event/wirtshaussingen-13/2026-02-13/
LOCATION:Gasthaus „Zur Linde“\, Fernabrünst\, 90613
CATEGORIES:Wirtshaussingen
ORGANIZER;CN="Wirtshauss%C3%A4nger Robert Treuheit":MAILTO:schnurri-robert@gmx.de
END:VEVENT
BEGIN:VEVENT
DTSTART;TZID=Europe/Berlin:20260125T140000
DTEND;TZID=Europe/Berlin:20260125T140000
DTSTAMP:20260420T140458
CREATED:20251123T194950Z
LAST-MODIFIED:20251123T201740Z
UID:10001225-1769349600-1769349600@www.volksmusik-mittelfranken.de
SUMMARY:Wirtshaussingen
DESCRIPTION:Singleitung: Robert Treuheit
URL:https://www.volksmusik-mittelfranken.de/event/wirtshaussingen-16/2026-01-25/
LOCATION:Brennereistuben\, Bergstr. 21A\, Wilhelmsdorf\, 91489
CATEGORIES:Offenes Singen,Wirtshaussingen
ORGANIZER;CN="Wirtshauss%C3%A4nger Robert Treuheit":MAILTO:schnurri-robert@gmx.de
END:VEVENT
BEGIN:VEVENT
DTSTART;TZID=Europe/Berlin:20260102T190000
DTEND;TZID=Europe/Berlin:20260102T190000
DTSTAMP:20260420T140458
CREATED:20240724T224627Z
LAST-MODIFIED:20251123T200240Z
UID:10001216-1767380400-1767380400@www.volksmusik-mittelfranken.de
SUMMARY:Wirtshaussingen
DESCRIPTION:Singleitung und Näheres: Robert Treuheit \nschnurri-robert@gmx.de
URL:https://www.volksmusik-mittelfranken.de/event/wirtshaussingen-10/2026-01-02/
LOCATION:Zenntaler Hof\, Adelsdorf 12\, Neuhof a.d. Zenn\, 90616
CATEGORIES:Wirtshaussingen
ORGANIZER;CN="Wirtshauss%C3%A4nger Robert Treuheit":MAILTO:schnurri-robert@gmx.de
END:VEVENT
BEGIN:VEVENT
DTSTART;TZID=Europe/Berlin:20251205T190000
DTEND;TZID=Europe/Berlin:20251205T190000
DTSTAMP:20260420T140458
CREATED:20240724T135724Z
LAST-MODIFIED:20251123T195634Z
UID:10001191-1764961200-1764961200@www.volksmusik-mittelfranken.de
SUMMARY:Wirtshaussingen
DESCRIPTION:Singleitung und Näheres: Robert Treuheit \nwww.robertundhans.de | 09107/337 | schnurri-robert@gmx.de \n 
URL:https://www.volksmusik-mittelfranken.de/event/wirtshaussingen-3/2025-12-05/
LOCATION:Gasthaus Kirchberger\, Merzbach 4\, Trautskirchen\, 90619
CATEGORIES:Wirtshaussingen
ORGANIZER;CN="Wirtshauss%C3%A4nger Robert Treuheit":MAILTO:schnurri-robert@gmx.de
END:VEVENT
BEGIN:VEVENT
DTSTART;TZID=Europe/Berlin:20251114T190000
DTEND;TZID=Europe/Berlin:20251114T190000
DTSTAMP:20260420T140458
CREATED:20251123T194950Z
LAST-MODIFIED:20251123T201740Z
UID:10001184-1763146800-1763146800@www.volksmusik-mittelfranken.de
SUMMARY:Wirtshaussingen
DESCRIPTION:Singleitung: Robert Treuheit
URL:https://www.volksmusik-mittelfranken.de/event/wirtshaussingen-16/2025-11-14/
LOCATION:Brennereistuben\, Bergstr. 21A\, Wilhelmsdorf\, 91489
CATEGORIES:Offenes Singen,Wirtshaussingen
ORGANIZER;CN="Wirtshauss%C3%A4nger Robert Treuheit":MAILTO:schnurri-robert@gmx.de
END:VEVENT
BEGIN:VEVENT
DTSTART;TZID=Europe/Berlin:20251114T190000
DTEND;TZID=Europe/Berlin:20251114T190000
DTSTAMP:20260420T140458
CREATED:20250505T223212Z
LAST-MODIFIED:20250808T202452Z
UID:10001164-1763146800-1763146800@www.volksmusik-mittelfranken.de
SUMMARY:Wirtshaussingen
DESCRIPTION:Wirtshaussingen\nSingleitung: Robert Treuheit
URL:https://www.volksmusik-mittelfranken.de/event/wirtshaussingen-9/2025-11-14/
LOCATION:Brennereistuben\, Bergstr. 21A\, Wilhelmsdorf\, 91489
CATEGORIES:Offenes Singen,Wirtshaussingen
ORGANIZER;CN="Wirtshauss%C3%A4nger Robert Treuheit":MAILTO:schnurri-robert@gmx.de
END:VEVENT
BEGIN:VEVENT
DTSTART;TZID=Europe/Berlin:20251102T140000
DTEND;TZID=Europe/Berlin:20251102T140000
DTSTAMP:20260420T140458
CREATED:20250111T224759Z
LAST-MODIFIED:20250808T202022Z
UID:10001161-1762092000-1762092000@www.volksmusik-mittelfranken.de
SUMMARY:Wirtshaussingen
DESCRIPTION:Wirtshaussingen.\nSingleitung: Robert Treuheit
URL:https://www.volksmusik-mittelfranken.de/event/wirtshaussingen-7/2025-11-02/
LOCATION:Gasthof Rose\, Ansbacher Str. 20\, Flachslanden\, 91604
CATEGORIES:Wirtshaussingen
ORGANIZER;CN="Wirtshauss%C3%A4nger Robert Treuheit":MAILTO:schnurri-robert@gmx.de
END:VEVENT
BEGIN:VEVENT
DTSTART;TZID=Europe/Berlin:20251010T190000
DTEND;TZID=Europe/Berlin:20251010T190000
DTSTAMP:20260420T140458
CREATED:20250808T195720Z
LAST-MODIFIED:20250808T195720Z
UID:10001151-1760122800-1760122800@www.volksmusik-mittelfranken.de
SUMMARY:Wirtshaussingen
DESCRIPTION:Singleitung und Näheres: Wirtshaussänger Robert Treuheit
URL:https://www.volksmusik-mittelfranken.de/event/wirtshaussingen-14/
LOCATION:Gasthaus Schmotzer\, Dorfstraße 19\, Puschendorf\, 90617
ORGANIZER;CN="Wirtshauss%C3%A4nger Robert Treuheit":MAILTO:schnurri-robert@gmx.de
END:VEVENT
BEGIN:VEVENT
DTSTART;TZID=Europe/Berlin:20250914T140000
DTEND;TZID=Europe/Berlin:20250914T140000
DTSTAMP:20260420T140458
CREATED:20250808T194200Z
LAST-MODIFIED:20251123T202654Z
UID:10001143-1757858400-1757858400@www.volksmusik-mittelfranken.de
SUMMARY:Wirtshaussingen
DESCRIPTION:Singleitung: Robert Treuheit
URL:https://www.volksmusik-mittelfranken.de/event/wirtshaussingen-13/2025-09-14/
LOCATION:Gasthaus „Zur Linde“\, Fernabrünst\, 90613
CATEGORIES:Wirtshaussingen
ORGANIZER;CN="Wirtshauss%C3%A4nger Robert Treuheit":MAILTO:schnurri-robert@gmx.de
END:VEVENT
BEGIN:VEVENT
DTSTART;TZID=Europe/Berlin:20250829T190000
DTEND;TZID=Europe/Berlin:20250829T190000
DTSTAMP:20260420T140458
CREATED:20250808T193732Z
LAST-MODIFIED:20250808T193732Z
UID:10001142-1756494000-1756494000@www.volksmusik-mittelfranken.de
SUMMARY:Wirtshaussingen
DESCRIPTION:Wirtshaussingen\nSingleitung: Robert Treuheit
URL:https://www.volksmusik-mittelfranken.de/event/wirtshaussingen-12/
LOCATION:Galerie Cafe Eigner\, Hans-Böckler-Straße 25\, Trautskirchen\, 90619
CATEGORIES:Offenes Singen,Wirtshaussingen
ORGANIZER;CN="Wirtshauss%C3%A4nger Robert Treuheit":MAILTO:schnurri-robert@gmx.de
END:VEVENT
BEGIN:VEVENT
DTSTART;TZID=Europe/Berlin:20250613T190000
DTEND;TZID=Europe/Berlin:20250613T190000
DTSTAMP:20260420T140458
CREATED:20240428T221637Z
LAST-MODIFIED:20250513T181931Z
UID:10001095-1749841200-1749841200@www.volksmusik-mittelfranken.de
SUMMARY:Wirtshaussingen
DESCRIPTION:Singleitung: Wirtshaussänger Robert Treuheit
URL:https://www.volksmusik-mittelfranken.de/event/wirtshaussingen-8/2025-06-13/
LOCATION:Gasthof Grüner Baum (Schmotzer)\, Dorfstraße 19\, Puschendorf\, 90617
CATEGORIES:Wirtshaussingen
ORGANIZER;CN="Wirtshauss%C3%A4nger Robert Treuheit":MAILTO:schnurri-robert@gmx.de
END:VEVENT
BEGIN:VEVENT
DTSTART;TZID=Europe/Berlin:20250525T190000
DTEND;TZID=Europe/Berlin:20250525T190000
DTSTAMP:20260420T140458
CREATED:20251123T194950Z
LAST-MODIFIED:20251123T201740Z
UID:10001183-1748199600-1748199600@www.volksmusik-mittelfranken.de
SUMMARY:Wirtshaussingen
DESCRIPTION:Singleitung: Robert Treuheit
URL:https://www.volksmusik-mittelfranken.de/event/wirtshaussingen-16/2025-05-25/
LOCATION:Brennereistuben\, Bergstr. 21A\, Wilhelmsdorf\, 91489
CATEGORIES:Offenes Singen,Wirtshaussingen
ORGANIZER;CN="Wirtshauss%C3%A4nger Robert Treuheit":MAILTO:schnurri-robert@gmx.de
END:VEVENT
BEGIN:VEVENT
DTSTART;TZID=Europe/Berlin:20250525T190000
DTEND;TZID=Europe/Berlin:20250525T190000
DTSTAMP:20260420T140458
CREATED:20250505T223212Z
LAST-MODIFIED:20250808T202452Z
UID:10001163-1748199600-1748199600@www.volksmusik-mittelfranken.de
SUMMARY:Wirtshaussingen
DESCRIPTION:Wirtshaussingen\nSingleitung: Robert Treuheit
URL:https://www.volksmusik-mittelfranken.de/event/wirtshaussingen-9/2025-05-25/
LOCATION:Brennereistuben\, Bergstr. 21A\, Wilhelmsdorf\, 91489
CATEGORIES:Offenes Singen,Wirtshaussingen
ORGANIZER;CN="Wirtshauss%C3%A4nger Robert Treuheit":MAILTO:schnurri-robert@gmx.de
END:VEVENT
BEGIN:VEVENT
DTSTART;TZID=Europe/Berlin:20250328T193000
DTEND;TZID=Europe/Berlin:20250328T193000
DTSTAMP:20260420T140458
CREATED:20250118T224809Z
LAST-MODIFIED:20250127T204908Z
UID:10000736-1743190200-1743190200@www.volksmusik-mittelfranken.de
SUMMARY:Wirtshaussingen
DESCRIPTION:Singleitung: Wirtshaussänger Robert Treuheit
URL:https://www.volksmusik-mittelfranken.de/event/wirtshaussingen-6/
LOCATION:Landgasthof zum Stern\, Hauptstraße 60\, Markt Erlbach OT Linden\, 91459
CATEGORIES:Singen,Wirtshaussingen
ORGANIZER;CN="Wirtshauss%C3%A4nger Robert Treuheit":MAILTO:schnurri-robert@gmx.de
END:VEVENT
BEGIN:VEVENT
DTSTART;TZID=Europe/Berlin:20250307T190000
DTEND;TZID=Europe/Berlin:20250307T190000
DTSTAMP:20260420T140458
CREATED:20250111T224759Z
LAST-MODIFIED:20250808T202022Z
UID:10000847-1741374000-1741374000@www.volksmusik-mittelfranken.de
SUMMARY:Wirtshaussingen
DESCRIPTION:Wirtshaussingen.\nSingleitung: Robert Treuheit
URL:https://www.volksmusik-mittelfranken.de/event/wirtshaussingen-7/2025-03-07/
LOCATION:Gasthof Rose\, Ansbacher Str. 20\, Flachslanden\, 91604
CATEGORIES:Wirtshaussingen
ORGANIZER;CN="Wirtshauss%C3%A4nger Robert Treuheit":MAILTO:schnurri-robert@gmx.de
END:VEVENT
BEGIN:VEVENT
DTSTART;TZID=Europe/Berlin:20250228T190000
DTEND;TZID=Europe/Berlin:20250228T190000
DTSTAMP:20260420T140458
CREATED:20241112T080624Z
LAST-MODIFIED:20241112T080700Z
UID:10001012-1740769200-1740769200@www.volksmusik-mittelfranken.de
SUMMARY:Wirtshaussingen
DESCRIPTION:Wirtshaussingen.\nSingleitung: Robert Treuheit
URL:https://www.volksmusik-mittelfranken.de/event/wirtshaussingen-11/
LOCATION:Lindenhof\, Fernabrünster Hauptstraße 5\, Großhabersdorf-Fernabrünst\, 90613
CATEGORIES:Wirtshaussingen
ORGANIZER;CN="Wirtshauss%C3%A4nger Robert Treuheit":MAILTO:schnurri-robert@gmx.de
END:VEVENT
BEGIN:VEVENT
DTSTART;TZID=Europe/Berlin:20250216T190000
DTEND;TZID=Europe/Berlin:20250216T190000
DTSTAMP:20260420T140458
CREATED:20241111T214301Z
LAST-MODIFIED:20241112T075948Z
UID:10000168-1739732400-1739732400@www.volksmusik-mittelfranken.de
SUMMARY:Wirtshaussingen
DESCRIPTION:Wirtshaussingen.\nSingleitung: Robert Treuheit
URL:https://www.volksmusik-mittelfranken.de/event/wirtshaussingen/
LOCATION:Bergclubheim\, Kneippallee 16\, Zirndorf\, 90513
CATEGORIES:Wirtshaussingen
ORGANIZER;CN="Wirtshauss%C3%A4nger Robert Treuheit":MAILTO:schnurri-robert@gmx.de
END:VEVENT
BEGIN:VEVENT
DTSTART;TZID=Europe/Berlin:20250103T190000
DTEND;TZID=Europe/Berlin:20250103T190000
DTSTAMP:20260420T140458
CREATED:20240724T224627Z
LAST-MODIFIED:20251123T200240Z
UID:10000880-1735930800-1735930800@www.volksmusik-mittelfranken.de
SUMMARY:Wirtshaussingen
DESCRIPTION:Singleitung und Näheres: Robert Treuheit \nschnurri-robert@gmx.de
URL:https://www.volksmusik-mittelfranken.de/event/wirtshaussingen-10/2025-01-03/
LOCATION:Zenntaler Hof\, Adelsdorf 12\, Neuhof a.d. Zenn\, 90616
CATEGORIES:Wirtshaussingen
ORGANIZER;CN="Wirtshauss%C3%A4nger Robert Treuheit":MAILTO:schnurri-robert@gmx.de
END:VEVENT
BEGIN:VEVENT
DTSTART;TZID=Europe/Berlin:20241206T190000
DTEND;TZID=Europe/Berlin:20241206T190000
DTSTAMP:20260420T140458
CREATED:20240724T135724Z
LAST-MODIFIED:20251123T195634Z
UID:10000682-1733511600-1733511600@www.volksmusik-mittelfranken.de
SUMMARY:Wirtshaussingen
DESCRIPTION:Singleitung und Näheres: Robert Treuheit \nwww.robertundhans.de | 09107/337 | schnurri-robert@gmx.de \n 
URL:https://www.volksmusik-mittelfranken.de/event/wirtshaussingen-3/2024-12-06/
LOCATION:Gasthaus Kirchberger\, Merzbach 4\, Trautskirchen\, 90619
CATEGORIES:Wirtshaussingen
ORGANIZER;CN="Wirtshauss%C3%A4nger Robert Treuheit":MAILTO:schnurri-robert@gmx.de
END:VEVENT
BEGIN:VEVENT
DTSTART;TZID=Europe/Berlin:20241108T190000
DTEND;TZID=Europe/Berlin:20241108T190000
DTSTAMP:20260420T140458
CREATED:20230724T101132Z
LAST-MODIFIED:20240724T224813Z
UID:10000178-1731092400-1731092400@www.volksmusik-mittelfranken.de
SUMMARY:Wirtshaussingen
DESCRIPTION:Wirtshaussingen\nSingleitung: Robert Treuheit
URL:https://www.volksmusik-mittelfranken.de/event/wirtshaussingen-2/
LOCATION:Gasthaus Hofmann\, Sondernohe 9\, Flachslanden\, 91604
CATEGORIES:Wirtshaussingen
ORGANIZER;CN="Wirtshauss%C3%A4nger Robert Treuheit":MAILTO:schnurri-robert@gmx.de
END:VEVENT
BEGIN:VEVENT
DTSTART;TZID=Europe/Berlin:20240621T193000
DTEND;TZID=Europe/Berlin:20240621T193000
DTSTAMP:20260420T140458
CREATED:20240428T221637Z
LAST-MODIFIED:20250513T181931Z
UID:10000849-1718998200-1718998200@www.volksmusik-mittelfranken.de
SUMMARY:Wirtshaussingen
DESCRIPTION:Singleitung: Wirtshaussänger Robert Treuheit
URL:https://www.volksmusik-mittelfranken.de/event/wirtshaussingen-8/2024-06-21/
LOCATION:Gasthof Grüner Baum (Schmotzer)\, Dorfstraße 19\, Puschendorf\, 90617
CATEGORIES:Wirtshaussingen
ORGANIZER;CN="Wirtshauss%C3%A4nger Robert Treuheit":MAILTO:schnurri-robert@gmx.de
END:VEVENT
END:VCALENDAR