BEGIN:VCALENDAR
VERSION:2.0
PRODID:-//Arbeitsgemeinschaft Fränkische Volksmusik Bezirk Mittelfranken - ECPv6.15.16//NONSGML v1.0//EN
CALSCALE:GREGORIAN
METHOD:PUBLISH
X-WR-CALNAME:Arbeitsgemeinschaft Fränkische Volksmusik Bezirk Mittelfranken
X-ORIGINAL-URL:https://www.volksmusik-mittelfranken.de
X-WR-CALDESC:Veranstaltungen für Arbeitsgemeinschaft Fränkische Volksmusik Bezirk Mittelfranken
REFRESH-INTERVAL;VALUE=DURATION:PT1H
X-Robots-Tag:noindex
X-PUBLISHED-TTL:PT1H
BEGIN:VTIMEZONE
TZID:Europe/Berlin
BEGIN:DAYLIGHT
TZOFFSETFROM:+0100
TZOFFSETTO:+0200
TZNAME:CEST
DTSTART:20220327T010000
END:DAYLIGHT
BEGIN:STANDARD
TZOFFSETFROM:+0200
TZOFFSETTO:+0100
TZNAME:CET
DTSTART:20221030T010000
END:STANDARD
BEGIN:DAYLIGHT
TZOFFSETFROM:+0100
TZOFFSETTO:+0200
TZNAME:CEST
DTSTART:20230326T010000
END:DAYLIGHT
BEGIN:STANDARD
TZOFFSETFROM:+0200
TZOFFSETTO:+0100
TZNAME:CET
DTSTART:20231029T010000
END:STANDARD
BEGIN:DAYLIGHT
TZOFFSETFROM:+0100
TZOFFSETTO:+0200
TZNAME:CEST
DTSTART:20240331T010000
END:DAYLIGHT
BEGIN:STANDARD
TZOFFSETFROM:+0200
TZOFFSETTO:+0100
TZNAME:CET
DTSTART:20241027T010000
END:STANDARD
END:VTIMEZONE
BEGIN:VEVENT
DTSTART;TZID=Europe/Berlin:20231213T150000
DTEND;TZID=Europe/Berlin:20231213T150000
DTSTAMP:20260424T130639
CREATED:20231208T105523Z
LAST-MODIFIED:20231208T105551Z
UID:10000704-1702479600-1702479600@www.volksmusik-mittelfranken.de
SUMMARY:Samsdooch Alladooch
DESCRIPTION:Das Sams auf Fränkisch. Obachd: Freggerla mit blauen Punkten im Gesicht! Das Sams spricht jetzt Fränggisch! \nLesung und Musik mit David Saam für Kinder ab 5 Jahre
URL:https://www.volksmusik-mittelfranken.de/event/samsdooch-alladooch/
LOCATION:Bänkla Torhausbühne\, Hauptstraße 55\, Uehlfeld\, 91486
CATEGORIES:Sonstige
ORGANIZER;CN="B%C3%A4nkla Torhausb%C3%BChne":MAILTO:info@baenkla-kultur.de
END:VEVENT
END:VCALENDAR