BEGIN:VCALENDAR
VERSION:2.0
PRODID:-//Arbeitsgemeinschaft Fränkische Volksmusik Bezirk Mittelfranken - ECPv6.15.16//NONSGML v1.0//EN
CALSCALE:GREGORIAN
METHOD:PUBLISH
X-ORIGINAL-URL:https://www.volksmusik-mittelfranken.de
X-WR-CALDESC:Veranstaltungen für Arbeitsgemeinschaft Fränkische Volksmusik Bezirk Mittelfranken
REFRESH-INTERVAL;VALUE=DURATION:PT1H
X-Robots-Tag:noindex
X-PUBLISHED-TTL:PT1H
BEGIN:VTIMEZONE
TZID:Europe/Berlin
BEGIN:DAYLIGHT
TZOFFSETFROM:+0100
TZOFFSETTO:+0200
TZNAME:CEST
DTSTART:20250330T010000
END:DAYLIGHT
BEGIN:STANDARD
TZOFFSETFROM:+0200
TZOFFSETTO:+0100
TZNAME:CET
DTSTART:20251026T010000
END:STANDARD
BEGIN:DAYLIGHT
TZOFFSETFROM:+0100
TZOFFSETTO:+0200
TZNAME:CEST
DTSTART:20260329T010000
END:DAYLIGHT
BEGIN:STANDARD
TZOFFSETFROM:+0200
TZOFFSETTO:+0100
TZNAME:CET
DTSTART:20261025T010000
END:STANDARD
BEGIN:DAYLIGHT
TZOFFSETFROM:+0100
TZOFFSETTO:+0200
TZNAME:CEST
DTSTART:20270328T010000
END:DAYLIGHT
BEGIN:STANDARD
TZOFFSETFROM:+0200
TZOFFSETTO:+0100
TZNAME:CET
DTSTART:20271031T010000
END:STANDARD
END:VTIMEZONE
BEGIN:VEVENT
DTSTART;TZID=Europe/Berlin:20260523T190000
DTEND;TZID=Europe/Berlin:20260523T190000
DTSTAMP:20260421T101327
CREATED:20250604T081912Z
LAST-MODIFIED:20260315T190539Z
UID:10001273-1779562800-1779562800@www.volksmusik-mittelfranken.de
SUMMARY:Fränkischer Pfingsttanz
DESCRIPTION:Fränkischer Pfingsttanz zur Erinnerung an die trad. Pfingsttänze mit Heiner Löffler. \nMit den Volkstanzgruppe aus Kitzingen sowie Musik von den Feuchtwanger Musikanten. \nVorverkauf und Näheres beim Veranstalter (https://fvtg.de/kontakte)
URL:https://www.volksmusik-mittelfranken.de/event/fraenkischer-pfingsttanz/2026-05-23/
LOCATION:Gasthaus Zum Stern\, Hauptstrasse 3\, Gollhofen\, 97258
CATEGORIES:Tanz
END:VEVENT
END:VCALENDAR