BEGIN:VCALENDAR
VERSION:2.0
PRODID:-//Arbeitsgemeinschaft Fränkische Volksmusik Bezirk Mittelfranken - ECPv6.15.16//NONSGML v1.0//EN
CALSCALE:GREGORIAN
METHOD:PUBLISH
X-ORIGINAL-URL:https://www.volksmusik-mittelfranken.de
X-WR-CALDESC:Veranstaltungen für Arbeitsgemeinschaft Fränkische Volksmusik Bezirk Mittelfranken
REFRESH-INTERVAL;VALUE=DURATION:PT1H
X-Robots-Tag:noindex
X-PUBLISHED-TTL:PT1H
BEGIN:VTIMEZONE
TZID:Europe/Berlin
BEGIN:DAYLIGHT
TZOFFSETFROM:+0100
TZOFFSETTO:+0200
TZNAME:CEST
DTSTART:20240331T010000
END:DAYLIGHT
BEGIN:STANDARD
TZOFFSETFROM:+0200
TZOFFSETTO:+0100
TZNAME:CET
DTSTART:20241027T010000
END:STANDARD
BEGIN:DAYLIGHT
TZOFFSETFROM:+0100
TZOFFSETTO:+0200
TZNAME:CEST
DTSTART:20250330T010000
END:DAYLIGHT
BEGIN:STANDARD
TZOFFSETFROM:+0200
TZOFFSETTO:+0100
TZNAME:CET
DTSTART:20251026T010000
END:STANDARD
BEGIN:DAYLIGHT
TZOFFSETFROM:+0100
TZOFFSETTO:+0200
TZNAME:CEST
DTSTART:20260329T010000
END:DAYLIGHT
BEGIN:STANDARD
TZOFFSETFROM:+0200
TZOFFSETTO:+0100
TZNAME:CET
DTSTART:20261025T010000
END:STANDARD
END:VTIMEZONE
BEGIN:VEVENT
DTSTART;TZID=Europe/Berlin:20250601T160000
DTEND;TZID=Europe/Berlin:20250601T190000
DTSTAMP:20260424T204904
CREATED:20250526T084333Z
LAST-MODIFIED:20250526T084506Z
UID:10001110-1748793600-1748804400@www.volksmusik-mittelfranken.de
SUMMARY:Kerwa mit den Ohrerhüllern
DESCRIPTION:Kerwa in Buch am Wald (Landkreis Ansbach). \nMusik: Die Ohrerhüller \nEintritt frei!
URL:https://www.volksmusik-mittelfranken.de/event/kerwa-mit-den-ohrerhuellern/
LOCATION:Gasthaus zur Krone Buch am Wald\, Wirtsgasse 2\, Buch am Wald\, 91592
CATEGORIES:Fest,Kirchweih
END:VEVENT
BEGIN:VEVENT
DTSTART;TZID=Europe/Berlin:20250420T193000
DTEND;TZID=Europe/Berlin:20250420T193000
DTSTAMP:20260424T204904
CREATED:20241117T131109Z
LAST-MODIFIED:20241117T131109Z
UID:10001029-1745177400-1745177400@www.volksmusik-mittelfranken.de
SUMMARY:Ostertanz
DESCRIPTION:Musik: Feuchtwanger Volksmusikanten \nDie Veranstalterin freut sich auf einen fröhlichen Eiertanz – auf euch warten sogar einige Gewinne.
URL:https://www.volksmusik-mittelfranken.de/event/ostertanz/
LOCATION:Gasthaus zur Krone Buch am Wald\, Wirtsgasse 2\, Buch am Wald\, 91592
CATEGORIES:Tanz
ORGANIZER;CN="Volkstanzgruppe Geslau/Kirnberg":MAILTO:volkstanzinkirnberg@gmx.de
END:VEVENT
END:VCALENDAR