BEGIN:VCALENDAR
VERSION:2.0
PRODID:-//Arbeitsgemeinschaft Fränkische Volksmusik Bezirk Mittelfranken - ECPv6.15.16//NONSGML v1.0//EN
CALSCALE:GREGORIAN
METHOD:PUBLISH
X-WR-CALNAME:Arbeitsgemeinschaft Fränkische Volksmusik Bezirk Mittelfranken
X-ORIGINAL-URL:https://www.volksmusik-mittelfranken.de
X-WR-CALDESC:Veranstaltungen für Arbeitsgemeinschaft Fränkische Volksmusik Bezirk Mittelfranken
REFRESH-INTERVAL;VALUE=DURATION:PT1H
X-Robots-Tag:noindex
X-PUBLISHED-TTL:PT1H
BEGIN:VTIMEZONE
TZID:Europe/Berlin
BEGIN:DAYLIGHT
TZOFFSETFROM:+0100
TZOFFSETTO:+0200
TZNAME:CEST
DTSTART:20220327T010000
END:DAYLIGHT
BEGIN:STANDARD
TZOFFSETFROM:+0200
TZOFFSETTO:+0100
TZNAME:CET
DTSTART:20221030T010000
END:STANDARD
BEGIN:DAYLIGHT
TZOFFSETFROM:+0100
TZOFFSETTO:+0200
TZNAME:CEST
DTSTART:20230326T010000
END:DAYLIGHT
BEGIN:STANDARD
TZOFFSETFROM:+0200
TZOFFSETTO:+0100
TZNAME:CET
DTSTART:20231029T010000
END:STANDARD
BEGIN:DAYLIGHT
TZOFFSETFROM:+0100
TZOFFSETTO:+0200
TZNAME:CEST
DTSTART:20240331T010000
END:DAYLIGHT
BEGIN:STANDARD
TZOFFSETFROM:+0200
TZOFFSETTO:+0100
TZNAME:CET
DTSTART:20241027T010000
END:STANDARD
BEGIN:DAYLIGHT
TZOFFSETFROM:+0100
TZOFFSETTO:+0200
TZNAME:CEST
DTSTART:20250330T010000
END:DAYLIGHT
BEGIN:STANDARD
TZOFFSETFROM:+0200
TZOFFSETTO:+0100
TZNAME:CET
DTSTART:20251026T010000
END:STANDARD
END:VTIMEZONE
BEGIN:VEVENT
DTSTART;TZID=Europe/Berlin:20240804T153000
DTEND;TZID=Europe/Berlin:20240804T170000
DTSTAMP:20260420T204158
CREATED:20221206T224204Z
LAST-MODIFIED:20251123T195812Z
UID:10000032-1722785400-1722790800@www.volksmusik-mittelfranken.de
SUMMARY:Musikantenstammtisch "Eigenes Heim"
DESCRIPTION:Der Musikantenstammtisch „Eigenes Heim“ trifft sich jeden 1. Sonntag im Monat in der Gaststätte „Wilhelmshöhe“ zum fröhlichen Musizieren und Beisammensein. Zum Musikantenstammtisch sind alle eingeladen\, die gerne handgemachte Musik spielen. Freunde und Gäste sind ebenfalls herzlich willkommen. \nRückfragen an: Peter Dummert 0911-736985
URL:https://www.volksmusik-mittelfranken.de/event/musikantenstammtisch-eigenes-heim-2/2024-08-04/
LOCATION:Gaststätte Wilhelmshöhe\, Wilhelmstr. 21\, Fürth\, 90766
CATEGORIES:Musikantenstammtisch
END:VEVENT
BEGIN:VEVENT
DTSTART;TZID=Europe/Berlin:20240707T153000
DTEND;TZID=Europe/Berlin:20240707T170000
DTSTAMP:20260420T204158
CREATED:20221206T224204Z
LAST-MODIFIED:20251123T195812Z
UID:10000031-1720366200-1720371600@www.volksmusik-mittelfranken.de
SUMMARY:Musikantenstammtisch "Eigenes Heim"
DESCRIPTION:Der Musikantenstammtisch „Eigenes Heim“ trifft sich jeden 1. Sonntag im Monat in der Gaststätte „Wilhelmshöhe“ zum fröhlichen Musizieren und Beisammensein. Zum Musikantenstammtisch sind alle eingeladen\, die gerne handgemachte Musik spielen. Freunde und Gäste sind ebenfalls herzlich willkommen. \nRückfragen an: Peter Dummert 0911-736985
URL:https://www.volksmusik-mittelfranken.de/event/musikantenstammtisch-eigenes-heim-2/2024-07-07/
LOCATION:Gaststätte Wilhelmshöhe\, Wilhelmstr. 21\, Fürth\, 90766
CATEGORIES:Musikantenstammtisch
END:VEVENT
BEGIN:VEVENT
DTSTART;TZID=Europe/Berlin:20240602T153000
DTEND;TZID=Europe/Berlin:20240602T170000
DTSTAMP:20260420T204158
CREATED:20221206T224204Z
LAST-MODIFIED:20251123T195812Z
UID:10000030-1717342200-1717347600@www.volksmusik-mittelfranken.de
SUMMARY:Musikantenstammtisch "Eigenes Heim"
DESCRIPTION:Der Musikantenstammtisch „Eigenes Heim“ trifft sich jeden 1. Sonntag im Monat in der Gaststätte „Wilhelmshöhe“ zum fröhlichen Musizieren und Beisammensein. Zum Musikantenstammtisch sind alle eingeladen\, die gerne handgemachte Musik spielen. Freunde und Gäste sind ebenfalls herzlich willkommen. \nRückfragen an: Peter Dummert 0911-736985
URL:https://www.volksmusik-mittelfranken.de/event/musikantenstammtisch-eigenes-heim-2/2024-06-02/
LOCATION:Gaststätte Wilhelmshöhe\, Wilhelmstr. 21\, Fürth\, 90766
CATEGORIES:Musikantenstammtisch
END:VEVENT
BEGIN:VEVENT
DTSTART;TZID=Europe/Berlin:20240505T153000
DTEND;TZID=Europe/Berlin:20240505T170000
DTSTAMP:20260420T204158
CREATED:20221206T224204Z
LAST-MODIFIED:20251123T195812Z
UID:10000029-1714923000-1714928400@www.volksmusik-mittelfranken.de
SUMMARY:Musikantenstammtisch "Eigenes Heim"
DESCRIPTION:Der Musikantenstammtisch „Eigenes Heim“ trifft sich jeden 1. Sonntag im Monat in der Gaststätte „Wilhelmshöhe“ zum fröhlichen Musizieren und Beisammensein. Zum Musikantenstammtisch sind alle eingeladen\, die gerne handgemachte Musik spielen. Freunde und Gäste sind ebenfalls herzlich willkommen. \nRückfragen an: Peter Dummert 0911-736985
URL:https://www.volksmusik-mittelfranken.de/event/musikantenstammtisch-eigenes-heim-2/2024-05-05/
LOCATION:Gaststätte Wilhelmshöhe\, Wilhelmstr. 21\, Fürth\, 90766
CATEGORIES:Musikantenstammtisch
END:VEVENT
BEGIN:VEVENT
DTSTART;TZID=Europe/Berlin:20240407T153000
DTEND;TZID=Europe/Berlin:20240407T170000
DTSTAMP:20260420T204158
CREATED:20221206T224204Z
LAST-MODIFIED:20251123T195812Z
UID:10000028-1712503800-1712509200@www.volksmusik-mittelfranken.de
SUMMARY:Musikantenstammtisch "Eigenes Heim"
DESCRIPTION:Der Musikantenstammtisch „Eigenes Heim“ trifft sich jeden 1. Sonntag im Monat in der Gaststätte „Wilhelmshöhe“ zum fröhlichen Musizieren und Beisammensein. Zum Musikantenstammtisch sind alle eingeladen\, die gerne handgemachte Musik spielen. Freunde und Gäste sind ebenfalls herzlich willkommen. \nRückfragen an: Peter Dummert 0911-736985
URL:https://www.volksmusik-mittelfranken.de/event/musikantenstammtisch-eigenes-heim-2/2024-04-07/
LOCATION:Gaststätte Wilhelmshöhe\, Wilhelmstr. 21\, Fürth\, 90766
CATEGORIES:Musikantenstammtisch
END:VEVENT
BEGIN:VEVENT
DTSTART;TZID=Europe/Berlin:20240303T153000
DTEND;TZID=Europe/Berlin:20240303T170000
DTSTAMP:20260420T204158
CREATED:20221206T224204Z
LAST-MODIFIED:20251123T195812Z
UID:10000027-1709479800-1709485200@www.volksmusik-mittelfranken.de
SUMMARY:Musikantenstammtisch "Eigenes Heim"
DESCRIPTION:Der Musikantenstammtisch „Eigenes Heim“ trifft sich jeden 1. Sonntag im Monat in der Gaststätte „Wilhelmshöhe“ zum fröhlichen Musizieren und Beisammensein. Zum Musikantenstammtisch sind alle eingeladen\, die gerne handgemachte Musik spielen. Freunde und Gäste sind ebenfalls herzlich willkommen. \nRückfragen an: Peter Dummert 0911-736985
URL:https://www.volksmusik-mittelfranken.de/event/musikantenstammtisch-eigenes-heim-2/2024-03-03/
LOCATION:Gaststätte Wilhelmshöhe\, Wilhelmstr. 21\, Fürth\, 90766
CATEGORIES:Musikantenstammtisch
END:VEVENT
BEGIN:VEVENT
DTSTART;TZID=Europe/Berlin:20240204T153000
DTEND;TZID=Europe/Berlin:20240204T170000
DTSTAMP:20260420T204158
CREATED:20221206T224204Z
LAST-MODIFIED:20251123T195812Z
UID:10000026-1707060600-1707066000@www.volksmusik-mittelfranken.de
SUMMARY:Musikantenstammtisch "Eigenes Heim"
DESCRIPTION:Der Musikantenstammtisch „Eigenes Heim“ trifft sich jeden 1. Sonntag im Monat in der Gaststätte „Wilhelmshöhe“ zum fröhlichen Musizieren und Beisammensein. Zum Musikantenstammtisch sind alle eingeladen\, die gerne handgemachte Musik spielen. Freunde und Gäste sind ebenfalls herzlich willkommen. \nRückfragen an: Peter Dummert 0911-736985
URL:https://www.volksmusik-mittelfranken.de/event/musikantenstammtisch-eigenes-heim-2/2024-02-04/
LOCATION:Gaststätte Wilhelmshöhe\, Wilhelmstr. 21\, Fürth\, 90766
CATEGORIES:Musikantenstammtisch
END:VEVENT
BEGIN:VEVENT
DTSTART;TZID=Europe/Berlin:20240107T153000
DTEND;TZID=Europe/Berlin:20240107T170000
DTSTAMP:20260420T204158
CREATED:20221206T224204Z
LAST-MODIFIED:20251123T195812Z
UID:10000025-1704641400-1704646800@www.volksmusik-mittelfranken.de
SUMMARY:Musikantenstammtisch "Eigenes Heim"
DESCRIPTION:Der Musikantenstammtisch „Eigenes Heim“ trifft sich jeden 1. Sonntag im Monat in der Gaststätte „Wilhelmshöhe“ zum fröhlichen Musizieren und Beisammensein. Zum Musikantenstammtisch sind alle eingeladen\, die gerne handgemachte Musik spielen. Freunde und Gäste sind ebenfalls herzlich willkommen. \nRückfragen an: Peter Dummert 0911-736985
URL:https://www.volksmusik-mittelfranken.de/event/musikantenstammtisch-eigenes-heim-2/2024-01-07/
LOCATION:Gaststätte Wilhelmshöhe\, Wilhelmstr. 21\, Fürth\, 90766
CATEGORIES:Musikantenstammtisch
END:VEVENT
BEGIN:VEVENT
DTSTART;TZID=Europe/Berlin:20231203T153000
DTEND;TZID=Europe/Berlin:20231203T170000
DTSTAMP:20260420T204158
CREATED:20221206T224204Z
LAST-MODIFIED:20251123T195812Z
UID:10000024-1701617400-1701622800@www.volksmusik-mittelfranken.de
SUMMARY:Musikantenstammtisch "Eigenes Heim"
DESCRIPTION:Der Musikantenstammtisch „Eigenes Heim“ trifft sich jeden 1. Sonntag im Monat in der Gaststätte „Wilhelmshöhe“ zum fröhlichen Musizieren und Beisammensein. Zum Musikantenstammtisch sind alle eingeladen\, die gerne handgemachte Musik spielen. Freunde und Gäste sind ebenfalls herzlich willkommen. \nRückfragen an: Peter Dummert 0911-736985
URL:https://www.volksmusik-mittelfranken.de/event/musikantenstammtisch-eigenes-heim-2/2023-12-03/
LOCATION:Gaststätte Wilhelmshöhe\, Wilhelmstr. 21\, Fürth\, 90766
CATEGORIES:Musikantenstammtisch
END:VEVENT
BEGIN:VEVENT
DTSTART;TZID=Europe/Berlin:20231105T153000
DTEND;TZID=Europe/Berlin:20231105T170000
DTSTAMP:20260420T204158
CREATED:20221206T224204Z
LAST-MODIFIED:20251123T195812Z
UID:10000023-1699198200-1699203600@www.volksmusik-mittelfranken.de
SUMMARY:Musikantenstammtisch "Eigenes Heim"
DESCRIPTION:Der Musikantenstammtisch „Eigenes Heim“ trifft sich jeden 1. Sonntag im Monat in der Gaststätte „Wilhelmshöhe“ zum fröhlichen Musizieren und Beisammensein. Zum Musikantenstammtisch sind alle eingeladen\, die gerne handgemachte Musik spielen. Freunde und Gäste sind ebenfalls herzlich willkommen. \nRückfragen an: Peter Dummert 0911-736985
URL:https://www.volksmusik-mittelfranken.de/event/musikantenstammtisch-eigenes-heim-2/2023-11-05/
LOCATION:Gaststätte Wilhelmshöhe\, Wilhelmstr. 21\, Fürth\, 90766
CATEGORIES:Musikantenstammtisch
END:VEVENT
BEGIN:VEVENT
DTSTART;TZID=Europe/Berlin:20231001T153000
DTEND;TZID=Europe/Berlin:20231001T170000
DTSTAMP:20260420T204158
CREATED:20221206T224204Z
LAST-MODIFIED:20251123T195812Z
UID:10000022-1696174200-1696179600@www.volksmusik-mittelfranken.de
SUMMARY:Musikantenstammtisch "Eigenes Heim"
DESCRIPTION:Der Musikantenstammtisch „Eigenes Heim“ trifft sich jeden 1. Sonntag im Monat in der Gaststätte „Wilhelmshöhe“ zum fröhlichen Musizieren und Beisammensein. Zum Musikantenstammtisch sind alle eingeladen\, die gerne handgemachte Musik spielen. Freunde und Gäste sind ebenfalls herzlich willkommen. \nRückfragen an: Peter Dummert 0911-736985
URL:https://www.volksmusik-mittelfranken.de/event/musikantenstammtisch-eigenes-heim-2/2023-10-01/
LOCATION:Gaststätte Wilhelmshöhe\, Wilhelmstr. 21\, Fürth\, 90766
CATEGORIES:Musikantenstammtisch
END:VEVENT
BEGIN:VEVENT
DTSTART;TZID=Europe/Berlin:20230903T153000
DTEND;TZID=Europe/Berlin:20230903T170000
DTSTAMP:20260420T204158
CREATED:20221206T224204Z
LAST-MODIFIED:20251123T195812Z
UID:10000021-1693755000-1693760400@www.volksmusik-mittelfranken.de
SUMMARY:Musikantenstammtisch "Eigenes Heim"
DESCRIPTION:Der Musikantenstammtisch „Eigenes Heim“ trifft sich jeden 1. Sonntag im Monat in der Gaststätte „Wilhelmshöhe“ zum fröhlichen Musizieren und Beisammensein. Zum Musikantenstammtisch sind alle eingeladen\, die gerne handgemachte Musik spielen. Freunde und Gäste sind ebenfalls herzlich willkommen. \nRückfragen an: Peter Dummert 0911-736985
URL:https://www.volksmusik-mittelfranken.de/event/musikantenstammtisch-eigenes-heim-2/2023-09-03/
LOCATION:Gaststätte Wilhelmshöhe\, Wilhelmstr. 21\, Fürth\, 90766
CATEGORIES:Musikantenstammtisch
END:VEVENT
BEGIN:VEVENT
DTSTART;TZID=Europe/Berlin:20230806T153000
DTEND;TZID=Europe/Berlin:20230806T170000
DTSTAMP:20260420T204158
CREATED:20221206T224204Z
LAST-MODIFIED:20251123T195812Z
UID:10000020-1691335800-1691341200@www.volksmusik-mittelfranken.de
SUMMARY:Musikantenstammtisch "Eigenes Heim"
DESCRIPTION:Der Musikantenstammtisch „Eigenes Heim“ trifft sich jeden 1. Sonntag im Monat in der Gaststätte „Wilhelmshöhe“ zum fröhlichen Musizieren und Beisammensein. Zum Musikantenstammtisch sind alle eingeladen\, die gerne handgemachte Musik spielen. Freunde und Gäste sind ebenfalls herzlich willkommen. \nRückfragen an: Peter Dummert 0911-736985
URL:https://www.volksmusik-mittelfranken.de/event/musikantenstammtisch-eigenes-heim-2/2023-08-06/
LOCATION:Gaststätte Wilhelmshöhe\, Wilhelmstr. 21\, Fürth\, 90766
CATEGORIES:Musikantenstammtisch
END:VEVENT
BEGIN:VEVENT
DTSTART;TZID=Europe/Berlin:20230702T153000
DTEND;TZID=Europe/Berlin:20230702T170000
DTSTAMP:20260420T204158
CREATED:20221206T224204Z
LAST-MODIFIED:20251123T195812Z
UID:10000019-1688311800-1688317200@www.volksmusik-mittelfranken.de
SUMMARY:Musikantenstammtisch "Eigenes Heim"
DESCRIPTION:Der Musikantenstammtisch „Eigenes Heim“ trifft sich jeden 1. Sonntag im Monat in der Gaststätte „Wilhelmshöhe“ zum fröhlichen Musizieren und Beisammensein. Zum Musikantenstammtisch sind alle eingeladen\, die gerne handgemachte Musik spielen. Freunde und Gäste sind ebenfalls herzlich willkommen. \nRückfragen an: Peter Dummert 0911-736985
URL:https://www.volksmusik-mittelfranken.de/event/musikantenstammtisch-eigenes-heim-2/2023-07-02/
LOCATION:Gaststätte Wilhelmshöhe\, Wilhelmstr. 21\, Fürth\, 90766
CATEGORIES:Musikantenstammtisch
END:VEVENT
BEGIN:VEVENT
DTSTART;TZID=Europe/Berlin:20230604T153000
DTEND;TZID=Europe/Berlin:20230604T170000
DTSTAMP:20260420T204158
CREATED:20221206T224204Z
LAST-MODIFIED:20251123T195812Z
UID:10000018-1685892600-1685898000@www.volksmusik-mittelfranken.de
SUMMARY:Musikantenstammtisch "Eigenes Heim"
DESCRIPTION:Der Musikantenstammtisch „Eigenes Heim“ trifft sich jeden 1. Sonntag im Monat in der Gaststätte „Wilhelmshöhe“ zum fröhlichen Musizieren und Beisammensein. Zum Musikantenstammtisch sind alle eingeladen\, die gerne handgemachte Musik spielen. Freunde und Gäste sind ebenfalls herzlich willkommen. \nRückfragen an: Peter Dummert 0911-736985
URL:https://www.volksmusik-mittelfranken.de/event/musikantenstammtisch-eigenes-heim-2/2023-06-04/
LOCATION:Gaststätte Wilhelmshöhe\, Wilhelmstr. 21\, Fürth\, 90766
CATEGORIES:Musikantenstammtisch
END:VEVENT
BEGIN:VEVENT
DTSTART;TZID=Europe/Berlin:20230507T153000
DTEND;TZID=Europe/Berlin:20230507T170000
DTSTAMP:20260420T204158
CREATED:20221206T224204Z
LAST-MODIFIED:20251123T195812Z
UID:10000017-1683473400-1683478800@www.volksmusik-mittelfranken.de
SUMMARY:Musikantenstammtisch "Eigenes Heim"
DESCRIPTION:Der Musikantenstammtisch „Eigenes Heim“ trifft sich jeden 1. Sonntag im Monat in der Gaststätte „Wilhelmshöhe“ zum fröhlichen Musizieren und Beisammensein. Zum Musikantenstammtisch sind alle eingeladen\, die gerne handgemachte Musik spielen. Freunde und Gäste sind ebenfalls herzlich willkommen. \nRückfragen an: Peter Dummert 0911-736985
URL:https://www.volksmusik-mittelfranken.de/event/musikantenstammtisch-eigenes-heim-2/2023-05-07/
LOCATION:Gaststätte Wilhelmshöhe\, Wilhelmstr. 21\, Fürth\, 90766
CATEGORIES:Musikantenstammtisch
END:VEVENT
BEGIN:VEVENT
DTSTART;TZID=Europe/Berlin:20230402T153000
DTEND;TZID=Europe/Berlin:20230402T170000
DTSTAMP:20260420T204158
CREATED:20221206T224204Z
LAST-MODIFIED:20251123T195812Z
UID:10000016-1680449400-1680454800@www.volksmusik-mittelfranken.de
SUMMARY:Musikantenstammtisch "Eigenes Heim"
DESCRIPTION:Der Musikantenstammtisch „Eigenes Heim“ trifft sich jeden 1. Sonntag im Monat in der Gaststätte „Wilhelmshöhe“ zum fröhlichen Musizieren und Beisammensein. Zum Musikantenstammtisch sind alle eingeladen\, die gerne handgemachte Musik spielen. Freunde und Gäste sind ebenfalls herzlich willkommen. \nRückfragen an: Peter Dummert 0911-736985
URL:https://www.volksmusik-mittelfranken.de/event/musikantenstammtisch-eigenes-heim-2/2023-04-02/
LOCATION:Gaststätte Wilhelmshöhe\, Wilhelmstr. 21\, Fürth\, 90766
CATEGORIES:Musikantenstammtisch
END:VEVENT
BEGIN:VEVENT
DTSTART;TZID=Europe/Berlin:20230305T153000
DTEND;TZID=Europe/Berlin:20230305T170000
DTSTAMP:20260420T204158
CREATED:20221206T224204Z
LAST-MODIFIED:20251123T195812Z
UID:10000015-1678030200-1678035600@www.volksmusik-mittelfranken.de
SUMMARY:Musikantenstammtisch "Eigenes Heim"
DESCRIPTION:Der Musikantenstammtisch „Eigenes Heim“ trifft sich jeden 1. Sonntag im Monat in der Gaststätte „Wilhelmshöhe“ zum fröhlichen Musizieren und Beisammensein. Zum Musikantenstammtisch sind alle eingeladen\, die gerne handgemachte Musik spielen. Freunde und Gäste sind ebenfalls herzlich willkommen. \nRückfragen an: Peter Dummert 0911-736985
URL:https://www.volksmusik-mittelfranken.de/event/musikantenstammtisch-eigenes-heim-2/2023-03-05/
LOCATION:Gaststätte Wilhelmshöhe\, Wilhelmstr. 21\, Fürth\, 90766
CATEGORIES:Musikantenstammtisch
END:VEVENT
BEGIN:VEVENT
DTSTART;TZID=Europe/Berlin:20230205T153000
DTEND;TZID=Europe/Berlin:20230205T170000
DTSTAMP:20260420T204158
CREATED:20221206T224204Z
LAST-MODIFIED:20251123T195812Z
UID:10000014-1675611000-1675616400@www.volksmusik-mittelfranken.de
SUMMARY:Musikantenstammtisch "Eigenes Heim"
DESCRIPTION:Der Musikantenstammtisch „Eigenes Heim“ trifft sich jeden 1. Sonntag im Monat in der Gaststätte „Wilhelmshöhe“ zum fröhlichen Musizieren und Beisammensein. Zum Musikantenstammtisch sind alle eingeladen\, die gerne handgemachte Musik spielen. Freunde und Gäste sind ebenfalls herzlich willkommen. \nRückfragen an: Peter Dummert 0911-736985
URL:https://www.volksmusik-mittelfranken.de/event/musikantenstammtisch-eigenes-heim-2/2023-02-05/
LOCATION:Gaststätte Wilhelmshöhe\, Wilhelmstr. 21\, Fürth\, 90766
CATEGORIES:Musikantenstammtisch
END:VEVENT
BEGIN:VEVENT
DTSTART;TZID=Europe/Berlin:20230101T153000
DTEND;TZID=Europe/Berlin:20230101T170000
DTSTAMP:20260420T204158
CREATED:20221206T224204Z
LAST-MODIFIED:20251123T195812Z
UID:10000013-1672587000-1672592400@www.volksmusik-mittelfranken.de
SUMMARY:Musikantenstammtisch "Eigenes Heim"
DESCRIPTION:Der Musikantenstammtisch „Eigenes Heim“ trifft sich jeden 1. Sonntag im Monat in der Gaststätte „Wilhelmshöhe“ zum fröhlichen Musizieren und Beisammensein. Zum Musikantenstammtisch sind alle eingeladen\, die gerne handgemachte Musik spielen. Freunde und Gäste sind ebenfalls herzlich willkommen. \nRückfragen an: Peter Dummert 0911-736985
URL:https://www.volksmusik-mittelfranken.de/event/musikantenstammtisch-eigenes-heim-2/2023-01-01/
LOCATION:Gaststätte Wilhelmshöhe\, Wilhelmstr. 21\, Fürth\, 90766
CATEGORIES:Musikantenstammtisch
END:VEVENT
END:VCALENDAR