BEGIN:VCALENDAR
VERSION:2.0
PRODID:-//Arbeitsgemeinschaft Fränkische Volksmusik Bezirk Mittelfranken - ECPv6.15.16//NONSGML v1.0//EN
CALSCALE:GREGORIAN
METHOD:PUBLISH
X-WR-CALNAME:Arbeitsgemeinschaft Fränkische Volksmusik Bezirk Mittelfranken
X-ORIGINAL-URL:https://www.volksmusik-mittelfranken.de
X-WR-CALDESC:Veranstaltungen für Arbeitsgemeinschaft Fränkische Volksmusik Bezirk Mittelfranken
REFRESH-INTERVAL;VALUE=DURATION:PT1H
X-Robots-Tag:noindex
X-PUBLISHED-TTL:PT1H
BEGIN:VTIMEZONE
TZID:Europe/Berlin
BEGIN:DAYLIGHT
TZOFFSETFROM:+0100
TZOFFSETTO:+0200
TZNAME:CEST
DTSTART:20270328T010000
END:DAYLIGHT
BEGIN:STANDARD
TZOFFSETFROM:+0200
TZOFFSETTO:+0100
TZNAME:CET
DTSTART:20271031T010000
END:STANDARD
BEGIN:DAYLIGHT
TZOFFSETFROM:+0100
TZOFFSETTO:+0200
TZNAME:CEST
DTSTART:20280326T010000
END:DAYLIGHT
BEGIN:STANDARD
TZOFFSETFROM:+0200
TZOFFSETTO:+0100
TZNAME:CET
DTSTART:20281029T010000
END:STANDARD
BEGIN:DAYLIGHT
TZOFFSETFROM:+0100
TZOFFSETTO:+0200
TZNAME:CEST
DTSTART:20290325T010000
END:DAYLIGHT
BEGIN:STANDARD
TZOFFSETFROM:+0200
TZOFFSETTO:+0100
TZNAME:CET
DTSTART:20291028T010000
END:STANDARD
BEGIN:DAYLIGHT
TZOFFSETFROM:+0100
TZOFFSETTO:+0200
TZNAME:CEST
DTSTART:20300331T010000
END:DAYLIGHT
BEGIN:STANDARD
TZOFFSETFROM:+0200
TZOFFSETTO:+0100
TZNAME:CET
DTSTART:20301027T010000
END:STANDARD
BEGIN:DAYLIGHT
TZOFFSETFROM:+0100
TZOFFSETTO:+0200
TZNAME:CEST
DTSTART:20310330T010000
END:DAYLIGHT
BEGIN:STANDARD
TZOFFSETFROM:+0200
TZOFFSETTO:+0100
TZNAME:CET
DTSTART:20311026T010000
END:STANDARD
END:VTIMEZONE
BEGIN:VEVENT
DTSTART;TZID=Europe/Berlin:20280102T153000
DTEND;TZID=Europe/Berlin:20280102T170000
DTSTAMP:20260420T170743
CREATED:20221206T224204Z
LAST-MODIFIED:20251123T195812Z
UID:10000493-1830439800-1830445200@www.volksmusik-mittelfranken.de
SUMMARY:Musikantenstammtisch "Eigenes Heim"
DESCRIPTION:Der Musikantenstammtisch „Eigenes Heim“ trifft sich jeden 1. Sonntag im Monat in der Gaststätte „Wilhelmshöhe“ zum fröhlichen Musizieren und Beisammensein. Zum Musikantenstammtisch sind alle eingeladen\, die gerne handgemachte Musik spielen. Freunde und Gäste sind ebenfalls herzlich willkommen. \nRückfragen an: Peter Dummert 0911-736985
URL:https://www.volksmusik-mittelfranken.de/event/musikantenstammtisch-eigenes-heim-2/2028-01-02/
LOCATION:Gaststätte Wilhelmshöhe\, Wilhelmstr. 21\, Fürth\, 90766
CATEGORIES:Musikantenstammtisch
END:VEVENT
BEGIN:VEVENT
DTSTART;TZID=Europe/Berlin:20280206T153000
DTEND;TZID=Europe/Berlin:20280206T170000
DTSTAMP:20260420T170743
CREATED:20221206T224204Z
LAST-MODIFIED:20251123T195812Z
UID:10000494-1833463800-1833469200@www.volksmusik-mittelfranken.de
SUMMARY:Musikantenstammtisch "Eigenes Heim"
DESCRIPTION:Der Musikantenstammtisch „Eigenes Heim“ trifft sich jeden 1. Sonntag im Monat in der Gaststätte „Wilhelmshöhe“ zum fröhlichen Musizieren und Beisammensein. Zum Musikantenstammtisch sind alle eingeladen\, die gerne handgemachte Musik spielen. Freunde und Gäste sind ebenfalls herzlich willkommen. \nRückfragen an: Peter Dummert 0911-736985
URL:https://www.volksmusik-mittelfranken.de/event/musikantenstammtisch-eigenes-heim-2/2028-02-06/
LOCATION:Gaststätte Wilhelmshöhe\, Wilhelmstr. 21\, Fürth\, 90766
CATEGORIES:Musikantenstammtisch
END:VEVENT
BEGIN:VEVENT
DTSTART;TZID=Europe/Berlin:20280305T153000
DTEND;TZID=Europe/Berlin:20280305T170000
DTSTAMP:20260420T170743
CREATED:20221206T224204Z
LAST-MODIFIED:20251123T195812Z
UID:10000495-1835883000-1835888400@www.volksmusik-mittelfranken.de
SUMMARY:Musikantenstammtisch "Eigenes Heim"
DESCRIPTION:Der Musikantenstammtisch „Eigenes Heim“ trifft sich jeden 1. Sonntag im Monat in der Gaststätte „Wilhelmshöhe“ zum fröhlichen Musizieren und Beisammensein. Zum Musikantenstammtisch sind alle eingeladen\, die gerne handgemachte Musik spielen. Freunde und Gäste sind ebenfalls herzlich willkommen. \nRückfragen an: Peter Dummert 0911-736985
URL:https://www.volksmusik-mittelfranken.de/event/musikantenstammtisch-eigenes-heim-2/2028-03-05/
LOCATION:Gaststätte Wilhelmshöhe\, Wilhelmstr. 21\, Fürth\, 90766
CATEGORIES:Musikantenstammtisch
END:VEVENT
BEGIN:VEVENT
DTSTART;TZID=Europe/Berlin:20280402T153000
DTEND;TZID=Europe/Berlin:20280402T170000
DTSTAMP:20260420T170743
CREATED:20221206T224204Z
LAST-MODIFIED:20251123T195812Z
UID:10000496-1838302200-1838307600@www.volksmusik-mittelfranken.de
SUMMARY:Musikantenstammtisch "Eigenes Heim"
DESCRIPTION:Der Musikantenstammtisch „Eigenes Heim“ trifft sich jeden 1. Sonntag im Monat in der Gaststätte „Wilhelmshöhe“ zum fröhlichen Musizieren und Beisammensein. Zum Musikantenstammtisch sind alle eingeladen\, die gerne handgemachte Musik spielen. Freunde und Gäste sind ebenfalls herzlich willkommen. \nRückfragen an: Peter Dummert 0911-736985
URL:https://www.volksmusik-mittelfranken.de/event/musikantenstammtisch-eigenes-heim-2/2028-04-02/
LOCATION:Gaststätte Wilhelmshöhe\, Wilhelmstr. 21\, Fürth\, 90766
CATEGORIES:Musikantenstammtisch
END:VEVENT
BEGIN:VEVENT
DTSTART;TZID=Europe/Berlin:20280507T153000
DTEND;TZID=Europe/Berlin:20280507T170000
DTSTAMP:20260420T170743
CREATED:20221206T224204Z
LAST-MODIFIED:20251123T195812Z
UID:10000497-1841326200-1841331600@www.volksmusik-mittelfranken.de
SUMMARY:Musikantenstammtisch "Eigenes Heim"
DESCRIPTION:Der Musikantenstammtisch „Eigenes Heim“ trifft sich jeden 1. Sonntag im Monat in der Gaststätte „Wilhelmshöhe“ zum fröhlichen Musizieren und Beisammensein. Zum Musikantenstammtisch sind alle eingeladen\, die gerne handgemachte Musik spielen. Freunde und Gäste sind ebenfalls herzlich willkommen. \nRückfragen an: Peter Dummert 0911-736985
URL:https://www.volksmusik-mittelfranken.de/event/musikantenstammtisch-eigenes-heim-2/2028-05-07/
LOCATION:Gaststätte Wilhelmshöhe\, Wilhelmstr. 21\, Fürth\, 90766
CATEGORIES:Musikantenstammtisch
END:VEVENT
BEGIN:VEVENT
DTSTART;TZID=Europe/Berlin:20280604T153000
DTEND;TZID=Europe/Berlin:20280604T170000
DTSTAMP:20260420T170743
CREATED:20221206T224204Z
LAST-MODIFIED:20251123T195812Z
UID:10000498-1843745400-1843750800@www.volksmusik-mittelfranken.de
SUMMARY:Musikantenstammtisch "Eigenes Heim"
DESCRIPTION:Der Musikantenstammtisch „Eigenes Heim“ trifft sich jeden 1. Sonntag im Monat in der Gaststätte „Wilhelmshöhe“ zum fröhlichen Musizieren und Beisammensein. Zum Musikantenstammtisch sind alle eingeladen\, die gerne handgemachte Musik spielen. Freunde und Gäste sind ebenfalls herzlich willkommen. \nRückfragen an: Peter Dummert 0911-736985
URL:https://www.volksmusik-mittelfranken.de/event/musikantenstammtisch-eigenes-heim-2/2028-06-04/
LOCATION:Gaststätte Wilhelmshöhe\, Wilhelmstr. 21\, Fürth\, 90766
CATEGORIES:Musikantenstammtisch
END:VEVENT
BEGIN:VEVENT
DTSTART;TZID=Europe/Berlin:20280702T153000
DTEND;TZID=Europe/Berlin:20280702T170000
DTSTAMP:20260420T170743
CREATED:20221206T224204Z
LAST-MODIFIED:20251123T195812Z
UID:10000499-1846164600-1846170000@www.volksmusik-mittelfranken.de
SUMMARY:Musikantenstammtisch "Eigenes Heim"
DESCRIPTION:Der Musikantenstammtisch „Eigenes Heim“ trifft sich jeden 1. Sonntag im Monat in der Gaststätte „Wilhelmshöhe“ zum fröhlichen Musizieren und Beisammensein. Zum Musikantenstammtisch sind alle eingeladen\, die gerne handgemachte Musik spielen. Freunde und Gäste sind ebenfalls herzlich willkommen. \nRückfragen an: Peter Dummert 0911-736985
URL:https://www.volksmusik-mittelfranken.de/event/musikantenstammtisch-eigenes-heim-2/2028-07-02/
LOCATION:Gaststätte Wilhelmshöhe\, Wilhelmstr. 21\, Fürth\, 90766
CATEGORIES:Musikantenstammtisch
END:VEVENT
BEGIN:VEVENT
DTSTART;TZID=Europe/Berlin:20280806T153000
DTEND;TZID=Europe/Berlin:20280806T170000
DTSTAMP:20260420T170743
CREATED:20221206T224204Z
LAST-MODIFIED:20251123T195812Z
UID:10000500-1849188600-1849194000@www.volksmusik-mittelfranken.de
SUMMARY:Musikantenstammtisch "Eigenes Heim"
DESCRIPTION:Der Musikantenstammtisch „Eigenes Heim“ trifft sich jeden 1. Sonntag im Monat in der Gaststätte „Wilhelmshöhe“ zum fröhlichen Musizieren und Beisammensein. Zum Musikantenstammtisch sind alle eingeladen\, die gerne handgemachte Musik spielen. Freunde und Gäste sind ebenfalls herzlich willkommen. \nRückfragen an: Peter Dummert 0911-736985
URL:https://www.volksmusik-mittelfranken.de/event/musikantenstammtisch-eigenes-heim-2/2028-08-06/
LOCATION:Gaststätte Wilhelmshöhe\, Wilhelmstr. 21\, Fürth\, 90766
CATEGORIES:Musikantenstammtisch
END:VEVENT
BEGIN:VEVENT
DTSTART;TZID=Europe/Berlin:20280903T153000
DTEND;TZID=Europe/Berlin:20280903T170000
DTSTAMP:20260420T170743
CREATED:20221206T224204Z
LAST-MODIFIED:20251123T195812Z
UID:10000501-1851607800-1851613200@www.volksmusik-mittelfranken.de
SUMMARY:Musikantenstammtisch "Eigenes Heim"
DESCRIPTION:Der Musikantenstammtisch „Eigenes Heim“ trifft sich jeden 1. Sonntag im Monat in der Gaststätte „Wilhelmshöhe“ zum fröhlichen Musizieren und Beisammensein. Zum Musikantenstammtisch sind alle eingeladen\, die gerne handgemachte Musik spielen. Freunde und Gäste sind ebenfalls herzlich willkommen. \nRückfragen an: Peter Dummert 0911-736985
URL:https://www.volksmusik-mittelfranken.de/event/musikantenstammtisch-eigenes-heim-2/2028-09-03/
LOCATION:Gaststätte Wilhelmshöhe\, Wilhelmstr. 21\, Fürth\, 90766
CATEGORIES:Musikantenstammtisch
END:VEVENT
BEGIN:VEVENT
DTSTART;TZID=Europe/Berlin:20281001T153000
DTEND;TZID=Europe/Berlin:20281001T170000
DTSTAMP:20260420T170743
CREATED:20221206T224204Z
LAST-MODIFIED:20251123T195812Z
UID:10000502-1854027000-1854032400@www.volksmusik-mittelfranken.de
SUMMARY:Musikantenstammtisch "Eigenes Heim"
DESCRIPTION:Der Musikantenstammtisch „Eigenes Heim“ trifft sich jeden 1. Sonntag im Monat in der Gaststätte „Wilhelmshöhe“ zum fröhlichen Musizieren und Beisammensein. Zum Musikantenstammtisch sind alle eingeladen\, die gerne handgemachte Musik spielen. Freunde und Gäste sind ebenfalls herzlich willkommen. \nRückfragen an: Peter Dummert 0911-736985
URL:https://www.volksmusik-mittelfranken.de/event/musikantenstammtisch-eigenes-heim-2/2028-10-01/
LOCATION:Gaststätte Wilhelmshöhe\, Wilhelmstr. 21\, Fürth\, 90766
CATEGORIES:Musikantenstammtisch
END:VEVENT
BEGIN:VEVENT
DTSTART;TZID=Europe/Berlin:20281105T153000
DTEND;TZID=Europe/Berlin:20281105T170000
DTSTAMP:20260420T170743
CREATED:20221206T224204Z
LAST-MODIFIED:20251123T195812Z
UID:10000609-1857051000-1857056400@www.volksmusik-mittelfranken.de
SUMMARY:Musikantenstammtisch "Eigenes Heim"
DESCRIPTION:Der Musikantenstammtisch „Eigenes Heim“ trifft sich jeden 1. Sonntag im Monat in der Gaststätte „Wilhelmshöhe“ zum fröhlichen Musizieren und Beisammensein. Zum Musikantenstammtisch sind alle eingeladen\, die gerne handgemachte Musik spielen. Freunde und Gäste sind ebenfalls herzlich willkommen. \nRückfragen an: Peter Dummert 0911-736985
URL:https://www.volksmusik-mittelfranken.de/event/musikantenstammtisch-eigenes-heim-2/2028-11-05/
LOCATION:Gaststätte Wilhelmshöhe\, Wilhelmstr. 21\, Fürth\, 90766
CATEGORIES:Musikantenstammtisch
END:VEVENT
BEGIN:VEVENT
DTSTART;TZID=Europe/Berlin:20281203T153000
DTEND;TZID=Europe/Berlin:20281203T170000
DTSTAMP:20260420T170743
CREATED:20221206T224204Z
LAST-MODIFIED:20251123T195812Z
UID:10001192-1859470200-1859475600@www.volksmusik-mittelfranken.de
SUMMARY:Musikantenstammtisch "Eigenes Heim"
DESCRIPTION:Der Musikantenstammtisch „Eigenes Heim“ trifft sich jeden 1. Sonntag im Monat in der Gaststätte „Wilhelmshöhe“ zum fröhlichen Musizieren und Beisammensein. Zum Musikantenstammtisch sind alle eingeladen\, die gerne handgemachte Musik spielen. Freunde und Gäste sind ebenfalls herzlich willkommen. \nRückfragen an: Peter Dummert 0911-736985
URL:https://www.volksmusik-mittelfranken.de/event/musikantenstammtisch-eigenes-heim-2/2028-12-03/
LOCATION:Gaststätte Wilhelmshöhe\, Wilhelmstr. 21\, Fürth\, 90766
CATEGORIES:Musikantenstammtisch
END:VEVENT
BEGIN:VEVENT
DTSTART;TZID=Europe/Berlin:20290107T153000
DTEND;TZID=Europe/Berlin:20290107T170000
DTSTAMP:20260420T170743
CREATED:20221206T224204Z
LAST-MODIFIED:20251123T195812Z
UID:10001193-1862494200-1862499600@www.volksmusik-mittelfranken.de
SUMMARY:Musikantenstammtisch "Eigenes Heim"
DESCRIPTION:Der Musikantenstammtisch „Eigenes Heim“ trifft sich jeden 1. Sonntag im Monat in der Gaststätte „Wilhelmshöhe“ zum fröhlichen Musizieren und Beisammensein. Zum Musikantenstammtisch sind alle eingeladen\, die gerne handgemachte Musik spielen. Freunde und Gäste sind ebenfalls herzlich willkommen. \nRückfragen an: Peter Dummert 0911-736985
URL:https://www.volksmusik-mittelfranken.de/event/musikantenstammtisch-eigenes-heim-2/2029-01-07/
LOCATION:Gaststätte Wilhelmshöhe\, Wilhelmstr. 21\, Fürth\, 90766
CATEGORIES:Musikantenstammtisch
END:VEVENT
BEGIN:VEVENT
DTSTART;TZID=Europe/Berlin:20290204T153000
DTEND;TZID=Europe/Berlin:20290204T170000
DTSTAMP:20260420T170743
CREATED:20221206T224204Z
LAST-MODIFIED:20251123T195812Z
UID:10001194-1864913400-1864918800@www.volksmusik-mittelfranken.de
SUMMARY:Musikantenstammtisch "Eigenes Heim"
DESCRIPTION:Der Musikantenstammtisch „Eigenes Heim“ trifft sich jeden 1. Sonntag im Monat in der Gaststätte „Wilhelmshöhe“ zum fröhlichen Musizieren und Beisammensein. Zum Musikantenstammtisch sind alle eingeladen\, die gerne handgemachte Musik spielen. Freunde und Gäste sind ebenfalls herzlich willkommen. \nRückfragen an: Peter Dummert 0911-736985
URL:https://www.volksmusik-mittelfranken.de/event/musikantenstammtisch-eigenes-heim-2/2029-02-04/
LOCATION:Gaststätte Wilhelmshöhe\, Wilhelmstr. 21\, Fürth\, 90766
CATEGORIES:Musikantenstammtisch
END:VEVENT
BEGIN:VEVENT
DTSTART;TZID=Europe/Berlin:20290304T153000
DTEND;TZID=Europe/Berlin:20290304T170000
DTSTAMP:20260420T170743
CREATED:20221206T224204Z
LAST-MODIFIED:20251123T195812Z
UID:10001195-1867332600-1867338000@www.volksmusik-mittelfranken.de
SUMMARY:Musikantenstammtisch "Eigenes Heim"
DESCRIPTION:Der Musikantenstammtisch „Eigenes Heim“ trifft sich jeden 1. Sonntag im Monat in der Gaststätte „Wilhelmshöhe“ zum fröhlichen Musizieren und Beisammensein. Zum Musikantenstammtisch sind alle eingeladen\, die gerne handgemachte Musik spielen. Freunde und Gäste sind ebenfalls herzlich willkommen. \nRückfragen an: Peter Dummert 0911-736985
URL:https://www.volksmusik-mittelfranken.de/event/musikantenstammtisch-eigenes-heim-2/2029-03-04/
LOCATION:Gaststätte Wilhelmshöhe\, Wilhelmstr. 21\, Fürth\, 90766
CATEGORIES:Musikantenstammtisch
END:VEVENT
BEGIN:VEVENT
DTSTART;TZID=Europe/Berlin:20290401T153000
DTEND;TZID=Europe/Berlin:20290401T170000
DTSTAMP:20260420T170744
CREATED:20221206T224204Z
LAST-MODIFIED:20251123T195812Z
UID:10001196-1869751800-1869757200@www.volksmusik-mittelfranken.de
SUMMARY:Musikantenstammtisch "Eigenes Heim"
DESCRIPTION:Der Musikantenstammtisch „Eigenes Heim“ trifft sich jeden 1. Sonntag im Monat in der Gaststätte „Wilhelmshöhe“ zum fröhlichen Musizieren und Beisammensein. Zum Musikantenstammtisch sind alle eingeladen\, die gerne handgemachte Musik spielen. Freunde und Gäste sind ebenfalls herzlich willkommen. \nRückfragen an: Peter Dummert 0911-736985
URL:https://www.volksmusik-mittelfranken.de/event/musikantenstammtisch-eigenes-heim-2/2029-04-01/
LOCATION:Gaststätte Wilhelmshöhe\, Wilhelmstr. 21\, Fürth\, 90766
CATEGORIES:Musikantenstammtisch
END:VEVENT
BEGIN:VEVENT
DTSTART;TZID=Europe/Berlin:20290506T153000
DTEND;TZID=Europe/Berlin:20290506T170000
DTSTAMP:20260420T170744
CREATED:20221206T224204Z
LAST-MODIFIED:20251123T195812Z
UID:10001197-1872775800-1872781200@www.volksmusik-mittelfranken.de
SUMMARY:Musikantenstammtisch "Eigenes Heim"
DESCRIPTION:Der Musikantenstammtisch „Eigenes Heim“ trifft sich jeden 1. Sonntag im Monat in der Gaststätte „Wilhelmshöhe“ zum fröhlichen Musizieren und Beisammensein. Zum Musikantenstammtisch sind alle eingeladen\, die gerne handgemachte Musik spielen. Freunde und Gäste sind ebenfalls herzlich willkommen. \nRückfragen an: Peter Dummert 0911-736985
URL:https://www.volksmusik-mittelfranken.de/event/musikantenstammtisch-eigenes-heim-2/2029-05-06/
LOCATION:Gaststätte Wilhelmshöhe\, Wilhelmstr. 21\, Fürth\, 90766
CATEGORIES:Musikantenstammtisch
END:VEVENT
BEGIN:VEVENT
DTSTART;TZID=Europe/Berlin:20290603T153000
DTEND;TZID=Europe/Berlin:20290603T170000
DTSTAMP:20260420T170744
CREATED:20221206T224204Z
LAST-MODIFIED:20251123T195812Z
UID:10001198-1875195000-1875200400@www.volksmusik-mittelfranken.de
SUMMARY:Musikantenstammtisch "Eigenes Heim"
DESCRIPTION:Der Musikantenstammtisch „Eigenes Heim“ trifft sich jeden 1. Sonntag im Monat in der Gaststätte „Wilhelmshöhe“ zum fröhlichen Musizieren und Beisammensein. Zum Musikantenstammtisch sind alle eingeladen\, die gerne handgemachte Musik spielen. Freunde und Gäste sind ebenfalls herzlich willkommen. \nRückfragen an: Peter Dummert 0911-736985
URL:https://www.volksmusik-mittelfranken.de/event/musikantenstammtisch-eigenes-heim-2/2029-06-03/
LOCATION:Gaststätte Wilhelmshöhe\, Wilhelmstr. 21\, Fürth\, 90766
CATEGORIES:Musikantenstammtisch
END:VEVENT
BEGIN:VEVENT
DTSTART;TZID=Europe/Berlin:20290701T153000
DTEND;TZID=Europe/Berlin:20290701T170000
DTSTAMP:20260420T170744
CREATED:20221206T224204Z
LAST-MODIFIED:20251123T195812Z
UID:10001199-1877614200-1877619600@www.volksmusik-mittelfranken.de
SUMMARY:Musikantenstammtisch "Eigenes Heim"
DESCRIPTION:Der Musikantenstammtisch „Eigenes Heim“ trifft sich jeden 1. Sonntag im Monat in der Gaststätte „Wilhelmshöhe“ zum fröhlichen Musizieren und Beisammensein. Zum Musikantenstammtisch sind alle eingeladen\, die gerne handgemachte Musik spielen. Freunde und Gäste sind ebenfalls herzlich willkommen. \nRückfragen an: Peter Dummert 0911-736985
URL:https://www.volksmusik-mittelfranken.de/event/musikantenstammtisch-eigenes-heim-2/2029-07-01/
LOCATION:Gaststätte Wilhelmshöhe\, Wilhelmstr. 21\, Fürth\, 90766
CATEGORIES:Musikantenstammtisch
END:VEVENT
BEGIN:VEVENT
DTSTART;TZID=Europe/Berlin:20290805T153000
DTEND;TZID=Europe/Berlin:20290805T170000
DTSTAMP:20260420T170744
CREATED:20221206T224204Z
LAST-MODIFIED:20251123T195812Z
UID:10001200-1880638200-1880643600@www.volksmusik-mittelfranken.de
SUMMARY:Musikantenstammtisch "Eigenes Heim"
DESCRIPTION:Der Musikantenstammtisch „Eigenes Heim“ trifft sich jeden 1. Sonntag im Monat in der Gaststätte „Wilhelmshöhe“ zum fröhlichen Musizieren und Beisammensein. Zum Musikantenstammtisch sind alle eingeladen\, die gerne handgemachte Musik spielen. Freunde und Gäste sind ebenfalls herzlich willkommen. \nRückfragen an: Peter Dummert 0911-736985
URL:https://www.volksmusik-mittelfranken.de/event/musikantenstammtisch-eigenes-heim-2/2029-08-05/
LOCATION:Gaststätte Wilhelmshöhe\, Wilhelmstr. 21\, Fürth\, 90766
CATEGORIES:Musikantenstammtisch
END:VEVENT
BEGIN:VEVENT
DTSTART;TZID=Europe/Berlin:20290902T153000
DTEND;TZID=Europe/Berlin:20290902T170000
DTSTAMP:20260420T170744
CREATED:20221206T224204Z
LAST-MODIFIED:20251123T195812Z
UID:10001201-1883057400-1883062800@www.volksmusik-mittelfranken.de
SUMMARY:Musikantenstammtisch "Eigenes Heim"
DESCRIPTION:Der Musikantenstammtisch „Eigenes Heim“ trifft sich jeden 1. Sonntag im Monat in der Gaststätte „Wilhelmshöhe“ zum fröhlichen Musizieren und Beisammensein. Zum Musikantenstammtisch sind alle eingeladen\, die gerne handgemachte Musik spielen. Freunde und Gäste sind ebenfalls herzlich willkommen. \nRückfragen an: Peter Dummert 0911-736985
URL:https://www.volksmusik-mittelfranken.de/event/musikantenstammtisch-eigenes-heim-2/2029-09-02/
LOCATION:Gaststätte Wilhelmshöhe\, Wilhelmstr. 21\, Fürth\, 90766
CATEGORIES:Musikantenstammtisch
END:VEVENT
BEGIN:VEVENT
DTSTART;TZID=Europe/Berlin:20291007T153000
DTEND;TZID=Europe/Berlin:20291007T170000
DTSTAMP:20260420T170744
CREATED:20221206T224204Z
LAST-MODIFIED:20251123T195812Z
UID:10001202-1886081400-1886086800@www.volksmusik-mittelfranken.de
SUMMARY:Musikantenstammtisch "Eigenes Heim"
DESCRIPTION:Der Musikantenstammtisch „Eigenes Heim“ trifft sich jeden 1. Sonntag im Monat in der Gaststätte „Wilhelmshöhe“ zum fröhlichen Musizieren und Beisammensein. Zum Musikantenstammtisch sind alle eingeladen\, die gerne handgemachte Musik spielen. Freunde und Gäste sind ebenfalls herzlich willkommen. \nRückfragen an: Peter Dummert 0911-736985
URL:https://www.volksmusik-mittelfranken.de/event/musikantenstammtisch-eigenes-heim-2/2029-10-07/
LOCATION:Gaststätte Wilhelmshöhe\, Wilhelmstr. 21\, Fürth\, 90766
CATEGORIES:Musikantenstammtisch
END:VEVENT
BEGIN:VEVENT
DTSTART;TZID=Europe/Berlin:20291104T153000
DTEND;TZID=Europe/Berlin:20291104T170000
DTSTAMP:20260420T170744
CREATED:20221206T224204Z
LAST-MODIFIED:20251123T195812Z
UID:10001203-1888500600-1888506000@www.volksmusik-mittelfranken.de
SUMMARY:Musikantenstammtisch "Eigenes Heim"
DESCRIPTION:Der Musikantenstammtisch „Eigenes Heim“ trifft sich jeden 1. Sonntag im Monat in der Gaststätte „Wilhelmshöhe“ zum fröhlichen Musizieren und Beisammensein. Zum Musikantenstammtisch sind alle eingeladen\, die gerne handgemachte Musik spielen. Freunde und Gäste sind ebenfalls herzlich willkommen. \nRückfragen an: Peter Dummert 0911-736985
URL:https://www.volksmusik-mittelfranken.de/event/musikantenstammtisch-eigenes-heim-2/2029-11-04/
LOCATION:Gaststätte Wilhelmshöhe\, Wilhelmstr. 21\, Fürth\, 90766
CATEGORIES:Musikantenstammtisch
END:VEVENT
BEGIN:VEVENT
DTSTART;TZID=Europe/Berlin:20291202T153000
DTEND;TZID=Europe/Berlin:20291202T170000
DTSTAMP:20260420T170744
CREATED:20221206T224204Z
LAST-MODIFIED:20251123T195812Z
UID:10001204-1890919800-1890925200@www.volksmusik-mittelfranken.de
SUMMARY:Musikantenstammtisch "Eigenes Heim"
DESCRIPTION:Der Musikantenstammtisch „Eigenes Heim“ trifft sich jeden 1. Sonntag im Monat in der Gaststätte „Wilhelmshöhe“ zum fröhlichen Musizieren und Beisammensein. Zum Musikantenstammtisch sind alle eingeladen\, die gerne handgemachte Musik spielen. Freunde und Gäste sind ebenfalls herzlich willkommen. \nRückfragen an: Peter Dummert 0911-736985
URL:https://www.volksmusik-mittelfranken.de/event/musikantenstammtisch-eigenes-heim-2/2029-12-02/
LOCATION:Gaststätte Wilhelmshöhe\, Wilhelmstr. 21\, Fürth\, 90766
CATEGORIES:Musikantenstammtisch
END:VEVENT
BEGIN:VEVENT
DTSTART;TZID=Europe/Berlin:20300106T153000
DTEND;TZID=Europe/Berlin:20300106T170000
DTSTAMP:20260420T170744
CREATED:20221206T224204Z
LAST-MODIFIED:20251123T195812Z
UID:10001205-1893943800-1893949200@www.volksmusik-mittelfranken.de
SUMMARY:Musikantenstammtisch "Eigenes Heim"
DESCRIPTION:Der Musikantenstammtisch „Eigenes Heim“ trifft sich jeden 1. Sonntag im Monat in der Gaststätte „Wilhelmshöhe“ zum fröhlichen Musizieren und Beisammensein. Zum Musikantenstammtisch sind alle eingeladen\, die gerne handgemachte Musik spielen. Freunde und Gäste sind ebenfalls herzlich willkommen. \nRückfragen an: Peter Dummert 0911-736985
URL:https://www.volksmusik-mittelfranken.de/event/musikantenstammtisch-eigenes-heim-2/2030-01-06/
LOCATION:Gaststätte Wilhelmshöhe\, Wilhelmstr. 21\, Fürth\, 90766
CATEGORIES:Musikantenstammtisch
END:VEVENT
BEGIN:VEVENT
DTSTART;TZID=Europe/Berlin:20300203T153000
DTEND;TZID=Europe/Berlin:20300203T170000
DTSTAMP:20260420T170744
CREATED:20221206T224204Z
LAST-MODIFIED:20251123T195812Z
UID:10001206-1896363000-1896368400@www.volksmusik-mittelfranken.de
SUMMARY:Musikantenstammtisch "Eigenes Heim"
DESCRIPTION:Der Musikantenstammtisch „Eigenes Heim“ trifft sich jeden 1. Sonntag im Monat in der Gaststätte „Wilhelmshöhe“ zum fröhlichen Musizieren und Beisammensein. Zum Musikantenstammtisch sind alle eingeladen\, die gerne handgemachte Musik spielen. Freunde und Gäste sind ebenfalls herzlich willkommen. \nRückfragen an: Peter Dummert 0911-736985
URL:https://www.volksmusik-mittelfranken.de/event/musikantenstammtisch-eigenes-heim-2/2030-02-03/
LOCATION:Gaststätte Wilhelmshöhe\, Wilhelmstr. 21\, Fürth\, 90766
CATEGORIES:Musikantenstammtisch
END:VEVENT
BEGIN:VEVENT
DTSTART;TZID=Europe/Berlin:20300303T153000
DTEND;TZID=Europe/Berlin:20300303T170000
DTSTAMP:20260420T170744
CREATED:20221206T224204Z
LAST-MODIFIED:20251123T195812Z
UID:10001207-1898782200-1898787600@www.volksmusik-mittelfranken.de
SUMMARY:Musikantenstammtisch "Eigenes Heim"
DESCRIPTION:Der Musikantenstammtisch „Eigenes Heim“ trifft sich jeden 1. Sonntag im Monat in der Gaststätte „Wilhelmshöhe“ zum fröhlichen Musizieren und Beisammensein. Zum Musikantenstammtisch sind alle eingeladen\, die gerne handgemachte Musik spielen. Freunde und Gäste sind ebenfalls herzlich willkommen. \nRückfragen an: Peter Dummert 0911-736985
URL:https://www.volksmusik-mittelfranken.de/event/musikantenstammtisch-eigenes-heim-2/2030-03-03/
LOCATION:Gaststätte Wilhelmshöhe\, Wilhelmstr. 21\, Fürth\, 90766
CATEGORIES:Musikantenstammtisch
END:VEVENT
BEGIN:VEVENT
DTSTART;TZID=Europe/Berlin:20300407T153000
DTEND;TZID=Europe/Berlin:20300407T170000
DTSTAMP:20260420T170744
CREATED:20221206T224204Z
LAST-MODIFIED:20251123T195812Z
UID:10001208-1901806200-1901811600@www.volksmusik-mittelfranken.de
SUMMARY:Musikantenstammtisch "Eigenes Heim"
DESCRIPTION:Der Musikantenstammtisch „Eigenes Heim“ trifft sich jeden 1. Sonntag im Monat in der Gaststätte „Wilhelmshöhe“ zum fröhlichen Musizieren und Beisammensein. Zum Musikantenstammtisch sind alle eingeladen\, die gerne handgemachte Musik spielen. Freunde und Gäste sind ebenfalls herzlich willkommen. \nRückfragen an: Peter Dummert 0911-736985
URL:https://www.volksmusik-mittelfranken.de/event/musikantenstammtisch-eigenes-heim-2/2030-04-07/
LOCATION:Gaststätte Wilhelmshöhe\, Wilhelmstr. 21\, Fürth\, 90766
CATEGORIES:Musikantenstammtisch
END:VEVENT
BEGIN:VEVENT
DTSTART;TZID=Europe/Berlin:20300505T153000
DTEND;TZID=Europe/Berlin:20300505T170000
DTSTAMP:20260420T170744
CREATED:20221206T224204Z
LAST-MODIFIED:20251123T195812Z
UID:10001209-1904225400-1904230800@www.volksmusik-mittelfranken.de
SUMMARY:Musikantenstammtisch "Eigenes Heim"
DESCRIPTION:Der Musikantenstammtisch „Eigenes Heim“ trifft sich jeden 1. Sonntag im Monat in der Gaststätte „Wilhelmshöhe“ zum fröhlichen Musizieren und Beisammensein. Zum Musikantenstammtisch sind alle eingeladen\, die gerne handgemachte Musik spielen. Freunde und Gäste sind ebenfalls herzlich willkommen. \nRückfragen an: Peter Dummert 0911-736985
URL:https://www.volksmusik-mittelfranken.de/event/musikantenstammtisch-eigenes-heim-2/2030-05-05/
LOCATION:Gaststätte Wilhelmshöhe\, Wilhelmstr. 21\, Fürth\, 90766
CATEGORIES:Musikantenstammtisch
END:VEVENT
BEGIN:VEVENT
DTSTART;TZID=Europe/Berlin:20300602T153000
DTEND;TZID=Europe/Berlin:20300602T170000
DTSTAMP:20260420T170744
CREATED:20221206T224204Z
LAST-MODIFIED:20251123T195812Z
UID:10001210-1906644600-1906650000@www.volksmusik-mittelfranken.de
SUMMARY:Musikantenstammtisch "Eigenes Heim"
DESCRIPTION:Der Musikantenstammtisch „Eigenes Heim“ trifft sich jeden 1. Sonntag im Monat in der Gaststätte „Wilhelmshöhe“ zum fröhlichen Musizieren und Beisammensein. Zum Musikantenstammtisch sind alle eingeladen\, die gerne handgemachte Musik spielen. Freunde und Gäste sind ebenfalls herzlich willkommen. \nRückfragen an: Peter Dummert 0911-736985
URL:https://www.volksmusik-mittelfranken.de/event/musikantenstammtisch-eigenes-heim-2/2030-06-02/
LOCATION:Gaststätte Wilhelmshöhe\, Wilhelmstr. 21\, Fürth\, 90766
CATEGORIES:Musikantenstammtisch
END:VEVENT
END:VCALENDAR