BEGIN:VCALENDAR
VERSION:2.0
PRODID:-//Arbeitsgemeinschaft Fränkische Volksmusik Bezirk Mittelfranken - ECPv6.15.16//NONSGML v1.0//EN
CALSCALE:GREGORIAN
METHOD:PUBLISH
X-WR-CALNAME:Arbeitsgemeinschaft Fränkische Volksmusik Bezirk Mittelfranken
X-ORIGINAL-URL:https://www.volksmusik-mittelfranken.de
X-WR-CALDESC:Veranstaltungen für Arbeitsgemeinschaft Fränkische Volksmusik Bezirk Mittelfranken
REFRESH-INTERVAL;VALUE=DURATION:PT1H
X-Robots-Tag:noindex
X-PUBLISHED-TTL:PT1H
BEGIN:VTIMEZONE
TZID:Europe/Berlin
BEGIN:DAYLIGHT
TZOFFSETFROM:+0100
TZOFFSETTO:+0200
TZNAME:CEST
DTSTART:20220327T010000
END:DAYLIGHT
BEGIN:STANDARD
TZOFFSETFROM:+0200
TZOFFSETTO:+0100
TZNAME:CET
DTSTART:20221030T010000
END:STANDARD
BEGIN:DAYLIGHT
TZOFFSETFROM:+0100
TZOFFSETTO:+0200
TZNAME:CEST
DTSTART:20230326T010000
END:DAYLIGHT
BEGIN:STANDARD
TZOFFSETFROM:+0200
TZOFFSETTO:+0100
TZNAME:CET
DTSTART:20231029T010000
END:STANDARD
BEGIN:DAYLIGHT
TZOFFSETFROM:+0100
TZOFFSETTO:+0200
TZNAME:CEST
DTSTART:20240331T010000
END:DAYLIGHT
BEGIN:STANDARD
TZOFFSETFROM:+0200
TZOFFSETTO:+0100
TZNAME:CET
DTSTART:20241027T010000
END:STANDARD
END:VTIMEZONE
BEGIN:VEVENT
DTSTART;TZID=Europe/Berlin:20230411T190000
DTEND;TZID=Europe/Berlin:20230411T210000
DTSTAMP:20260420T134825
CREATED:20230311T205651Z
LAST-MODIFIED:20230311T212624Z
UID:10000069-1681239600-1681246800@www.volksmusik-mittelfranken.de
SUMMARY:Anfänger Tanzkurs "Kärwa Training"
DESCRIPTION:Kärwa Training! Ihr wollt die Basics lernen um auf fränkischen Kirchweihen mittanzen zu können? \nDas bietet dieser Kurs allen Anfängern in Nürnberg- Großreuth! Schwerpunkt werden Tanzgrundlagen und die fränkischen Rundtänze sein. Geeignet für absolute Beginner\, Ausprobierer und Neugierige auch aus anderen Tanzbereichen und VolkstänzerInnen\, die ihre Fähigkeiten wieder auffrischen und vertiefen möchten und einfach Lust haben zu Tanzen. \nTermine: 11.04\, 18.04\, 25.04\, 09.05 (jeweils Di)+ 26.07 (Mi) \nDie Kurstermine bauen aufeinander auf. Anmeldung nicht paarweise erforderlich\, Anmeldung an sich jedoch schon. \nWeitere Informationen: Karin Bümlein 0173-3824779\, fraenkischtanzen@web.de
URL:https://www.volksmusik-mittelfranken.de/event/anfaenger-tanzkurs-kaerwa-training/2023-04-11/2/
LOCATION:Gemeindehaus Großreuth\, Winterstraße 22\, Nürnberg\, 90431
CATEGORIES:Tanz
END:VEVENT
BEGIN:VEVENT
DTSTART;TZID=Europe/Berlin:20230411T080000
DTEND;TZID=Europe/Berlin:20230411T170000
DTSTAMP:20260420T134825
CREATED:20230311T205651Z
LAST-MODIFIED:20230311T212624Z
UID:10000136-1681200000-1681232400@www.volksmusik-mittelfranken.de
SUMMARY:Anfänger Tanzkurs "Kärwa Training"
DESCRIPTION:Kärwa Training! Ihr wollt die Basics lernen um auf fränkischen Kirchweihen mittanzen zu können? \nDas bietet dieser Kurs allen Anfängern in Nürnberg- Großreuth! Schwerpunkt werden Tanzgrundlagen und die fränkischen Rundtänze sein. Geeignet für absolute Beginner\, Ausprobierer und Neugierige auch aus anderen Tanzbereichen und VolkstänzerInnen\, die ihre Fähigkeiten wieder auffrischen und vertiefen möchten und einfach Lust haben zu Tanzen. \nTermine: 11.04\, 18.04\, 25.04\, 09.05 (jeweils Di)+ 26.07 (Mi) \nDie Kurstermine bauen aufeinander auf. Anmeldung nicht paarweise erforderlich\, Anmeldung an sich jedoch schon. \nWeitere Informationen: Karin Bümlein 0173-3824779\, fraenkischtanzen@web.de
URL:https://www.volksmusik-mittelfranken.de/event/anfaenger-tanzkurs-kaerwa-training/2023-04-11/1/
LOCATION:Gemeindehaus Großreuth\, Winterstraße 22\, Nürnberg\, 90431
CATEGORIES:Tanz
END:VEVENT
END:VCALENDAR