BEGIN:VCALENDAR
VERSION:2.0
PRODID:-//Arbeitsgemeinschaft Fränkische Volksmusik Bezirk Mittelfranken - ECPv6.15.16//NONSGML v1.0//EN
CALSCALE:GREGORIAN
METHOD:PUBLISH
X-WR-CALNAME:Arbeitsgemeinschaft Fränkische Volksmusik Bezirk Mittelfranken
X-ORIGINAL-URL:https://www.volksmusik-mittelfranken.de
X-WR-CALDESC:Veranstaltungen für Arbeitsgemeinschaft Fränkische Volksmusik Bezirk Mittelfranken
REFRESH-INTERVAL;VALUE=DURATION:PT1H
X-Robots-Tag:noindex
X-PUBLISHED-TTL:PT1H
BEGIN:VTIMEZONE
TZID:Europe/Berlin
BEGIN:DAYLIGHT
TZOFFSETFROM:+0100
TZOFFSETTO:+0200
TZNAME:CEST
DTSTART:20230326T010000
END:DAYLIGHT
BEGIN:STANDARD
TZOFFSETFROM:+0200
TZOFFSETTO:+0100
TZNAME:CET
DTSTART:20231029T010000
END:STANDARD
BEGIN:DAYLIGHT
TZOFFSETFROM:+0100
TZOFFSETTO:+0200
TZNAME:CEST
DTSTART:20240331T010000
END:DAYLIGHT
BEGIN:STANDARD
TZOFFSETFROM:+0200
TZOFFSETTO:+0100
TZNAME:CET
DTSTART:20241027T010000
END:STANDARD
BEGIN:DAYLIGHT
TZOFFSETFROM:+0100
TZOFFSETTO:+0200
TZNAME:CEST
DTSTART:20250330T010000
END:DAYLIGHT
BEGIN:STANDARD
TZOFFSETFROM:+0200
TZOFFSETTO:+0100
TZNAME:CET
DTSTART:20251026T010000
END:STANDARD
BEGIN:DAYLIGHT
TZOFFSETFROM:+0100
TZOFFSETTO:+0200
TZNAME:CEST
DTSTART:20260329T010000
END:DAYLIGHT
BEGIN:STANDARD
TZOFFSETFROM:+0200
TZOFFSETTO:+0100
TZNAME:CET
DTSTART:20261025T010000
END:STANDARD
END:VTIMEZONE
BEGIN:VEVENT
DTSTART;TZID=Europe/Berlin:20251130T190000
DTEND;TZID=Europe/Berlin:20251130T190000
DTSTAMP:20260420T122654
CREATED:20251015T125033Z
LAST-MODIFIED:20251015T125033Z
UID:10001175-1764529200-1764529200@www.volksmusik-mittelfranken.de
SUMMARY:Adventskonzert
DESCRIPTION:Besinnliches und Heiteres zum Advent. Lieder\, Musik und Geschichten zur Vorweihnachtszeit. \nEs musiziert das Trio Califragilis: Rosemarie Seitz\, Franz Josef Schramm\, Steffi Zachmeier
URL:https://www.volksmusik-mittelfranken.de/event/adventskonzert-4/
LOCATION:Kulturscheune Knorr\, Mannhofer Str. 44\, Fürth\, 90765
CATEGORIES:Advents- / Weihnachts-Veranstaltung,Konzert
ORGANIZER;CN="Kulturscheune Knorr":MAILTO:info@knorr-mannhof.de
END:VEVENT
BEGIN:VEVENT
DTSTART;TZID=Europe/Berlin:20241201T190000
DTEND;TZID=Europe/Berlin:20241201T190000
DTSTAMP:20260420T122654
CREATED:20240218T225345Z
LAST-MODIFIED:20240218T225345Z
UID:10000737-1733079600-1733079600@www.volksmusik-mittelfranken.de
SUMMARY:Ach\, du fröhliche
DESCRIPTION:„Ach du fröhliche…“ – dieser Stoßseufzer entringt sich in der Vorweihnachtszeit so mancher gestressten Brust. So sehr man sich in diesen Tagen um die rechte besinnliche Stimmung bemüht\, man wird doch immer wieder von der Wirklichkeit eingeholt. Auch 2024 nimmt die Leyher Stubenmusik ihr Publikum mit auf eine unterhaltsame Reise von vorweihnachtlicher Besinnlichkeit bis hin zum alltäglichen Weihnachtswahnsinn. Die Leyher Stubenmusik\, das sind Astrid Adam mit ihrem halben Dutzend Flöten\, Maria Bauer am Hackbrett\, Katharina Schalanda an der Harfe und Werner Bauer als tragendes Kontrabassfundament. Mal klingt es melancholisch-verträumt\, dann wieder fränkisch-frech\, wenn sich das Quartett durch ein Repertoire von der Barockmusik bis in die Neuzeit spielt. Die Musik ergänzt so auf harmonische Weise die besinnlich bis skurrilen Texte rund um das Weihnachtsgeschehen\, denn Astrid Adam hat stets für jede Stimmung die passende Flöte parat. \nmit Astrid Adam\, Maria Bauer\, Katharina Schalanda und Werner Bauer
URL:https://www.volksmusik-mittelfranken.de/event/ach-du-froehliche/
LOCATION:Kulturscheune Knorr\, Mannhofer Str. 44\, Fürth\, 90765
CATEGORIES:Advents- / Weihnachts-Veranstaltung
ORGANIZER;CN="Kulturscheune Knorr":MAILTO:info@knorr-mannhof.de
END:VEVENT
BEGIN:VEVENT
DTSTART;TZID=Europe/Berlin:20240310T190000
DTEND;TZID=Europe/Berlin:20240310T190000
DTSTAMP:20260420T122654
CREATED:20240218T224151Z
LAST-MODIFIED:20240218T224151Z
UID:10000735-1710097200-1710097200@www.volksmusik-mittelfranken.de
SUMMARY:Musikkabarett „Mach’ ma weider - etz mäimer’s dou“
DESCRIPTION:Fünf goude Musikanten und ein launiger Geschichtenerzähler\, das ist die Drubbn der „Die Namenlosen“. Mit frecher\, freier aber auch hintersinniger\, handgemachter fränkischer Musik\, leicht verswingt umrahmen Sie die Geschicht`n vom und aus`n Leb`n – eigendlich än ganz`n Koffer voll.
URL:https://www.volksmusik-mittelfranken.de/event/musikkabarett-mach-ma-weider-etz-maeimers-dou/
LOCATION:Kulturscheune Knorr\, Mannhofer Str. 44\, Fürth\, 90765
CATEGORIES:Kabarett
ORGANIZER;CN="Kulturscheune Knorr":MAILTO:info@knorr-mannhof.de
END:VEVENT
END:VCALENDAR