BEGIN:VCALENDAR
VERSION:2.0
PRODID:-//Arbeitsgemeinschaft Fränkische Volksmusik Bezirk Mittelfranken - ECPv6.15.16//NONSGML v1.0//EN
CALSCALE:GREGORIAN
METHOD:PUBLISH
X-ORIGINAL-URL:https://www.volksmusik-mittelfranken.de
X-WR-CALDESC:Veranstaltungen für Arbeitsgemeinschaft Fränkische Volksmusik Bezirk Mittelfranken
REFRESH-INTERVAL;VALUE=DURATION:PT1H
X-Robots-Tag:noindex
X-PUBLISHED-TTL:PT1H
BEGIN:VTIMEZONE
TZID:Europe/Berlin
BEGIN:DAYLIGHT
TZOFFSETFROM:+0100
TZOFFSETTO:+0200
TZNAME:CEST
DTSTART:20240331T010000
END:DAYLIGHT
BEGIN:STANDARD
TZOFFSETFROM:+0200
TZOFFSETTO:+0100
TZNAME:CET
DTSTART:20241027T010000
END:STANDARD
BEGIN:DAYLIGHT
TZOFFSETFROM:+0100
TZOFFSETTO:+0200
TZNAME:CEST
DTSTART:20250330T010000
END:DAYLIGHT
BEGIN:STANDARD
TZOFFSETFROM:+0200
TZOFFSETTO:+0100
TZNAME:CET
DTSTART:20251026T010000
END:STANDARD
BEGIN:DAYLIGHT
TZOFFSETFROM:+0100
TZOFFSETTO:+0200
TZNAME:CEST
DTSTART:20260329T010000
END:DAYLIGHT
BEGIN:STANDARD
TZOFFSETFROM:+0200
TZOFFSETTO:+0100
TZNAME:CET
DTSTART:20261025T010000
END:STANDARD
END:VTIMEZONE
BEGIN:VEVENT
DTSTART;TZID=Europe/Berlin:20251128T200000
DTEND;TZID=Europe/Berlin:20251128T200000
DTSTAMP:20260420T153716
CREATED:20250216T120703Z
LAST-MODIFIED:20250216T120703Z
UID:10001077-1764360000-1764360000@www.volksmusik-mittelfranken.de
SUMMARY:Das Gegenteil von Rock'n'Roll
DESCRIPTION:Mit ihrer wilden Mischung aus virtuoser Volksmusik\, unbändigem Rock’n’Roll und entfesseltem Polka-Pop fackeln die Jungs von Gankino Circus ein musikalisches Feuerwerk ab – und zwar ohne Netz und doppeltem Boden!
URL:https://www.volksmusik-mittelfranken.de/event/das-gegenteil-von-rocknroll-4/
LOCATION:Landgasthof am Forst\, Wehlmäusel 7\, Feuchtwangen\, 91555\, Deutschland
CATEGORIES:Konzert
ORGANIZER;CN="Wehlm%C3%A4usler Forstkultur":MAILTO:info@amforst.com
END:VEVENT
END:VCALENDAR