BEGIN:VCALENDAR
VERSION:2.0
PRODID:-//Arbeitsgemeinschaft Fränkische Volksmusik Bezirk Mittelfranken - ECPv6.15.16//NONSGML v1.0//EN
CALSCALE:GREGORIAN
METHOD:PUBLISH
X-WR-CALNAME:Arbeitsgemeinschaft Fränkische Volksmusik Bezirk Mittelfranken
X-ORIGINAL-URL:https://www.volksmusik-mittelfranken.de
X-WR-CALDESC:Veranstaltungen für Arbeitsgemeinschaft Fränkische Volksmusik Bezirk Mittelfranken
REFRESH-INTERVAL;VALUE=DURATION:PT1H
X-Robots-Tag:noindex
X-PUBLISHED-TTL:PT1H
BEGIN:VTIMEZONE
TZID:Europe/Berlin
BEGIN:DAYLIGHT
TZOFFSETFROM:+0100
TZOFFSETTO:+0200
TZNAME:CEST
DTSTART:20230326T010000
END:DAYLIGHT
BEGIN:STANDARD
TZOFFSETFROM:+0200
TZOFFSETTO:+0100
TZNAME:CET
DTSTART:20231029T010000
END:STANDARD
BEGIN:DAYLIGHT
TZOFFSETFROM:+0100
TZOFFSETTO:+0200
TZNAME:CEST
DTSTART:20240331T010000
END:DAYLIGHT
BEGIN:STANDARD
TZOFFSETFROM:+0200
TZOFFSETTO:+0100
TZNAME:CET
DTSTART:20241027T010000
END:STANDARD
BEGIN:DAYLIGHT
TZOFFSETFROM:+0100
TZOFFSETTO:+0200
TZNAME:CEST
DTSTART:20250330T010000
END:DAYLIGHT
BEGIN:STANDARD
TZOFFSETFROM:+0200
TZOFFSETTO:+0100
TZNAME:CET
DTSTART:20251026T010000
END:STANDARD
END:VTIMEZONE
BEGIN:VEVENT
DTSTART;TZID=Europe/Berlin:20240901T140000
DTEND;TZID=Europe/Berlin:20240901T173000
DTSTAMP:20260421T120050
CREATED:20240828T212135Z
LAST-MODIFIED:20240829T083454Z
UID:10000144-1725199200-1725211800@www.volksmusik-mittelfranken.de
SUMMARY:Tag der Volksmusik
DESCRIPTION:In Uffenheim wird der Kirchweih-Sonntag mit einem Tag der Volksmusik gefeiert. \nDas Programm-pdf anzeigen: Programm-Flyer \nWeitere Veranstaltungsinformationen: Homepage Stadt Uffenheim
URL:https://www.volksmusik-mittelfranken.de/event/tag-der-volksmusik/
LOCATION:Uffenheim\, Innenstadt\, Marktplatz\, Uffenheim\, Bayern\, 97215\, Deutschland
CATEGORIES:Fest,Sonstige
END:VEVENT
END:VCALENDAR